BEGIN:VCALENDAR
VERSION:2.0
PRODID:-//Základní škola Šumperk, 8.května - ECPv6.15.11//NONSGML v1.0//EN
CALSCALE:GREGORIAN
METHOD:PUBLISH
X-ORIGINAL-URL:https://www.hluchak.cz
X-WR-CALDESC:Akce na Základní škola Šumperk, 8.května
REFRESH-INTERVAL;VALUE=DURATION:PT1H
X-Robots-Tag:noindex
X-PUBLISHED-TTL:PT1H
BEGIN:VTIMEZONE
TZID:Europe/Prague
BEGIN:DAYLIGHT
TZOFFSETFROM:+0100
TZOFFSETTO:+0200
TZNAME:CEST
DTSTART:20200329T010000
END:DAYLIGHT
BEGIN:STANDARD
TZOFFSETFROM:+0200
TZOFFSETTO:+0100
TZNAME:CET
DTSTART:20201025T010000
END:STANDARD
BEGIN:DAYLIGHT
TZOFFSETFROM:+0100
TZOFFSETTO:+0200
TZNAME:CEST
DTSTART:20210328T010000
END:DAYLIGHT
BEGIN:STANDARD
TZOFFSETFROM:+0200
TZOFFSETTO:+0100
TZNAME:CET
DTSTART:20211031T010000
END:STANDARD
BEGIN:DAYLIGHT
TZOFFSETFROM:+0100
TZOFFSETTO:+0200
TZNAME:CEST
DTSTART:20220327T010000
END:DAYLIGHT
BEGIN:STANDARD
TZOFFSETFROM:+0200
TZOFFSETTO:+0100
TZNAME:CET
DTSTART:20221030T010000
END:STANDARD
BEGIN:DAYLIGHT
TZOFFSETFROM:+0100
TZOFFSETTO:+0200
TZNAME:CEST
DTSTART:20230326T010000
END:DAYLIGHT
BEGIN:STANDARD
TZOFFSETFROM:+0200
TZOFFSETTO:+0100
TZNAME:CET
DTSTART:20231029T010000
END:STANDARD
END:VTIMEZONE
BEGIN:VEVENT
DTSTART;VALUE=DATE:20211223
DTEND;VALUE=DATE:20220103
DTSTAMP:20260422T124631
CREATED:20210914T125710Z
LAST-MODIFIED:20210914T125710Z
UID:18471-1640217600-1641167999@www.hluchak.cz
SUMMARY:Vánoční prázdniny
DESCRIPTION:23.12. 2021 – 2.1. 2022
URL:https://www.hluchak.cz/event/vanocni-prazdniny-4/
END:VEVENT
BEGIN:VEVENT
DTSTART;VALUE=DATE:20220103
DTEND;VALUE=DATE:20220108
DTSTAMP:20260422T124631
CREATED:20211014T084809Z
LAST-MODIFIED:20211014T084809Z
UID:18743-1641168000-1641599999@www.hluchak.cz
SUMMARY:Lyžařský výcvikový kurz\, 7. ročník
DESCRIPTION:Dolní Morava \nodpovídá: p. uč. Marošek
URL:https://www.hluchak.cz/event/lyzarsky-vycvikovy-kurz-7-rocnik/
END:VEVENT
BEGIN:VEVENT
DTSTART;TZID=Europe/Prague:20220113T114500
DTEND;TZID=Europe/Prague:20220113T123000
DTSTAMP:20260422T124631
CREATED:20220112T105258Z
LAST-MODIFIED:20220112T105258Z
UID:19484-1642074300-1642077000@www.hluchak.cz
SUMMARY:Olympiáda- Z\, 7. třídy
DESCRIPTION:školní kolo \nvýběr žáků 7. tříd \nodpovídá: pí uč. Rutarová \n5. hodina
URL:https://www.hluchak.cz/event/olympiada-z-7-tridy/
END:VEVENT
BEGIN:VEVENT
DTSTART;VALUE=DATE:20220117
DTEND;VALUE=DATE:20220118
DTSTAMP:20260422T124631
CREATED:20220117T140604Z
LAST-MODIFIED:20220117T140604Z
UID:19506-1642377600-1642463999@www.hluchak.cz
SUMMARY:Zahájení plavání\, 4. třídy
DESCRIPTION:Každé ponděli: \nod 25.4. do 27.6. 2022 \nčas: od 10.00 do 11.30 hod.
URL:https://www.hluchak.cz/event/zahajeni-plavani-4-tridy-2/
END:VEVENT
BEGIN:VEVENT
DTSTART;TZID=Europe/Prague:20220118T133000
DTEND;TZID=Europe/Prague:20220118T143000
DTSTAMP:20260422T124631
CREATED:20220117T133949Z
LAST-MODIFIED:20220117T133949Z
UID:19495-1642512600-1642516200@www.hluchak.cz
SUMMARY:ŠD: Pexesiáda\, 3. třídy
DESCRIPTION:13.30 – 14.30 hod.
URL:https://www.hluchak.cz/event/sd-pexesiada-3-tridy/
END:VEVENT
BEGIN:VEVENT
DTSTART;TZID=Europe/Prague:20220119T080000
DTEND;TZID=Europe/Prague:20220119T113000
DTSTAMP:20260422T124631
CREATED:20220111T085705Z
LAST-MODIFIED:20220111T085705Z
UID:19475-1642579200-1642591800@www.hluchak.cz
SUMMARY:Pohybové dopoledne\, 1.C
DESCRIPTION:… se zdravou svačinkou \nFitness Korso \ndoprovod: pí uč. Prachařová \n8.00 – 11.30
URL:https://www.hluchak.cz/event/pohybove-dopoledne-1-c/
END:VEVENT
BEGIN:VEVENT
DTSTART;TZID=Europe/Prague:20220119T123000
DTEND;TZID=Europe/Prague:20220119T133000
DTSTAMP:20260422T124631
CREATED:20220112T105046Z
LAST-MODIFIED:20220112T105046Z
UID:19482-1642595400-1642599000@www.hluchak.cz
SUMMARY:Olympiáda - Z\, 6. třídy
DESCRIPTION:pan uč. Marošek \nstředa 19.1.\, 6. hodina \nvýběr žáků
URL:https://www.hluchak.cz/event/olympiada-z-6-tridy/
END:VEVENT
BEGIN:VEVENT
DTSTART;TZID=Europe/Prague:20220120T090000
DTEND;TZID=Europe/Prague:20220120T103000
DTSTAMP:20260422T124631
CREATED:20220118T114853Z
LAST-MODIFIED:20220118T114853Z
UID:19544-1642669200-1642674600@www.hluchak.cz
SUMMARY:Návštěva divadla \,\, My dvě"\, 1.A
DESCRIPTION:\,\,Nils“ \nv 9 hodin \ncena 90\,- Kč \ndoprovod: pí uč. Plíhalová
URL:https://www.hluchak.cz/event/navsteva-divadla-my-dve-1-a/
END:VEVENT
BEGIN:VEVENT
DTSTART;TZID=Europe/Prague:20220121T090000
DTEND;TZID=Europe/Prague:20220121T103000
DTSTAMP:20260422T124631
CREATED:20220118T115007Z
LAST-MODIFIED:20220118T115007Z
UID:19546-1642755600-1642761000@www.hluchak.cz
SUMMARY:Návstěva divadla \,\,My dvě"\, 1.B
DESCRIPTION:\,\,Nils“ \nv 9 hodin \ncena 90\,- Kč \ndoprovod: pí uč. Laštuvičková
URL:https://www.hluchak.cz/event/navsteva-divadla-my-dve-1-b/
END:VEVENT
BEGIN:VEVENT
DTSTART;TZID=Europe/Prague:20220125T133000
DTEND;TZID=Europe/Prague:20220125T143000
DTSTAMP:20260422T124631
CREATED:20220117T134102Z
LAST-MODIFIED:20220117T134102Z
UID:19497-1643117400-1643121000@www.hluchak.cz
SUMMARY:ŠD: Pexesiáda\, 2. třídy
DESCRIPTION:13.30 – 14.30
URL:https://www.hluchak.cz/event/sd-pexesiada-2-tridy/
END:VEVENT
BEGIN:VEVENT
DTSTART;TZID=Europe/Prague:20220127T133000
DTEND;TZID=Europe/Prague:20220127T143000
DTSTAMP:20260422T124631
CREATED:20220117T134213Z
LAST-MODIFIED:20220117T134528Z
UID:19499-1643290200-1643293800@www.hluchak.cz
SUMMARY:ŠD: Pexesiáda\, 1. třídy
DESCRIPTION:13.30 – 14.30
URL:https://www.hluchak.cz/event/sd-pexesiada-1-tridy/
END:VEVENT
BEGIN:VEVENT
DTSTART;TZID=Europe/Prague:20220127T141500
DTEND;TZID=Europe/Prague:20220127T160000
DTSTAMP:20260422T124631
CREATED:20210914T124717Z
LAST-MODIFIED:20210914T124717Z
UID:18459-1643292900-1643299200@www.hluchak.cz
SUMMARY:3. pedagogická rada
DESCRIPTION:ve sborovně školy \npro všechny pedagogické pracovníky
URL:https://www.hluchak.cz/event/3-pedagogicka-rada-4/
END:VEVENT
BEGIN:VEVENT
DTSTART;VALUE=DATE:20220131
DTEND;VALUE=DATE:20220201
DTSTAMP:20260422T124631
CREATED:20220107T130556Z
LAST-MODIFIED:20220126T113016Z
UID:19467-1643587200-1643673599@www.hluchak.cz
SUMMARY:Olympiáda z dějepisu
DESCRIPTION:Pro výběr žáků 9. tříd \nv učebně dějepisu \n1.\, 2. hodina \nodpovídá: pí uč. Fišerová
URL:https://www.hluchak.cz/event/olympiada-z-dejepisu-2/
END:VEVENT
BEGIN:VEVENT
DTSTART;TZID=Europe/Prague:20220131T080000
DTEND;TZID=Europe/Prague:20220131T133000
DTSTAMP:20260422T124631
CREATED:20220110T140911Z
LAST-MODIFIED:20220126T071159Z
UID:19473-1643616000-1643635800@www.hluchak.cz
SUMMARY:Návštěva filmových představení: ZRUŠENO
DESCRIPTION:DO KINA V PONDĚLÍ 31.1. 2022 NEPŮJDEME Z DŮVODU ŠÍŘENÍ PANDEMIE. \nPOKUSÍME SE ZAJISTIT NÁHRADNÍ TERMÍN V TOMTO ŠKOLNÍM ROCE NA JAŘE. \n1. stupeň: \n\,\,Myši patří do nebe“ \nzačátek: v 8.00 hodin\, cena 70\,- Kč \nOdchod do školy\, vyučování podle rozvrhu. Výpisy vysvědčení žáci dostanou v poslední hodině. \n  \n2. stupeň: \nS. Spielberg: \,\,West Side Story“\, délka 156 min. \nzačátek: v 9.45 hod.\, cena 70\,- Kč \nUčit se bude 1. hodina\, v 9.10 hod. odchod od školy do kina s třídními učiteli. \nPo filmovém představení příchod do školy na poslední hodinu\, kdy budou třídnické hodiny\, ve kterých budou žáci dostávat výpisy vysvědčení. \nOdchod na oběd podle časů jako v pondělí.
URL:https://www.hluchak.cz/event/navsteva-filmovych-predstaveni-4/
END:VEVENT
BEGIN:VEVENT
DTSTART;TZID=Europe/Prague:20220131T080000
DTEND;TZID=Europe/Prague:20220131T170000
DTSTAMP:20260422T124631
CREATED:20220127T130249Z
LAST-MODIFIED:20220127T130249Z
UID:19647-1643616000-1643648400@www.hluchak.cz
SUMMARY:Konec 1. pololetí
DESCRIPTION:Třídní paní učitelky a páni učitelé ve svých hodinách rozdají žákům výpisy vysvědčení za 1. pololetí šk. roku.
URL:https://www.hluchak.cz/event/konec-1-pololeti/
END:VEVENT
END:VCALENDAR