BEGIN:VCALENDAR
VERSION:2.0
PRODID:-//Základní škola Šumperk, 8.května - ECPv6.15.11//NONSGML v1.0//EN
CALSCALE:GREGORIAN
METHOD:PUBLISH
X-ORIGINAL-URL:https://www.hluchak.cz
X-WR-CALDESC:Akce na Základní škola Šumperk, 8.května
REFRESH-INTERVAL;VALUE=DURATION:PT1H
X-Robots-Tag:noindex
X-PUBLISHED-TTL:PT1H
BEGIN:VTIMEZONE
TZID:Europe/Prague
BEGIN:DAYLIGHT
TZOFFSETFROM:+0100
TZOFFSETTO:+0200
TZNAME:CEST
DTSTART:20200329T010000
END:DAYLIGHT
BEGIN:STANDARD
TZOFFSETFROM:+0200
TZOFFSETTO:+0100
TZNAME:CET
DTSTART:20201025T010000
END:STANDARD
BEGIN:DAYLIGHT
TZOFFSETFROM:+0100
TZOFFSETTO:+0200
TZNAME:CEST
DTSTART:20210328T010000
END:DAYLIGHT
BEGIN:STANDARD
TZOFFSETFROM:+0200
TZOFFSETTO:+0100
TZNAME:CET
DTSTART:20211031T010000
END:STANDARD
BEGIN:DAYLIGHT
TZOFFSETFROM:+0100
TZOFFSETTO:+0200
TZNAME:CEST
DTSTART:20220327T010000
END:DAYLIGHT
BEGIN:STANDARD
TZOFFSETFROM:+0200
TZOFFSETTO:+0100
TZNAME:CET
DTSTART:20221030T010000
END:STANDARD
BEGIN:DAYLIGHT
TZOFFSETFROM:+0100
TZOFFSETTO:+0200
TZNAME:CEST
DTSTART:20230326T010000
END:DAYLIGHT
BEGIN:STANDARD
TZOFFSETFROM:+0200
TZOFFSETTO:+0100
TZNAME:CET
DTSTART:20231029T010000
END:STANDARD
END:VTIMEZONE
BEGIN:VEVENT
DTSTART;TZID=Europe/Prague:20211129T080000
DTEND;TZID=Europe/Prague:20211218T140000
DTSTAMP:20260422T141315
CREATED:20211202T090959Z
LAST-MODIFIED:20211202T090959Z
UID:19112-1638172800-1639836000@www.hluchak.cz
SUMMARY:Testy KALIBRO\, 6. - 8. ročník
DESCRIPTION:Postupně ve všech 6. – 8.  třídách proběhne testování z českého jazyka a matematiky. \nOdpovídá: vedení školy
URL:https://www.hluchak.cz/event/testy-kalibro-6-8-rocnik/
END:VEVENT
BEGIN:VEVENT
DTSTART;VALUE=DATE:20211207
DTEND;VALUE=DATE:20211208
DTSTAMP:20260422T141315
CREATED:20211129T072020Z
LAST-MODIFIED:20211129T072020Z
UID:19063-1638835200-1638921599@www.hluchak.cz
SUMMARY:Pythagoriáda
DESCRIPTION:okresní kolo \nPostoupili 2 žáci z 6. tříd. \nČasový termín bude upřesněn v pondělí 6. 12. \n 
URL:https://www.hluchak.cz/event/pythagoriada-5/
END:VEVENT
BEGIN:VEVENT
DTSTART;TZID=Europe/Prague:20211215T080000
DTEND;TZID=Europe/Prague:20211215T110000
DTSTAMP:20260422T141315
CREATED:20211213T090308Z
LAST-MODIFIED:20211213T090308Z
UID:19135-1639555200-1639566000@www.hluchak.cz
SUMMARY:Ekoprogram\, 5.A
DESCRIPTION:ve Vile Doris \nTéma: Na suchu \nDoprovod: pí uč. Nováková R.
URL:https://www.hluchak.cz/event/ekoprogram-5-a-5/
END:VEVENT
BEGIN:VEVENT
DTSTART;TZID=Europe/Prague:20211216T080000
DTEND;TZID=Europe/Prague:20211216T110000
DTSTAMP:20260422T141315
CREATED:20211213T090503Z
LAST-MODIFIED:20211213T090503Z
UID:19138-1639641600-1639652400@www.hluchak.cz
SUMMARY:Ekoprogram\, 5.B
DESCRIPTION:ve Vile Doris \nTéma: Na suchu \nDoprovod: pí uč. Donné \n1. – 3. hodina
URL:https://www.hluchak.cz/event/ekoprogram-5-b-3/
END:VEVENT
BEGIN:VEVENT
DTSTART;TZID=Europe/Prague:20211217T080000
DTEND;TZID=Europe/Prague:20211217T113000
DTSTAMP:20260422T141315
CREATED:20211213T090134Z
LAST-MODIFIED:20211213T090134Z
UID:19133-1639728000-1639740600@www.hluchak.cz
SUMMARY:Návštěva muzea
DESCRIPTION:Téma: \,\,Co šeptají andělé“ \n1.\, 2. \,3. hod. \nDoprovod: pí uč. Skývová \n 
URL:https://www.hluchak.cz/event/navsteva-muzea/
END:VEVENT
BEGIN:VEVENT
DTSTART;TZID=Europe/Prague:20211220T080000
DTEND;TZID=Europe/Prague:20211220T140000
DTSTAMP:20260422T141315
CREATED:20211214T114417Z
LAST-MODIFIED:20211214T114623Z
UID:19215-1639987200-1640008800@www.hluchak.cz
SUMMARY:Předvánoční týden\, pondělí
DESCRIPTION:hodina: na začátku se všichni žáci  testují ve třídách\n\n  \n\nstupeň: dle rozvrhu\nstupeň: výběr žáků 8. a 9. tříd – volejbal (po domluvě s paní učitelkou Rutarovou) od 2. hodiny\,  žáci 8. a 9. tříd zůstávající ve třídách budou spojeni\n\n 
URL:https://www.hluchak.cz/event/predvanocni-tyden-pondeli/
END:VEVENT
BEGIN:VEVENT
DTSTART;TZID=Europe/Prague:20211221T080000
DTEND;TZID=Europe/Prague:20211221T110000
DTSTAMP:20260422T141315
CREATED:20211215T101204Z
LAST-MODIFIED:20211215T101341Z
UID:19226-1640073600-1640084400@www.hluchak.cz
SUMMARY:Návštěva muzea\, 1.A
DESCRIPTION:Téma: Co šeptají andělé \nDoprovod: pí uč. Plíhalová \n1. – 3. hodina
URL:https://www.hluchak.cz/event/navsteva-muzea-1-a/
END:VEVENT
BEGIN:VEVENT
DTSTART;TZID=Europe/Prague:20211221T080000
DTEND;TZID=Europe/Prague:20211221T170000
DTSTAMP:20260422T141315
CREATED:20211214T114512Z
LAST-MODIFIED:20211214T114512Z
UID:19217-1640073600-1640106000@www.hluchak.cz
SUMMARY:Předvánoční týden\, úterý
DESCRIPTION:Všechny třídy dle rozvrhu
URL:https://www.hluchak.cz/event/predvanocni-tyden-utery/
END:VEVENT
BEGIN:VEVENT
DTSTART;TZID=Europe/Prague:20211222T080000
DTEND;TZID=Europe/Prague:20211222T140000
DTSTAMP:20260422T141315
CREATED:20211214T115900Z
LAST-MODIFIED:20211214T115900Z
UID:19219-1640160000-1640181600@www.hluchak.cz
SUMMARY:Předvánoční týden\, středa
DESCRIPTION:stupeň: vánoční besídky\, angličtiny budou\nstupeň: 1. – 4. hodina podle rozvrhu\, 5.\, 6. hod. – vánoční besídky ve třídách\, na oběd odchod jako při běžném rozvrhu\, odpolední vyučování odpadá
URL:https://www.hluchak.cz/event/predvanocni-tyden-streda/
END:VEVENT
BEGIN:VEVENT
DTSTART;TZID=Europe/Prague:20211222T100000
DTEND;TZID=Europe/Prague:20211222T103000
DTSTAMP:20260422T141315
CREATED:20211221T113141Z
LAST-MODIFIED:20211221T113219Z
UID:19262-1640167200-1640169000@www.hluchak.cz
SUMMARY:Středa\, zpívání na schodech a ve třídách
DESCRIPTION:Zpívání na schodech \nBUDE! \n….i když poněkud netradičně. \n Současná situace nedovolí\, aby se sešli téměř všichni žáci školy ke zpěvu koled na schodišti. \n Přesto se našla skupinka žákyň 9. tříd\, které si tuto tradici nerady nechají ujít.  \nVždyť přece\, vzpomínky zůstanou… \n Zítra\, ve středu 22.12. v 10.05 hodin\, se schodištěm ponesou nejprve fanfárové tóny trubky (v podání jednoho z našich žáků 8. třídy) a poté sbor žákyň 9. tříd zazpívá s klavírem pásmo koled a vánočních písní\, jak bylo zvykem v předchozích letech. \n Budete-li chtít\, otevřete dveře učeben\, přidejte se v jednotlivých třídách a zpívejte s námi pod dohledem paní učitelek a pánů učitelů. Změna oproti minulým rokům je ta\, že nebudete zpívat na schodech\, ale ve svých třídách. \n Zapojte se s námi do akce \,\,Celá škola zpívá společně koledy“. \nTěší se \nOndráčková Dagmar
URL:https://www.hluchak.cz/event/streda-zpivani-na-schodech/
END:VEVENT
BEGIN:VEVENT
DTSTART;VALUE=DATE:20211223
DTEND;VALUE=DATE:20220103
DTSTAMP:20260422T141315
CREATED:20210914T125710Z
LAST-MODIFIED:20210914T125710Z
UID:18471-1640217600-1641167999@www.hluchak.cz
SUMMARY:Vánoční prázdniny
DESCRIPTION:23.12. 2021 – 2.1. 2022
URL:https://www.hluchak.cz/event/vanocni-prazdniny-4/
END:VEVENT
END:VCALENDAR