BEGIN:VCALENDAR
VERSION:2.0
PRODID:-//Základní škola Šumperk, 8.května - ECPv6.15.11//NONSGML v1.0//EN
CALSCALE:GREGORIAN
METHOD:PUBLISH
X-ORIGINAL-URL:https://www.hluchak.cz
X-WR-CALDESC:Akce na Základní škola Šumperk, 8.května
REFRESH-INTERVAL;VALUE=DURATION:PT1H
X-Robots-Tag:noindex
X-PUBLISHED-TTL:PT1H
BEGIN:VTIMEZONE
TZID:Europe/Prague
BEGIN:DAYLIGHT
TZOFFSETFROM:+0100
TZOFFSETTO:+0200
TZNAME:CEST
DTSTART:20200329T010000
END:DAYLIGHT
BEGIN:STANDARD
TZOFFSETFROM:+0200
TZOFFSETTO:+0100
TZNAME:CET
DTSTART:20201025T010000
END:STANDARD
BEGIN:DAYLIGHT
TZOFFSETFROM:+0100
TZOFFSETTO:+0200
TZNAME:CEST
DTSTART:20210328T010000
END:DAYLIGHT
BEGIN:STANDARD
TZOFFSETFROM:+0200
TZOFFSETTO:+0100
TZNAME:CET
DTSTART:20211031T010000
END:STANDARD
BEGIN:DAYLIGHT
TZOFFSETFROM:+0100
TZOFFSETTO:+0200
TZNAME:CEST
DTSTART:20220327T010000
END:DAYLIGHT
BEGIN:STANDARD
TZOFFSETFROM:+0200
TZOFFSETTO:+0100
TZNAME:CET
DTSTART:20221030T010000
END:STANDARD
END:VTIMEZONE
BEGIN:VEVENT
DTSTART;TZID=Europe/Prague:20211102T080000
DTEND;TZID=Europe/Prague:20211102T103000
DTSTAMP:20260422T153144
CREATED:20211026T074730Z
LAST-MODIFIED:20211026T085221Z
UID:18856-1635840000-1635849000@www.hluchak.cz
SUMMARY:Pythagoriáda\, školní kolo
DESCRIPTION:Matematická soutěž žáků 6. – 9. tříd
URL:https://www.hluchak.cz/event/pythagoriada-4/
END:VEVENT
BEGIN:VEVENT
DTSTART;VALUE=DATE:20211108
DTEND;VALUE=DATE:20211112
DTSTAMP:20260422T153144
CREATED:20210915T103348Z
LAST-MODIFIED:20211112T073051Z
UID:18494-1636329600-1636675199@www.hluchak.cz
SUMMARY:Bobřík informatiky 4.\, 5. třídy
DESCRIPTION:Postupně v hodinách informatiíky po třídách
URL:https://www.hluchak.cz/event/bobrik-informatiky-4-5-tridy/
END:VEVENT
BEGIN:VEVENT
DTSTART;VALUE=DATE:20211108
DTEND;VALUE=DATE:20211112
DTSTAMP:20260422T153144
CREATED:20210915T103447Z
LAST-MODIFIED:20211112T073120Z
UID:18496-1636329600-1636675199@www.hluchak.cz
SUMMARY:Bobřík informatiky 6.\, 7. třídy
DESCRIPTION:Postupně v hodinách informatiíky po třídách
URL:https://www.hluchak.cz/event/bobrik-informatiky-6-7-tridy/
END:VEVENT
BEGIN:VEVENT
DTSTART;VALUE=DATE:20211108
DTEND;VALUE=DATE:20211113
DTSTAMP:20260422T153144
CREATED:20211026T085327Z
LAST-MODIFIED:20211026T085327Z
UID:18860-1636329600-1636761599@www.hluchak.cz
SUMMARY:Švagrov\, 2.A a 3.A
DESCRIPTION:SEV Švagrov \nTýdenní pobyt
URL:https://www.hluchak.cz/event/svagrov-2-a-a-3-a/
END:VEVENT
BEGIN:VEVENT
DTSTART;VALUE=DATE:20211109
DTEND;VALUE=DATE:20211110
DTSTAMP:20260422T153144
CREATED:20210924T123635Z
LAST-MODIFIED:20210924T123635Z
UID:18617-1636416000-1636502399@www.hluchak.cz
SUMMARY:Scholaris
DESCRIPTION:
URL:https://www.hluchak.cz/event/scholaris-2/
END:VEVENT
BEGIN:VEVENT
DTSTART;TZID=Europe/Prague:20211109T080000
DTEND;TZID=Europe/Prague:20211109T094000
DTSTAMP:20260422T153144
CREATED:20211020T084127Z
LAST-MODIFIED:20211020T084127Z
UID:18826-1636444800-1636450800@www.hluchak.cz
SUMMARY:Přednášky MěÚ OSPOD\, 8. ročník
DESCRIPTION:Téma: Mám 15 let\, co to pro mne znamená \n8.ABCD \n\na 2. hodina\, ve  třídách
URL:https://www.hluchak.cz/event/prednasky-meu-ospod-8-rocnik/
END:VEVENT
BEGIN:VEVENT
DTSTART;TZID=Europe/Prague:20211109T140000
DTEND;TZID=Europe/Prague:20211109T150000
DTSTAMP:20260422T153144
CREATED:20211115T133806Z
LAST-MODIFIED:20211115T133806Z
UID:18955-1636466400-1636470000@www.hluchak.cz
SUMMARY:ŠD_Planetárium
DESCRIPTION:Ve školní tělocvičně
URL:https://www.hluchak.cz/event/sd_planetarium/
END:VEVENT
BEGIN:VEVENT
DTSTART;VALUE=DATE:20211115
DTEND;VALUE=DATE:20211122
DTSTAMP:20260422T153144
CREATED:20210915T103539Z
LAST-MODIFIED:20210915T104220Z
UID:18498-1636934400-1637539199@www.hluchak.cz
SUMMARY:Bobřík informatiky 8.\, 9. třídy
DESCRIPTION:Postupně v hodinách informatiíky po třídách. \n15.\, 16.\, 18.\, 19. 11
URL:https://www.hluchak.cz/event/bobrik-informatiky-8-9-tridy/
END:VEVENT
BEGIN:VEVENT
DTSTART;VALUE=DATE:20211115
DTEND;VALUE=DATE:20211117
DTSTAMP:20260422T153144
CREATED:20211014T091512Z
LAST-MODIFIED:20211111T074801Z
UID:18755-1636934400-1637107199@www.hluchak.cz
SUMMARY:Mladoňov\, 5.A
DESCRIPTION:ÚEV\, s noclehem \nPodzim v přírodě
URL:https://www.hluchak.cz/event/mladonov-5-a-3/
END:VEVENT
BEGIN:VEVENT
DTSTART;TZID=Europe/Prague:20211116T124500
DTEND;TZID=Europe/Prague:20211116T160000
DTSTAMP:20260422T153144
CREATED:20210914T124620Z
LAST-MODIFIED:20211115T092231Z
UID:18457-1637066700-1637078400@www.hluchak.cz
SUMMARY:2. pedagogická rada
DESCRIPTION:1. stupeň: ve 12.45 hod. v hudebně školy \n2. stupeň: v 15.45 hod.  ve sborovně školy \npro všechny pedagogické pracovníky
URL:https://www.hluchak.cz/event/2-pedagogicka-rada-2/
END:VEVENT
BEGIN:VEVENT
DTSTART;TZID=Europe/Prague:20211116T163000
DTEND;TZID=Europe/Prague:20211116T183000
DTSTAMP:20260422T153144
CREATED:20210913T051650Z
LAST-MODIFIED:20211115T101446Z
UID:18424-1637080200-1637087400@www.hluchak.cz
SUMMARY:Konzultační den
DESCRIPTION:Pedagogičtí pracovníci ve třídách a kabinetech \n\n\n\n\n\n\n\n \n Konzultační   den:\n \n \n \n\n\n Pedagogičtí pracovníci\, kdo-kde:\n \n \n \n \n\n\n Třídní paní učitelky a páni učitelé budou v kmenových třídách\n \n \n \n \n\n\n \n \n \n \n \n\n\nDalší:\n \n \n \n \n\n\npí uč. Godalová\nve třídě 4.B\n \n \n \n\n\npí uč. Kösslerová\nve třídě 6.B\n \n \n \n\n\npí uč. Dorňáková\nv uč. Aj 1\n2. poschodí \n \n \n\n\np. uč. Ježek\nv učebně D\n3. poschodí\n \n \n\n\np. uč. Motl\nv učebně Inf.\n3. poschodí\n \n \n\n\npí uč. Nevrklová\nv kabinetu Aj\n2. poschodí \n \n \n\n\np. uč. Novák\nve sborovně\n2. poschodí \n \n \n\n\npí uč. Pavlíková\nv kabinetu D\n3. poschodí\n \n \n\n\npí uč. Pokorná\nv uč. Aj 2\n2. poschodí \n \n \n\n\npí uč. Rýznarová\nv uč. Aj 3\n1. poschodí\n \n \n\n\npí uč. Sembolová\nv kabinetu D\n3. poschodí\n \n \n\n\np. uč. Smolicha\nv učebně F\n3. poschodí\n \n \n\n\npí uč. Suchomelová\nve sborovně\n2. poschodí \n \n \n\n\np. uč. Václavík\nv učebně Vv\n3. poschodí\n \n \n\n\npí. uč. Rutarová\nv kabinetu Z\n3. poschodí\n \n \n\n\n \n \n \n \n \n\n\n \n \n \n \n 
URL:https://www.hluchak.cz/event/konzultacni-den-2/
END:VEVENT
BEGIN:VEVENT
DTSTART;VALUE=DATE:20211117
DTEND;VALUE=DATE:20211118
DTSTAMP:20260422T153144
CREATED:20210914T125301Z
LAST-MODIFIED:20210914T125301Z
UID:18467-1637107200-1637193599@www.hluchak.cz
SUMMARY:Státní svátek
DESCRIPTION:Den boje za svobodu a demokracii
URL:https://www.hluchak.cz/event/statni-svatek-7/
END:VEVENT
BEGIN:VEVENT
DTSTART;TZID=Europe/Prague:20211119T080000
DTEND;TZID=Europe/Prague:20211119T113000
DTSTAMP:20260422T153144
CREATED:20211118T092819Z
LAST-MODIFIED:20211118T092819Z
UID:18973-1637308800-1637321400@www.hluchak.cz
SUMMARY:Florbal dívky
DESCRIPTION:okrskové kolo \nu nás v tělocvičně
URL:https://www.hluchak.cz/event/florbal-divky/
END:VEVENT
BEGIN:VEVENT
DTSTART;TZID=Europe/Prague:20211124T080000
DTEND;TZID=Europe/Prague:20211124T113000
DTSTAMP:20260422T153144
CREATED:20211118T093648Z
LAST-MODIFIED:20211118T093648Z
UID:18975-1637740800-1637753400@www.hluchak.cz
SUMMARY:Florbal: mladší dívky
DESCRIPTION:okresní kolo \nu nás v tělocvičně
URL:https://www.hluchak.cz/event/florbal-mladsi-divky-2/
END:VEVENT
BEGIN:VEVENT
DTSTART;TZID=Europe/Prague:20211126T080000
DTEND;TZID=Europe/Prague:20211126T130000
DTSTAMP:20260422T153144
CREATED:20211118T093734Z
LAST-MODIFIED:20211118T093734Z
UID:18977-1637913600-1637931600@www.hluchak.cz
SUMMARY:Florbal: starší dívky
DESCRIPTION:okresní kolo
URL:https://www.hluchak.cz/event/florbal-starsi-divky-3/
END:VEVENT
BEGIN:VEVENT
DTSTART;TZID=Europe/Prague:20211129T080000
DTEND;TZID=Europe/Prague:20211218T140000
DTSTAMP:20260422T153144
CREATED:20211202T090959Z
LAST-MODIFIED:20211202T090959Z
UID:19112-1638172800-1639836000@www.hluchak.cz
SUMMARY:Testy KALIBRO\, 6. - 8. ročník
DESCRIPTION:Postupně ve všech 6. – 8.  třídách proběhne testování z českého jazyka a matematiky. \nOdpovídá: vedení školy
URL:https://www.hluchak.cz/event/testy-kalibro-6-8-rocnik/
END:VEVENT
END:VCALENDAR