BEGIN:VCALENDAR
VERSION:2.0
PRODID:-//Základní škola Šumperk, 8.května - ECPv6.15.11//NONSGML v1.0//EN
CALSCALE:GREGORIAN
METHOD:PUBLISH
X-WR-CALNAME:Základní škola Šumperk, 8.května
X-ORIGINAL-URL:https://www.hluchak.cz
X-WR-CALDESC:Akce na Základní škola Šumperk, 8.května
REFRESH-INTERVAL;VALUE=DURATION:PT1H
X-Robots-Tag:noindex
X-PUBLISHED-TTL:PT1H
BEGIN:VTIMEZONE
TZID:Europe/Prague
BEGIN:DAYLIGHT
TZOFFSETFROM:+0100
TZOFFSETTO:+0200
TZNAME:CEST
DTSTART:20250330T010000
END:DAYLIGHT
BEGIN:STANDARD
TZOFFSETFROM:+0200
TZOFFSETTO:+0100
TZNAME:CET
DTSTART:20251026T010000
END:STANDARD
BEGIN:DAYLIGHT
TZOFFSETFROM:+0100
TZOFFSETTO:+0200
TZNAME:CEST
DTSTART:20260329T010000
END:DAYLIGHT
BEGIN:STANDARD
TZOFFSETFROM:+0200
TZOFFSETTO:+0100
TZNAME:CET
DTSTART:20261025T010000
END:STANDARD
BEGIN:DAYLIGHT
TZOFFSETFROM:+0100
TZOFFSETTO:+0200
TZNAME:CEST
DTSTART:20270328T010000
END:DAYLIGHT
BEGIN:STANDARD
TZOFFSETFROM:+0200
TZOFFSETTO:+0100
TZNAME:CET
DTSTART:20271031T010000
END:STANDARD
END:VTIMEZONE
BEGIN:VEVENT
DTSTART;VALUE=DATE:20260418
DTEND;VALUE=DATE:20260425
DTSTAMP:20260420T035951
CREATED:20250923T143427Z
LAST-MODIFIED:20250923T143427Z
UID:37435-1776470400-1777075199@www.hluchak.cz
SUMMARY:Zájezd do Velké Británie
DESCRIPTION:Výběr žáků z 8. a 9. tříd \n 
URL:https://www.hluchak.cz/event/zajezd-do-velke-britanie/
END:VEVENT
BEGIN:VEVENT
DTSTART;TZID=Europe/Prague:20260420T080000
DTEND;TZID=Europe/Prague:20260420T103000
DTSTAMP:20260420T035951
CREATED:20260410T134153Z
LAST-MODIFIED:20260410T134153Z
UID:39706-1776672000-1776681000@www.hluchak.cz
SUMMARY:1.ABC\, 2.AB Dentální hygiena
DESCRIPTION:v družince – střídání po 30 min.
URL:https://www.hluchak.cz/event/1-abc-2-ab-dentalni-hygiena/
CATEGORIES:Akce
END:VEVENT
BEGIN:VEVENT
DTSTART;TZID=Europe/Prague:20260420T110000
DTEND;TZID=Europe/Prague:20260420T133000
DTSTAMP:20260420T035951
CREATED:20260115T111339Z
LAST-MODIFIED:20260115T111339Z
UID:38909-1776682800-1776691800@www.hluchak.cz
SUMMARY:HUSITÉ\, historické představení
DESCRIPTION:Pro žáky 4. – 7. tříd. \nPořádá agentura Pernštejni. \n4. hodina – 4. a 5. třídy \n5. hodina – 6. a 7. třídy \nvelká tělocvična \ncena: 60 Kč
URL:https://www.hluchak.cz/event/husite-historicke-predstaveni/
END:VEVENT
END:VCALENDAR