BEGIN:VCALENDAR
VERSION:2.0
PRODID:-//Základní škola Šumperk, 8.května - ECPv6.15.11//NONSGML v1.0//EN
CALSCALE:GREGORIAN
METHOD:PUBLISH
X-WR-CALNAME:Základní škola Šumperk, 8.května
X-ORIGINAL-URL:https://www.hluchak.cz
X-WR-CALDESC:Akce na Základní škola Šumperk, 8.května
REFRESH-INTERVAL;VALUE=DURATION:PT1H
X-Robots-Tag:noindex
X-PUBLISHED-TTL:PT1H
BEGIN:VTIMEZONE
TZID:Europe/Prague
BEGIN:DAYLIGHT
TZOFFSETFROM:+0100
TZOFFSETTO:+0200
TZNAME:CEST
DTSTART:20220327T010000
END:DAYLIGHT
BEGIN:STANDARD
TZOFFSETFROM:+0200
TZOFFSETTO:+0100
TZNAME:CET
DTSTART:20221030T010000
END:STANDARD
BEGIN:DAYLIGHT
TZOFFSETFROM:+0100
TZOFFSETTO:+0200
TZNAME:CEST
DTSTART:20230326T010000
END:DAYLIGHT
BEGIN:STANDARD
TZOFFSETFROM:+0200
TZOFFSETTO:+0100
TZNAME:CET
DTSTART:20231029T010000
END:STANDARD
BEGIN:DAYLIGHT
TZOFFSETFROM:+0100
TZOFFSETTO:+0200
TZNAME:CEST
DTSTART:20240331T010000
END:DAYLIGHT
BEGIN:STANDARD
TZOFFSETFROM:+0200
TZOFFSETTO:+0100
TZNAME:CET
DTSTART:20241027T010000
END:STANDARD
END:VTIMEZONE
BEGIN:VEVENT
DTSTART;VALUE=DATE:20230627
DTEND;VALUE=DATE:20230629
DTSTAMP:20260419T174857
CREATED:20230529T111602Z
LAST-MODIFIED:20230529T111602Z
UID:25421-1687824000-1687996799@www.hluchak.cz
SUMMARY:Výlet 9.B
DESCRIPTION:Česká Ves\, Jeseník \ndoprovod: paní učitelky Spillerová\, Pavlíková
URL:https://www.hluchak.cz/event/vylet-9-b-3/
END:VEVENT
BEGIN:VEVENT
DTSTART;VALUE=DATE:20230628
DTEND;VALUE=DATE:20230629
DTSTAMP:20260419T174857
CREATED:20230608T090623Z
LAST-MODIFIED:20230608T090623Z
UID:25628-1687910400-1687996799@www.hluchak.cz
SUMMARY:Historická a přírodovědná exkurze 6.A a 6.C
DESCRIPTION:Kroměříž \nDoprovod: pí uč. Dorňáková\, p. uč. Pavlík\, pí as. Zatloukalová \n 
URL:https://www.hluchak.cz/event/historicka-a-prirodovedna-exkurze-6-a-a-6-c/
END:VEVENT
BEGIN:VEVENT
DTSTART;VALUE=DATE:20230628
DTEND;VALUE=DATE:20230629
DTSTAMP:20260419T174857
CREATED:20230622T083355Z
LAST-MODIFIED:20230622T083355Z
UID:26117-1687910400-1687996799@www.hluchak.cz
SUMMARY:Sportovní den pro žáky 2. stupně
DESCRIPTION:Organizuje: p uč. Marošek\, Smolicha a Václavík. \nŽáci 6. – 9. tříd si vyberou sportovní disciplínu\, ve které budou soutěžit\, a zapíší se do tabulky. \nTabulky jsou v jednotlivých třídách.
URL:https://www.hluchak.cz/event/sportovni-den-pro-zaky-2-stupne/
END:VEVENT
END:VCALENDAR