BEGIN:VCALENDAR
VERSION:2.0
PRODID:-//Základní škola Šumperk, 8.května - ECPv6.15.11//NONSGML v1.0//EN
CALSCALE:GREGORIAN
METHOD:PUBLISH
X-WR-CALNAME:Základní škola Šumperk, 8.května
X-ORIGINAL-URL:https://www.hluchak.cz
X-WR-CALDESC:Akce na Základní škola Šumperk, 8.května
REFRESH-INTERVAL;VALUE=DURATION:PT1H
X-Robots-Tag:noindex
X-PUBLISHED-TTL:PT1H
BEGIN:VTIMEZONE
TZID:Europe/Prague
BEGIN:DAYLIGHT
TZOFFSETFROM:+0100
TZOFFSETTO:+0200
TZNAME:CEST
DTSTART:20220327T010000
END:DAYLIGHT
BEGIN:STANDARD
TZOFFSETFROM:+0200
TZOFFSETTO:+0100
TZNAME:CET
DTSTART:20221030T010000
END:STANDARD
BEGIN:DAYLIGHT
TZOFFSETFROM:+0100
TZOFFSETTO:+0200
TZNAME:CEST
DTSTART:20230326T010000
END:DAYLIGHT
BEGIN:STANDARD
TZOFFSETFROM:+0200
TZOFFSETTO:+0100
TZNAME:CET
DTSTART:20231029T010000
END:STANDARD
BEGIN:DAYLIGHT
TZOFFSETFROM:+0100
TZOFFSETTO:+0200
TZNAME:CEST
DTSTART:20240331T010000
END:DAYLIGHT
BEGIN:STANDARD
TZOFFSETFROM:+0200
TZOFFSETTO:+0100
TZNAME:CET
DTSTART:20241027T010000
END:STANDARD
END:VTIMEZONE
BEGIN:VEVENT
DTSTART;VALUE=DATE:20230612
DTEND;VALUE=DATE:20230617
DTSTAMP:20260419T192050
CREATED:20230310T092940Z
LAST-MODIFIED:20230310T092940Z
UID:24207-1686528000-1686959999@www.hluchak.cz
SUMMARY:Jazykový kurz pro žáky 5. a 6. tříd
DESCRIPTION:Severomoravská chata \n12. – 16. 6. 2023 \nDoprovod: vyučující cizí jazyky
URL:https://www.hluchak.cz/event/jazykovy-kurz-pro-zaky-5-a-6-trid/
END:VEVENT
BEGIN:VEVENT
DTSTART;VALUE=DATE:20230615
DTEND;VALUE=DATE:20230617
DTSTAMP:20260419T192050
CREATED:20230529T091125Z
LAST-MODIFIED:20230529T091125Z
UID:25416-1686787200-1686959999@www.hluchak.cz
SUMMARY:Výlet 8.D
DESCRIPTION:Litovel\, Mohelnice \nDoprovod: páni učitelé Marošek\, Ježek
URL:https://www.hluchak.cz/event/vylet-8-d/
END:VEVENT
BEGIN:VEVENT
DTSTART;TZID=Europe/Prague:20230616T083000
DTEND;TZID=Europe/Prague:20230616T103000
DTSTAMP:20260419T192050
CREATED:20221031T083506Z
LAST-MODIFIED:20230602T095930Z
UID:22762-1686904200-1686911400@www.hluchak.cz
SUMMARY:Vila Doris\, 3.A
DESCRIPTION:Výtvarná dílna – ruční papír
URL:https://www.hluchak.cz/event/vila-doris-3-a-6/
END:VEVENT
END:VCALENDAR