BEGIN:VCALENDAR
VERSION:2.0
PRODID:-//Základní škola Šumperk, 8.května - ECPv6.15.11//NONSGML v1.0//EN
CALSCALE:GREGORIAN
METHOD:PUBLISH
X-WR-CALNAME:Základní škola Šumperk, 8.května
X-ORIGINAL-URL:https://www.hluchak.cz
X-WR-CALDESC:Akce na Základní škola Šumperk, 8.května
REFRESH-INTERVAL;VALUE=DURATION:PT1H
X-Robots-Tag:noindex
X-PUBLISHED-TTL:PT1H
BEGIN:VTIMEZONE
TZID:Europe/Prague
BEGIN:DAYLIGHT
TZOFFSETFROM:+0100
TZOFFSETTO:+0200
TZNAME:CEST
DTSTART:20220327T010000
END:DAYLIGHT
BEGIN:STANDARD
TZOFFSETFROM:+0200
TZOFFSETTO:+0100
TZNAME:CET
DTSTART:20221030T010000
END:STANDARD
BEGIN:DAYLIGHT
TZOFFSETFROM:+0100
TZOFFSETTO:+0200
TZNAME:CEST
DTSTART:20230326T010000
END:DAYLIGHT
BEGIN:STANDARD
TZOFFSETFROM:+0200
TZOFFSETTO:+0100
TZNAME:CET
DTSTART:20231029T010000
END:STANDARD
BEGIN:DAYLIGHT
TZOFFSETFROM:+0100
TZOFFSETTO:+0200
TZNAME:CEST
DTSTART:20240331T010000
END:DAYLIGHT
BEGIN:STANDARD
TZOFFSETFROM:+0200
TZOFFSETTO:+0100
TZNAME:CET
DTSTART:20241027T010000
END:STANDARD
END:VTIMEZONE
BEGIN:VEVENT
DTSTART;VALUE=DATE:20230611
DTEND;VALUE=DATE:20230614
DTSTAMP:20260419T192049
CREATED:20230516T071217Z
LAST-MODIFIED:20230529T091239Z
UID:25334-1686441600-1686700799@www.hluchak.cz
SUMMARY:Výlet\, 8.C
DESCRIPTION:Orlické hory \nZajišťují: páni učitelé Ježek a Marošek
URL:https://www.hluchak.cz/event/vylet-8-c/
END:VEVENT
BEGIN:VEVENT
DTSTART;VALUE=DATE:20230612
DTEND;VALUE=DATE:20230617
DTSTAMP:20260419T192049
CREATED:20230310T092940Z
LAST-MODIFIED:20230310T092940Z
UID:24207-1686528000-1686959999@www.hluchak.cz
SUMMARY:Jazykový kurz pro žáky 5. a 6. tříd
DESCRIPTION:Severomoravská chata \n12. – 16. 6. 2023 \nDoprovod: vyučující cizí jazyky
URL:https://www.hluchak.cz/event/jazykovy-kurz-pro-zaky-5-a-6-trid/
END:VEVENT
BEGIN:VEVENT
DTSTART;VALUE=DATE:20230613
DTEND;VALUE=DATE:20230614
DTSTAMP:20260419T192049
CREATED:20230511T113748Z
LAST-MODIFIED:20230511T113748Z
UID:25154-1686614400-1686700799@www.hluchak.cz
SUMMARY:Výlet\, 2.ABC
DESCRIPTION:Branná
URL:https://www.hluchak.cz/event/vylet-2-abc/
END:VEVENT
BEGIN:VEVENT
DTSTART;TZID=Europe/Prague:20230613T081500
DTEND;TZID=Europe/Prague:20230613T100000
DTSTAMP:20260419T192049
CREATED:20221104T111049Z
LAST-MODIFIED:20230602T100018Z
UID:22931-1686644100-1686650400@www.hluchak.cz
SUMMARY:Vila Doris\, 4.C
DESCRIPTION:Výtvarný program: Ruční papír \n8:15
URL:https://www.hluchak.cz/event/vila-doris-4-c-6/
END:VEVENT
BEGIN:VEVENT
DTSTART;TZID=Europe/Prague:20230613T100000
DTEND;TZID=Europe/Prague:20230613T123000
DTSTAMP:20260419T192049
CREATED:20230602T100740Z
LAST-MODIFIED:20230602T100740Z
UID:25500-1686650400-1686659400@www.hluchak.cz
SUMMARY:Vila Doris\, 5.B
DESCRIPTION:Ruční papír
URL:https://www.hluchak.cz/event/vila-doris-5-b-2/
END:VEVENT
END:VCALENDAR