BEGIN:VCALENDAR
VERSION:2.0
PRODID:-//Základní škola Šumperk, 8.května - ECPv6.15.11//NONSGML v1.0//EN
CALSCALE:GREGORIAN
METHOD:PUBLISH
X-ORIGINAL-URL:https://www.hluchak.cz
X-WR-CALDESC:Akce na Základní škola Šumperk, 8.května
REFRESH-INTERVAL;VALUE=DURATION:PT1H
X-Robots-Tag:noindex
X-PUBLISHED-TTL:PT1H
BEGIN:VTIMEZONE
TZID:Europe/Prague
BEGIN:DAYLIGHT
TZOFFSETFROM:+0100
TZOFFSETTO:+0200
TZNAME:CEST
DTSTART:20220327T010000
END:DAYLIGHT
BEGIN:STANDARD
TZOFFSETFROM:+0200
TZOFFSETTO:+0100
TZNAME:CET
DTSTART:20221030T010000
END:STANDARD
BEGIN:DAYLIGHT
TZOFFSETFROM:+0100
TZOFFSETTO:+0200
TZNAME:CEST
DTSTART:20230326T010000
END:DAYLIGHT
BEGIN:STANDARD
TZOFFSETFROM:+0200
TZOFFSETTO:+0100
TZNAME:CET
DTSTART:20231029T010000
END:STANDARD
BEGIN:DAYLIGHT
TZOFFSETFROM:+0100
TZOFFSETTO:+0200
TZNAME:CEST
DTSTART:20240331T010000
END:DAYLIGHT
BEGIN:STANDARD
TZOFFSETFROM:+0200
TZOFFSETTO:+0100
TZNAME:CET
DTSTART:20241027T010000
END:STANDARD
END:VTIMEZONE
BEGIN:VEVENT
DTSTART;VALUE=DATE:20230530
DTEND;VALUE=DATE:20230531
DTSTAMP:20260419T192048
CREATED:20230419T110432Z
LAST-MODIFIED:20230419T110432Z
UID:24997-1685404800-1685491199@www.hluchak.cz
SUMMARY:Praha: vlastivědná exkurze\, 8.A
DESCRIPTION:Podle pokynů paní učitelky Kösslerové \nDoprovod: paní učitelka Kösslerová a paní učitelka Hulíková \n\n  \n\n\nCelodenní exkurze.
URL:https://www.hluchak.cz/event/praha-vlastivedna-exkurze-8-a/
END:VEVENT
BEGIN:VEVENT
DTSTART;VALUE=DATE:20230530
DTEND;VALUE=DATE:20230531
DTSTAMP:20260419T192048
CREATED:20230511T114019Z
LAST-MODIFIED:20230511T114019Z
UID:25164-1685404800-1685491199@www.hluchak.cz
SUMMARY:Výlet\, 4. ABC
DESCRIPTION:Černý Potok
URL:https://www.hluchak.cz/event/vylet-4-abc/
END:VEVENT
BEGIN:VEVENT
DTSTART;TZID=Europe/Prague:20230530T080000
DTEND;TZID=Europe/Prague:20230530T120000
DTSTAMP:20260419T192048
CREATED:20230418T061543Z
LAST-MODIFIED:20230418T061543Z
UID:24843-1685433600-1685448000@www.hluchak.cz
SUMMARY:Hasiči\, 1.A
DESCRIPTION:Návštěva hasičárny – exkurze
URL:https://www.hluchak.cz/event/hasici-1-a/
END:VEVENT
BEGIN:VEVENT
DTSTART;TZID=Europe/Prague:20230530T080000
DTEND;TZID=Europe/Prague:20230530T133000
DTSTAMP:20260419T192048
CREATED:20230523T074000Z
LAST-MODIFIED:20230523T074014Z
UID:25388-1685433600-1685453400@www.hluchak.cz
SUMMARY:Fotbal\, starší žáci
DESCRIPTION:okresní kolo \ndoprovod: p uč. Marošek
URL:https://www.hluchak.cz/event/fotbal-starsi-zaci-2/
END:VEVENT
BEGIN:VEVENT
DTSTART;TZID=Europe/Prague:20230530T100000
DTEND;TZID=Europe/Prague:20230530T104500
DTSTAMP:20260419T192048
CREATED:20230530T080718Z
LAST-MODIFIED:20230530T080739Z
UID:25430-1685440800-1685443500@www.hluchak.cz
SUMMARY:Test ČŠI InspIS DATA\, žáci 5. A
DESCRIPTION:2. část testů ČŠI \nOblast: Dovednosti usnanující učení \n3. hodina
URL:https://www.hluchak.cz/event/test-csi-inspis-data-zaci-5-a-2/
END:VEVENT
END:VCALENDAR