BEGIN:VCALENDAR
VERSION:2.0
PRODID:-//Základní škola Šumperk, 8.května - ECPv6.15.11//NONSGML v1.0//EN
CALSCALE:GREGORIAN
METHOD:PUBLISH
X-WR-CALNAME:Základní škola Šumperk, 8.května
X-ORIGINAL-URL:https://www.hluchak.cz
X-WR-CALDESC:Akce na Základní škola Šumperk, 8.května
REFRESH-INTERVAL;VALUE=DURATION:PT1H
X-Robots-Tag:noindex
X-PUBLISHED-TTL:PT1H
BEGIN:VTIMEZONE
TZID:Europe/Prague
BEGIN:DAYLIGHT
TZOFFSETFROM:+0100
TZOFFSETTO:+0200
TZNAME:CEST
DTSTART:20220327T010000
END:DAYLIGHT
BEGIN:STANDARD
TZOFFSETFROM:+0200
TZOFFSETTO:+0100
TZNAME:CET
DTSTART:20221030T010000
END:STANDARD
BEGIN:DAYLIGHT
TZOFFSETFROM:+0100
TZOFFSETTO:+0200
TZNAME:CEST
DTSTART:20230326T010000
END:DAYLIGHT
BEGIN:STANDARD
TZOFFSETFROM:+0200
TZOFFSETTO:+0100
TZNAME:CET
DTSTART:20231029T010000
END:STANDARD
BEGIN:DAYLIGHT
TZOFFSETFROM:+0100
TZOFFSETTO:+0200
TZNAME:CEST
DTSTART:20240331T010000
END:DAYLIGHT
BEGIN:STANDARD
TZOFFSETFROM:+0200
TZOFFSETTO:+0100
TZNAME:CET
DTSTART:20241027T010000
END:STANDARD
END:VTIMEZONE
BEGIN:VEVENT
DTSTART;VALUE=DATE:20230526
DTEND;VALUE=DATE:20230527
DTSTAMP:20260420T005443
CREATED:20230222T073938Z
LAST-MODIFIED:20230222T073938Z
UID:24103-1685059200-1685145599@www.hluchak.cz
SUMMARY:Osvětim\, dějepisná exkurze
DESCRIPTION:Pro žáky 9. tříd \nDoprovod: paní učitelky Fišerová a Spillerová
URL:https://www.hluchak.cz/event/osvetim-dejepisna-exkurze/
END:VEVENT
BEGIN:VEVENT
DTSTART;VALUE=DATE:20230526
DTEND;VALUE=DATE:20230527
DTSTAMP:20260420T005443
CREATED:20230522T081002Z
LAST-MODIFIED:20230522T081002Z
UID:25379-1685059200-1685145599@www.hluchak.cz
SUMMARY:Návštěva nemocnice\, 2.A
DESCRIPTION:Interna Zábřeh SRO\, soc. pobytová lůžka. \nDěti na návštěvě u babiček a dědečků. \nDoprovod. pí uč. Plíhalová
URL:https://www.hluchak.cz/event/navsteva-nemocnice-2-a/
END:VEVENT
BEGIN:VEVENT
DTSTART;TZID=Europe/Prague:20230526T100000
DTEND;TZID=Europe/Prague:20230526T114000
DTSTAMP:20260420T005443
CREATED:20230526T110716Z
LAST-MODIFIED:20230526T110716Z
UID:25407-1685095200-1685101200@www.hluchak.cz
SUMMARY:Test ČŠI InspIS DATA\, žáci 5. B
DESCRIPTION:Sledovaná oblast: Čtenářská gramotnost \nTest zadává: pan ředitel Křivohlávek \n 
URL:https://www.hluchak.cz/event/test-csi-inspis-data-zaci-5-b/
END:VEVENT
END:VCALENDAR