BEGIN:VCALENDAR
VERSION:2.0
PRODID:-//Základní škola Šumperk, 8.května - ECPv6.15.11//NONSGML v1.0//EN
CALSCALE:GREGORIAN
METHOD:PUBLISH
X-WR-CALNAME:Základní škola Šumperk, 8.května
X-ORIGINAL-URL:https://www.hluchak.cz
X-WR-CALDESC:Akce na Základní škola Šumperk, 8.května
REFRESH-INTERVAL;VALUE=DURATION:PT1H
X-Robots-Tag:noindex
X-PUBLISHED-TTL:PT1H
BEGIN:VTIMEZONE
TZID:Europe/Prague
BEGIN:DAYLIGHT
TZOFFSETFROM:+0100
TZOFFSETTO:+0200
TZNAME:CEST
DTSTART:20220327T010000
END:DAYLIGHT
BEGIN:STANDARD
TZOFFSETFROM:+0200
TZOFFSETTO:+0100
TZNAME:CET
DTSTART:20221030T010000
END:STANDARD
BEGIN:DAYLIGHT
TZOFFSETFROM:+0100
TZOFFSETTO:+0200
TZNAME:CEST
DTSTART:20230326T010000
END:DAYLIGHT
BEGIN:STANDARD
TZOFFSETFROM:+0200
TZOFFSETTO:+0100
TZNAME:CET
DTSTART:20231029T010000
END:STANDARD
BEGIN:DAYLIGHT
TZOFFSETFROM:+0100
TZOFFSETTO:+0200
TZNAME:CEST
DTSTART:20240331T010000
END:DAYLIGHT
BEGIN:STANDARD
TZOFFSETFROM:+0200
TZOFFSETTO:+0100
TZNAME:CET
DTSTART:20241027T010000
END:STANDARD
END:VTIMEZONE
BEGIN:VEVENT
DTSTART;VALUE=DATE:20230522
DTEND;VALUE=DATE:20230523
DTSTAMP:20260420T083317
CREATED:20230523T073816Z
LAST-MODIFIED:20230523T073858Z
UID:25386-1684713600-1684799999@www.hluchak.cz
SUMMARY:Fotbal\, starší žáci
DESCRIPTION:okrskové kolo \nžáci 8. a 9. tříd \ndoprovod: p uč. Marošek
URL:https://www.hluchak.cz/event/fotbal-starsi-zaci/
END:VEVENT
BEGIN:VEVENT
DTSTART;TZID=Europe/Prague:20230522T123000
DTEND;TZID=Europe/Prague:20230522T153000
DTSTAMP:20260420T083317
CREATED:20230420T122906Z
LAST-MODIFIED:20230517T055837Z
UID:25005-1684758600-1684769400@www.hluchak.cz
SUMMARY:ŠD: Dopravní hřiště
DESCRIPTION:Mohelnice \nZájezd žáků 1. tříd \n12:30 – 15:30 \nZ důvodu nepřízně počasí akce přeložena na pondělí 22.5.
URL:https://www.hluchak.cz/event/sd-dopravni-hriste-5/
END:VEVENT
END:VCALENDAR