BEGIN:VCALENDAR
VERSION:2.0
PRODID:-//Základní škola Šumperk, 8.května - ECPv6.15.11//NONSGML v1.0//EN
CALSCALE:GREGORIAN
METHOD:PUBLISH
X-WR-CALNAME:Základní škola Šumperk, 8.května
X-ORIGINAL-URL:https://www.hluchak.cz
X-WR-CALDESC:Akce na Základní škola Šumperk, 8.května
REFRESH-INTERVAL;VALUE=DURATION:PT1H
X-Robots-Tag:noindex
X-PUBLISHED-TTL:PT1H
BEGIN:VTIMEZONE
TZID:Europe/Prague
BEGIN:DAYLIGHT
TZOFFSETFROM:+0100
TZOFFSETTO:+0200
TZNAME:CEST
DTSTART:20220327T010000
END:DAYLIGHT
BEGIN:STANDARD
TZOFFSETFROM:+0200
TZOFFSETTO:+0100
TZNAME:CET
DTSTART:20221030T010000
END:STANDARD
BEGIN:DAYLIGHT
TZOFFSETFROM:+0100
TZOFFSETTO:+0200
TZNAME:CEST
DTSTART:20230326T010000
END:DAYLIGHT
BEGIN:STANDARD
TZOFFSETFROM:+0200
TZOFFSETTO:+0100
TZNAME:CET
DTSTART:20231029T010000
END:STANDARD
BEGIN:DAYLIGHT
TZOFFSETFROM:+0100
TZOFFSETTO:+0200
TZNAME:CEST
DTSTART:20240331T010000
END:DAYLIGHT
BEGIN:STANDARD
TZOFFSETFROM:+0200
TZOFFSETTO:+0100
TZNAME:CET
DTSTART:20241027T010000
END:STANDARD
END:VTIMEZONE
BEGIN:VEVENT
DTSTART;TZID=Europe/Prague:20230518T080000
DTEND;TZID=Europe/Prague:20230518T113000
DTSTAMP:20260420T181850
CREATED:20230316T084533Z
LAST-MODIFIED:20230518T073317Z
UID:24368-1684396800-1684409400@www.hluchak.cz
SUMMARY:Fotografování tříd - 1. termín
DESCRIPTION:Z důvodu nepřízně počasí bude změna termínu. \nNově:  pátek 2. 6. 2023 \nBude vytvořen nový rozpis \nDnes vyfoceny třídy: 1.B\, 2.A\, 2.B\, 5.A \nFotografie tříd velikosti 21×15 s nápisem  (40\,- Kč) \nPokud budete chtít skupinky\, doporučuji vybrat od dětí předem a předat na místě fotografce: \n1/ Malé skupinky\, foto 10×15 (podle počtu hlav:   25\,- Kč za jednoho) \n2/ Jednotlivci\, foto  10×15 po 3 ks  (60\,- Kč) \n3/ Jednotlivci\, foto 10×15 po 1 ks  (30\,- Kč) \n 
URL:https://www.hluchak.cz/event/fotografovani-trid-2/
END:VEVENT
BEGIN:VEVENT
DTSTART;TZID=Europe/Prague:20230518T103000
DTEND;TZID=Europe/Prague:20230518T113000
DTSTAMP:20260420T181850
CREATED:20230502T114228Z
LAST-MODIFIED:20230502T114228Z
UID:25053-1684405800-1684409400@www.hluchak.cz
SUMMARY:Návštěva ZUŠ\, 2. třídy
DESCRIPTION:Představení v 10:30 hod. \nHudební pohádka: Perníková chaloupka \ncena: 40\,- Kč
URL:https://www.hluchak.cz/event/navsteva-zus-2-tridy/
END:VEVENT
BEGIN:VEVENT
DTSTART;TZID=Europe/Prague:20230518T163000
DTEND;TZID=Europe/Prague:20230518T183000
DTSTAMP:20260420T181850
CREATED:20220912T061946Z
LAST-MODIFIED:20220912T061946Z
UID:22115-1684427400-1684434600@www.hluchak.cz
SUMMARY:Konzultační den
DESCRIPTION:čtvrtek \nPedagogiční pracovníci budou ve sborovnách a kabinetech. \n16.30 – 18.30
URL:https://www.hluchak.cz/event/konzultacni-den-13/
END:VEVENT
BEGIN:VEVENT
DTSTART;TZID=Europe/Prague:20230518T170000
DTEND;TZID=Europe/Prague:20230518T180000
DTSTAMP:20260420T181850
CREATED:20230502T114423Z
LAST-MODIFIED:20230502T122117Z
UID:25055-1684429200-1684432800@www.hluchak.cz
SUMMARY:Zastupitelstvo města-setkání s občany
DESCRIPTION:V jídelně školy \nSetkání zastupitelů s občany města. \nhttps://www.sumperk.cz/filemanager/pdf-viewer/turnJs/magazine/index.php?app=971&fileID=2837058#page/3
URL:https://www.hluchak.cz/event/zastupitelstvo-mesta-setkani-s-obcany/
END:VEVENT
END:VCALENDAR