BEGIN:VCALENDAR
VERSION:2.0
PRODID:-//Základní škola Šumperk, 8.května - ECPv6.15.11//NONSGML v1.0//EN
CALSCALE:GREGORIAN
METHOD:PUBLISH
X-WR-CALNAME:Základní škola Šumperk, 8.května
X-ORIGINAL-URL:https://www.hluchak.cz
X-WR-CALDESC:Akce na Základní škola Šumperk, 8.května
REFRESH-INTERVAL;VALUE=DURATION:PT1H
X-Robots-Tag:noindex
X-PUBLISHED-TTL:PT1H
BEGIN:VTIMEZONE
TZID:Europe/Prague
BEGIN:DAYLIGHT
TZOFFSETFROM:+0100
TZOFFSETTO:+0200
TZNAME:CEST
DTSTART:20220327T010000
END:DAYLIGHT
BEGIN:STANDARD
TZOFFSETFROM:+0200
TZOFFSETTO:+0100
TZNAME:CET
DTSTART:20221030T010000
END:STANDARD
BEGIN:DAYLIGHT
TZOFFSETFROM:+0100
TZOFFSETTO:+0200
TZNAME:CEST
DTSTART:20230326T010000
END:DAYLIGHT
BEGIN:STANDARD
TZOFFSETFROM:+0200
TZOFFSETTO:+0100
TZNAME:CET
DTSTART:20231029T010000
END:STANDARD
BEGIN:DAYLIGHT
TZOFFSETFROM:+0100
TZOFFSETTO:+0200
TZNAME:CEST
DTSTART:20240331T010000
END:DAYLIGHT
BEGIN:STANDARD
TZOFFSETFROM:+0200
TZOFFSETTO:+0100
TZNAME:CET
DTSTART:20241027T010000
END:STANDARD
END:VTIMEZONE
BEGIN:VEVENT
DTSTART;VALUE=DATE:20230509
DTEND;VALUE=DATE:20230513
DTSTAMP:20260421T061840
CREATED:20230322T074631Z
LAST-MODIFIED:20230417T092652Z
UID:24424-1683590400-1683935999@www.hluchak.cz
SUMMARY:Cyklo- kurz\, žáci 8. tříd
DESCRIPTION:Mladoňov \nPřihlášení žáci 9. a 8. tříd
URL:https://www.hluchak.cz/event/cyklo-kurz-zaci-8-trid/
END:VEVENT
BEGIN:VEVENT
DTSTART;TZID=Europe/Prague:20230512T080000
DTEND;TZID=Europe/Prague:20230512T120000
DTSTAMP:20260421T061840
CREATED:20230511T111756Z
LAST-MODIFIED:20230511T111756Z
UID:25155-1683878400-1683892800@www.hluchak.cz
SUMMARY:Soutěž Mladý zahrádkář
DESCRIPTION:
URL:https://www.hluchak.cz/event/soutez-mlady-zahradkar-2/
CATEGORIES:Akce
END:VEVENT
BEGIN:VEVENT
DTSTART;TZID=Europe/Prague:20230512T080000
DTEND;TZID=Europe/Prague:20230512T120000
DTSTAMP:20260421T061840
CREATED:20230511T113409Z
LAST-MODIFIED:20230511T113409Z
UID:25157-1683878400-1683892800@www.hluchak.cz
SUMMARY:Divadlo My dvě - 4.C
DESCRIPTION:
URL:https://www.hluchak.cz/event/divadlo-my-dve-4-c/
CATEGORIES:Akce
END:VEVENT
BEGIN:VEVENT
DTSTART;TZID=Europe/Prague:20230512T080000
DTEND;TZID=Europe/Prague:20230512T133000
DTSTAMP:20260421T061840
CREATED:20230504T063645Z
LAST-MODIFIED:20230504T063645Z
UID:25066-1683878400-1683898200@www.hluchak.cz
SUMMARY:Orientační běh - okolí školy
DESCRIPTION:Rozpis tříd bude upřesněn (porada). \n 
URL:https://www.hluchak.cz/event/orientacni-beh-okoli-skoly/
END:VEVENT
BEGIN:VEVENT
DTSTART;TZID=Europe/Prague:20230512T124500
DTEND;TZID=Europe/Prague:20230512T153000
DTSTAMP:20260421T061840
CREATED:20230420T122723Z
LAST-MODIFIED:20230420T122723Z
UID:25003-1683895500-1683905400@www.hluchak.cz
SUMMARY:ŠD: Výtvarná dílna
DESCRIPTION:SVČ: Komín \nPro žáky 3. tříd ze školní družiny. \n12:45 – 15:30 hodina
URL:https://www.hluchak.cz/event/sd-vytvarna-dilna-2/
END:VEVENT
END:VCALENDAR