BEGIN:VCALENDAR
VERSION:2.0
PRODID:-//Základní škola Šumperk, 8.května - ECPv6.15.11//NONSGML v1.0//EN
CALSCALE:GREGORIAN
METHOD:PUBLISH
X-ORIGINAL-URL:https://www.hluchak.cz
X-WR-CALDESC:Akce na Základní škola Šumperk, 8.května
REFRESH-INTERVAL;VALUE=DURATION:PT1H
X-Robots-Tag:noindex
X-PUBLISHED-TTL:PT1H
BEGIN:VTIMEZONE
TZID:Europe/Prague
BEGIN:DAYLIGHT
TZOFFSETFROM:+0100
TZOFFSETTO:+0200
TZNAME:CEST
DTSTART:20220327T010000
END:DAYLIGHT
BEGIN:STANDARD
TZOFFSETFROM:+0200
TZOFFSETTO:+0100
TZNAME:CET
DTSTART:20221030T010000
END:STANDARD
BEGIN:DAYLIGHT
TZOFFSETFROM:+0100
TZOFFSETTO:+0200
TZNAME:CEST
DTSTART:20230326T010000
END:DAYLIGHT
BEGIN:STANDARD
TZOFFSETFROM:+0200
TZOFFSETTO:+0100
TZNAME:CET
DTSTART:20231029T010000
END:STANDARD
BEGIN:DAYLIGHT
TZOFFSETFROM:+0100
TZOFFSETTO:+0200
TZNAME:CEST
DTSTART:20240331T010000
END:DAYLIGHT
BEGIN:STANDARD
TZOFFSETFROM:+0200
TZOFFSETTO:+0100
TZNAME:CET
DTSTART:20241027T010000
END:STANDARD
END:VTIMEZONE
BEGIN:VEVENT
DTSTART;VALUE=DATE:20230509
DTEND;VALUE=DATE:20230513
DTSTAMP:20260421T130739
CREATED:20230322T074631Z
LAST-MODIFIED:20230417T092652Z
UID:24424-1683590400-1683935999@www.hluchak.cz
SUMMARY:Cyklo- kurz\, žáci 8. tříd
DESCRIPTION:Mladoňov \nPřihlášení žáci 9. a 8. tříd
URL:https://www.hluchak.cz/event/cyklo-kurz-zaci-8-trid/
END:VEVENT
BEGIN:VEVENT
DTSTART;TZID=Europe/Prague:20230509T080000
DTEND;TZID=Europe/Prague:20230509T120000
DTSTAMP:20260421T130739
CREATED:20230418T061500Z
LAST-MODIFIED:20230418T061500Z
UID:24841-1683619200-1683633600@www.hluchak.cz
SUMMARY:Hasiči\, 1.B
DESCRIPTION:Návštěva hasičárny – exkurze
URL:https://www.hluchak.cz/event/hasici-1-b/
END:VEVENT
BEGIN:VEVENT
DTSTART;TZID=Europe/Prague:20230509T080000
DTEND;TZID=Europe/Prague:20230509T133000
DTSTAMP:20260421T130739
CREATED:20230411T072524Z
LAST-MODIFIED:20230417T105655Z
UID:24609-1683619200-1683639000@www.hluchak.cz
SUMMARY:Pohár Rozhlasu
DESCRIPTION:Výběr žáků 6. – 9. tříd
URL:https://www.hluchak.cz/event/pohar-rozhlasu-5/
END:VEVENT
BEGIN:VEVENT
DTSTART;TZID=Europe/Prague:20230509T083000
DTEND;TZID=Europe/Prague:20230509T100000
DTSTAMP:20260421T130739
CREATED:20221031T083246Z
LAST-MODIFIED:20221031T083246Z
UID:22758-1683621000-1683626400@www.hluchak.cz
SUMMARY:Vila Doris\, 3.C
DESCRIPTION:Téma: Přání mamince
URL:https://www.hluchak.cz/event/vila-doris-3-c-3/
END:VEVENT
BEGIN:VEVENT
DTSTART;TZID=Europe/Prague:20230509T100000
DTEND;TZID=Europe/Prague:20230509T120000
DTSTAMP:20260421T130739
CREATED:20221104T110817Z
LAST-MODIFIED:20221104T110817Z
UID:22927-1683626400-1683633600@www.hluchak.cz
SUMMARY:Vila Doris\, 4.B
DESCRIPTION:Výtvarný program: Srdíčko
URL:https://www.hluchak.cz/event/vila-doris-4-b-3/
END:VEVENT
END:VCALENDAR