BEGIN:VCALENDAR
VERSION:2.0
PRODID:-//Základní škola Šumperk, 8.května - ECPv6.15.11//NONSGML v1.0//EN
CALSCALE:GREGORIAN
METHOD:PUBLISH
X-WR-CALNAME:Základní škola Šumperk, 8.května
X-ORIGINAL-URL:https://www.hluchak.cz
X-WR-CALDESC:Akce na Základní škola Šumperk, 8.května
REFRESH-INTERVAL;VALUE=DURATION:PT1H
X-Robots-Tag:noindex
X-PUBLISHED-TTL:PT1H
BEGIN:VTIMEZONE
TZID:Europe/Prague
BEGIN:DAYLIGHT
TZOFFSETFROM:+0100
TZOFFSETTO:+0200
TZNAME:CEST
DTSTART:20220327T010000
END:DAYLIGHT
BEGIN:STANDARD
TZOFFSETFROM:+0200
TZOFFSETTO:+0100
TZNAME:CET
DTSTART:20221030T010000
END:STANDARD
BEGIN:DAYLIGHT
TZOFFSETFROM:+0100
TZOFFSETTO:+0200
TZNAME:CEST
DTSTART:20230326T010000
END:DAYLIGHT
BEGIN:STANDARD
TZOFFSETFROM:+0200
TZOFFSETTO:+0100
TZNAME:CET
DTSTART:20231029T010000
END:STANDARD
BEGIN:DAYLIGHT
TZOFFSETFROM:+0100
TZOFFSETTO:+0200
TZNAME:CEST
DTSTART:20240331T010000
END:DAYLIGHT
BEGIN:STANDARD
TZOFFSETFROM:+0200
TZOFFSETTO:+0100
TZNAME:CET
DTSTART:20241027T010000
END:STANDARD
END:VTIMEZONE
BEGIN:VEVENT
DTSTART;VALUE=DATE:20230504
DTEND;VALUE=DATE:20230505
DTSTAMP:20260421T195929
CREATED:20230418T061252Z
LAST-MODIFIED:20230418T061252Z
UID:24837-1683158400-1683244799@www.hluchak.cz
SUMMARY:Ruměnice\, 1.C
DESCRIPTION:9 – 11 hodin \nV lesní školce \nEkoprogram pro žáčky 1. třídy
URL:https://www.hluchak.cz/event/rumenice-1-c/
END:VEVENT
BEGIN:VEVENT
DTSTART;TZID=Europe/Prague:20230504T080000
DTEND;TZID=Europe/Prague:20230504T093000
DTSTAMP:20260421T195929
CREATED:20230413T073611Z
LAST-MODIFIED:20230413T074046Z
UID:24660-1683187200-1683192600@www.hluchak.cz
SUMMARY:Legiovlak 8.C
DESCRIPTION:Sraz na vlakovém nádraží v Šumperku před 8. hodinou \nhttps://www.kudyznudy.cz/akce/legiovlak-2015 \nLegiovlak se skládá z 14 zrekonstruovaných vagonů\, které vám představí život a boj legionářů na Transsibiřské magistrále během první světové války. Těmito vlaky se desetitisíce čs. legionářů přepravily v letech 1918–1920 napříč Ruskem po Transsibiřské magistrále
URL:https://www.hluchak.cz/event/legiovlak-8-c/
END:VEVENT
BEGIN:VEVENT
DTSTART;TZID=Europe/Prague:20230504T080000
DTEND;TZID=Europe/Prague:20230504T110000
DTSTAMP:20260421T195929
CREATED:20230418T061953Z
LAST-MODIFIED:20230421T120346Z
UID:24847-1683187200-1683198000@www.hluchak.cz
SUMMARY:Knihovna\, 1.A
DESCRIPTION:Téma: Duhové pohádky
URL:https://www.hluchak.cz/event/knihovna-1-a-2/
END:VEVENT
END:VCALENDAR