BEGIN:VCALENDAR
VERSION:2.0
PRODID:-//Základní škola Šumperk, 8.května - ECPv6.15.11//NONSGML v1.0//EN
CALSCALE:GREGORIAN
METHOD:PUBLISH
X-ORIGINAL-URL:https://www.hluchak.cz
X-WR-CALDESC:Akce na Základní škola Šumperk, 8.května
REFRESH-INTERVAL;VALUE=DURATION:PT1H
X-Robots-Tag:noindex
X-PUBLISHED-TTL:PT1H
BEGIN:VTIMEZONE
TZID:Europe/Prague
BEGIN:DAYLIGHT
TZOFFSETFROM:+0100
TZOFFSETTO:+0200
TZNAME:CEST
DTSTART:20220327T010000
END:DAYLIGHT
BEGIN:STANDARD
TZOFFSETFROM:+0200
TZOFFSETTO:+0100
TZNAME:CET
DTSTART:20221030T010000
END:STANDARD
BEGIN:DAYLIGHT
TZOFFSETFROM:+0100
TZOFFSETTO:+0200
TZNAME:CEST
DTSTART:20230326T010000
END:DAYLIGHT
BEGIN:STANDARD
TZOFFSETFROM:+0200
TZOFFSETTO:+0100
TZNAME:CET
DTSTART:20231029T010000
END:STANDARD
BEGIN:DAYLIGHT
TZOFFSETFROM:+0100
TZOFFSETTO:+0200
TZNAME:CEST
DTSTART:20240331T010000
END:DAYLIGHT
BEGIN:STANDARD
TZOFFSETFROM:+0200
TZOFFSETTO:+0100
TZNAME:CET
DTSTART:20241027T010000
END:STANDARD
END:VTIMEZONE
BEGIN:VEVENT
DTSTART;TZID=Europe/Prague:20230502T080000
DTEND;TZID=Europe/Prague:20230502T093000
DTSTAMP:20260421T223821
CREATED:20230413T073516Z
LAST-MODIFIED:20230413T073516Z
UID:24657-1683014400-1683019800@www.hluchak.cz
SUMMARY:Legiovlak\, 8.D
DESCRIPTION:Sraz na vlakovém nádraží v Šumperku před 8. hodinou \nhttps://www.kudyznudy.cz/akce/legiovlak-2015 \nLegiovlak se skládá z 14 zrekonstruovaných vagonů\, které vám představí život a boj legionářů na Transsibiřské magistrále během první světové války. Těmito vlaky se desetitisíce čs. legionářů přepravily v letech 1918–1920 napříč Ruskem po Transsibiřské magistrále
URL:https://www.hluchak.cz/event/legiovlak-8-d/
END:VEVENT
BEGIN:VEVENT
DTSTART;TZID=Europe/Prague:20230502T080000
DTEND;TZID=Europe/Prague:20230502T110000
DTSTAMP:20260421T223821
CREATED:20230418T062451Z
LAST-MODIFIED:20230421T120309Z
UID:24849-1683014400-1683025200@www.hluchak.cz
SUMMARY:Knihovna\, 1.C
DESCRIPTION:Téma: Duhové pohádky
URL:https://www.hluchak.cz/event/knihovna-1-c/
END:VEVENT
BEGIN:VEVENT
DTSTART;TZID=Europe/Prague:20230502T110000
DTEND;TZID=Europe/Prague:20230502T130000
DTSTAMP:20260421T223821
CREATED:20230414T082501Z
LAST-MODIFIED:20230414T082501Z
UID:24806-1683025200-1683032400@www.hluchak.cz
SUMMARY:Legiovlak\, 9.B
DESCRIPTION:https://www.kudyznudy.cz/akce/legiovlak-2015 \nLegiovlak se skládá z 14 zrekonstruovaných vagonů\, které vám představí život a boj legionářů na Transsibiřské magistrále během první světové války. Těmito vlaky se desetitisíce čs. legionářů přepravily v letech 1918–1920 napříč Ruskem po Transsibiřské magistrále \n11:00 – 13:20 \nDoprovod: pí uč. Pavlíková
URL:https://www.hluchak.cz/event/legiovlak-9-b/
END:VEVENT
END:VCALENDAR