BEGIN:VCALENDAR
VERSION:2.0
PRODID:-//Základní škola Šumperk, 8.května - ECPv6.15.11//NONSGML v1.0//EN
CALSCALE:GREGORIAN
METHOD:PUBLISH
X-ORIGINAL-URL:https://www.hluchak.cz
X-WR-CALDESC:Akce na Základní škola Šumperk, 8.května
REFRESH-INTERVAL;VALUE=DURATION:PT1H
X-Robots-Tag:noindex
X-PUBLISHED-TTL:PT1H
BEGIN:VTIMEZONE
TZID:Europe/Prague
BEGIN:DAYLIGHT
TZOFFSETFROM:+0100
TZOFFSETTO:+0200
TZNAME:CEST
DTSTART:20220327T010000
END:DAYLIGHT
BEGIN:STANDARD
TZOFFSETFROM:+0200
TZOFFSETTO:+0100
TZNAME:CET
DTSTART:20221030T010000
END:STANDARD
BEGIN:DAYLIGHT
TZOFFSETFROM:+0100
TZOFFSETTO:+0200
TZNAME:CEST
DTSTART:20230326T010000
END:DAYLIGHT
BEGIN:STANDARD
TZOFFSETFROM:+0200
TZOFFSETTO:+0100
TZNAME:CET
DTSTART:20231029T010000
END:STANDARD
BEGIN:DAYLIGHT
TZOFFSETFROM:+0100
TZOFFSETTO:+0200
TZNAME:CEST
DTSTART:20240331T010000
END:DAYLIGHT
BEGIN:STANDARD
TZOFFSETFROM:+0200
TZOFFSETTO:+0100
TZNAME:CET
DTSTART:20241027T010000
END:STANDARD
END:VTIMEZONE
BEGIN:VEVENT
DTSTART;VALUE=DATE:20230412
DTEND;VALUE=DATE:20230414
DTSTAMP:20260422T000746
CREATED:20230321T153417Z
LAST-MODIFIED:20230321T153417Z
UID:24408-1681257600-1681430399@www.hluchak.cz
SUMMARY:Ukliďme Česko
DESCRIPTION:Zapojme se do jarního úklidu probouzející se přírody – okolí školy. \n12.\, 13. dubna a nejbližší dny podle domluvených termínů \nOdpovídají: třídní pedagogové a vyučující pracovních činností a podobných předmětů
URL:https://www.hluchak.cz/event/uklidme-cesko-2/
END:VEVENT
BEGIN:VEVENT
DTSTART;TZID=Europe/Prague:20230412T080000
DTEND;TZID=Europe/Prague:20230412T100000
DTSTAMP:20260422T000746
CREATED:20230313T092820Z
LAST-MODIFIED:20230313T092820Z
UID:24284-1681286400-1681293600@www.hluchak.cz
SUMMARY:KPPŠ\, Poradna zdraví - beseda\, 6.C
DESCRIPTION:1.\, 2. hodina \ntéma: Kyberšikana \nve třídě
URL:https://www.hluchak.cz/event/kpps-poradna-zdravi-beseda-6-c/
END:VEVENT
BEGIN:VEVENT
DTSTART;TZID=Europe/Prague:20230412T100000
DTEND;TZID=Europe/Prague:20230412T113000
DTSTAMP:20260422T000746
CREATED:20230313T093153Z
LAST-MODIFIED:20230313T093153Z
UID:24286-1681293600-1681299000@www.hluchak.cz
SUMMARY:KPPŠ\, Poradna zdraví - beseda\, 5.A
DESCRIPTION:3.\, 4. hodina \ntéma: Vznik závislosti a její důsledky \nve třídě
URL:https://www.hluchak.cz/event/kpps-poradna-zdravi-beseda-5-a/
END:VEVENT
BEGIN:VEVENT
DTSTART;TZID=Europe/Prague:20230412T180000
DTEND;TZID=Europe/Prague:20230412T180000
DTSTAMP:20260422T000746
CREATED:20230403T055815Z
LAST-MODIFIED:20230403T055815Z
UID:24592-1681322400-1681322400@www.hluchak.cz
SUMMARY:Zájezd do Anglie\, informativní schůzka
DESCRIPTION:Informativní schůzka s rodiči žáků přihlášených do Anglie v termínu 24.9. – 30.9. 2023 \nV hudební síni školy (3.poschodí) \nv 18 hodin
URL:https://www.hluchak.cz/event/zajezd-do-anglie-informativni-schuzka/
END:VEVENT
END:VCALENDAR