BEGIN:VCALENDAR
VERSION:2.0
PRODID:-//Základní škola Šumperk, 8.května - ECPv6.15.11//NONSGML v1.0//EN
CALSCALE:GREGORIAN
METHOD:PUBLISH
X-ORIGINAL-URL:https://www.hluchak.cz
X-WR-CALDESC:Akce na Základní škola Šumperk, 8.května
REFRESH-INTERVAL;VALUE=DURATION:PT1H
X-Robots-Tag:noindex
X-PUBLISHED-TTL:PT1H
BEGIN:VTIMEZONE
TZID:Europe/Prague
BEGIN:DAYLIGHT
TZOFFSETFROM:+0100
TZOFFSETTO:+0200
TZNAME:CEST
DTSTART:20220327T010000
END:DAYLIGHT
BEGIN:STANDARD
TZOFFSETFROM:+0200
TZOFFSETTO:+0100
TZNAME:CET
DTSTART:20221030T010000
END:STANDARD
BEGIN:DAYLIGHT
TZOFFSETFROM:+0100
TZOFFSETTO:+0200
TZNAME:CEST
DTSTART:20230326T010000
END:DAYLIGHT
BEGIN:STANDARD
TZOFFSETFROM:+0200
TZOFFSETTO:+0100
TZNAME:CET
DTSTART:20231029T010000
END:STANDARD
BEGIN:DAYLIGHT
TZOFFSETFROM:+0100
TZOFFSETTO:+0200
TZNAME:CEST
DTSTART:20240331T010000
END:DAYLIGHT
BEGIN:STANDARD
TZOFFSETFROM:+0200
TZOFFSETTO:+0100
TZNAME:CET
DTSTART:20241027T010000
END:STANDARD
END:VTIMEZONE
BEGIN:VEVENT
DTSTART;VALUE=DATE:20230328
DTEND;VALUE=DATE:20230329
DTSTAMP:20260421T225833
CREATED:20230321T155733Z
LAST-MODIFIED:20230321T155733Z
UID:24410-1679961600-1680047999@www.hluchak.cz
SUMMARY:Paní učitelky z 1. tříd v mateřské školce
DESCRIPTION:Odpolední návštěva  našich paní učitelek v MŠ na ulici Jeremenkova\, setkání s rodiči budoucích prvňáčků.
URL:https://www.hluchak.cz/event/pani-ucitelky-z-1-trid-v-materske-skolce/
END:VEVENT
BEGIN:VEVENT
DTSTART;TZID=Europe/Prague:20230328T080000
DTEND;TZID=Europe/Prague:20230328T100000
DTSTAMP:20260421T225833
CREATED:20230313T092501Z
LAST-MODIFIED:20230327T060118Z
UID:24280-1679990400-1679997600@www.hluchak.cz
SUMMARY:KPPŠ\, Poradna zdraví - beseda\, 7.C
DESCRIPTION:1.\, 2. hodina \ntéma: Poruchy příjmu potravin \nve třídě
URL:https://www.hluchak.cz/event/kpps-poradna-zdravi-beseda-7-a/
END:VEVENT
BEGIN:VEVENT
DTSTART;TZID=Europe/Prague:20230328T083000
DTEND;TZID=Europe/Prague:20230328T100000
DTSTAMP:20260421T225833
CREATED:20221031T083116Z
LAST-MODIFIED:20221031T083116Z
UID:22756-1679992200-1679997600@www.hluchak.cz
SUMMARY:Vila Doris\, 3.B
DESCRIPTION:Téma: Přání mamince
URL:https://www.hluchak.cz/event/vila-doris-3-b-7/
END:VEVENT
BEGIN:VEVENT
DTSTART;TZID=Europe/Prague:20230328T100000
DTEND;TZID=Europe/Prague:20230328T113000
DTSTAMP:20260421T225833
CREATED:20230313T092601Z
LAST-MODIFIED:20230313T092601Z
UID:24282-1679997600-1680003000@www.hluchak.cz
SUMMARY:KPPŠ\, Poradna zdraví - beseda\, 9.D
DESCRIPTION:3.\, 4. hodina \ntéma: Rizikové sexuální chování \nve třídě
URL:https://www.hluchak.cz/event/kpps-poradna-zdravi-beseda-9-d/
END:VEVENT
END:VCALENDAR