BEGIN:VCALENDAR
VERSION:2.0
PRODID:-//Základní škola Šumperk, 8.května - ECPv6.15.11//NONSGML v1.0//EN
CALSCALE:GREGORIAN
METHOD:PUBLISH
X-ORIGINAL-URL:https://www.hluchak.cz
X-WR-CALDESC:Akce na Základní škola Šumperk, 8.května
REFRESH-INTERVAL;VALUE=DURATION:PT1H
X-Robots-Tag:noindex
X-PUBLISHED-TTL:PT1H
BEGIN:VTIMEZONE
TZID:Europe/Prague
BEGIN:DAYLIGHT
TZOFFSETFROM:+0100
TZOFFSETTO:+0200
TZNAME:CEST
DTSTART:20220327T010000
END:DAYLIGHT
BEGIN:STANDARD
TZOFFSETFROM:+0200
TZOFFSETTO:+0100
TZNAME:CET
DTSTART:20221030T010000
END:STANDARD
BEGIN:DAYLIGHT
TZOFFSETFROM:+0100
TZOFFSETTO:+0200
TZNAME:CEST
DTSTART:20230326T010000
END:DAYLIGHT
BEGIN:STANDARD
TZOFFSETFROM:+0200
TZOFFSETTO:+0100
TZNAME:CET
DTSTART:20231029T010000
END:STANDARD
BEGIN:DAYLIGHT
TZOFFSETFROM:+0100
TZOFFSETTO:+0200
TZNAME:CEST
DTSTART:20240331T010000
END:DAYLIGHT
BEGIN:STANDARD
TZOFFSETFROM:+0200
TZOFFSETTO:+0100
TZNAME:CET
DTSTART:20241027T010000
END:STANDARD
END:VTIMEZONE
BEGIN:VEVENT
DTSTART;VALUE=DATE:20230327
DTEND;VALUE=DATE:20230328
DTSTAMP:20260421T225832
CREATED:20230214T113230Z
LAST-MODIFIED:20230214T113230Z
UID:24037-1679875200-1679961599@www.hluchak.cz
SUMMARY:Dějepisná olympiáda
DESCRIPTION:krajské kolo \nŠpaček Daniel
URL:https://www.hluchak.cz/event/dejepisna-olympiada-6/
END:VEVENT
BEGIN:VEVENT
DTSTART;TZID=Europe/Prague:20230327T080000
DTEND;TZID=Europe/Prague:20230327T100000
DTSTAMP:20260421T225832
CREATED:20230313T092151Z
LAST-MODIFIED:20230327T054714Z
UID:24276-1679904000-1679911200@www.hluchak.cz
SUMMARY:KPPŠ\, Poradna zdraví - beseda\, 7.A
DESCRIPTION:1.\, 2. hodina \ntéma: Poruchy příjmu potravin \nve třídě
URL:https://www.hluchak.cz/event/kpps-poradna-zdravi-beseda-7-c/
END:VEVENT
BEGIN:VEVENT
DTSTART;TZID=Europe/Prague:20230327T100000
DTEND;TZID=Europe/Prague:20230327T113000
DTSTAMP:20260421T225832
CREATED:20230313T092253Z
LAST-MODIFIED:20230313T092253Z
UID:24278-1679911200-1679916600@www.hluchak.cz
SUMMARY:KPPŠ\, Poradna zdraví - beseda\, 9.C
DESCRIPTION:3.\, 4. hodina \ntéma: Rizikové sexuální chování \nve třídě
URL:https://www.hluchak.cz/event/kpps-poradna-zdravi-beseda-9-c/
END:VEVENT
END:VCALENDAR