BEGIN:VCALENDAR
VERSION:2.0
PRODID:-//Základní škola Šumperk, 8.května - ECPv6.15.11//NONSGML v1.0//EN
CALSCALE:GREGORIAN
METHOD:PUBLISH
X-WR-CALNAME:Základní škola Šumperk, 8.května
X-ORIGINAL-URL:https://www.hluchak.cz
X-WR-CALDESC:Akce na Základní škola Šumperk, 8.května
REFRESH-INTERVAL;VALUE=DURATION:PT1H
X-Robots-Tag:noindex
X-PUBLISHED-TTL:PT1H
BEGIN:VTIMEZONE
TZID:Europe/Prague
BEGIN:DAYLIGHT
TZOFFSETFROM:+0100
TZOFFSETTO:+0200
TZNAME:CEST
DTSTART:20220327T010000
END:DAYLIGHT
BEGIN:STANDARD
TZOFFSETFROM:+0200
TZOFFSETTO:+0100
TZNAME:CET
DTSTART:20221030T010000
END:STANDARD
BEGIN:DAYLIGHT
TZOFFSETFROM:+0100
TZOFFSETTO:+0200
TZNAME:CEST
DTSTART:20230326T010000
END:DAYLIGHT
BEGIN:STANDARD
TZOFFSETFROM:+0200
TZOFFSETTO:+0100
TZNAME:CET
DTSTART:20231029T010000
END:STANDARD
BEGIN:DAYLIGHT
TZOFFSETFROM:+0100
TZOFFSETTO:+0200
TZNAME:CEST
DTSTART:20240331T010000
END:DAYLIGHT
BEGIN:STANDARD
TZOFFSETFROM:+0200
TZOFFSETTO:+0100
TZNAME:CET
DTSTART:20241027T010000
END:STANDARD
END:VTIMEZONE
BEGIN:VEVENT
DTSTART;TZID=Europe/Prague:20230322T073000
DTEND;TZID=Europe/Prague:20230322T133000
DTSTAMP:20260421T225729
CREATED:20230123T140231Z
LAST-MODIFIED:20230123T140231Z
UID:23848-1679470200-1679491800@www.hluchak.cz
SUMMARY:Mladoňov\, 5.B
DESCRIPTION:Téma: Osudy lidí za 2. světové války
URL:https://www.hluchak.cz/event/mladonov-5-b-4/
END:VEVENT
BEGIN:VEVENT
DTSTART;TZID=Europe/Prague:20230322T080000
DTEND;TZID=Europe/Prague:20230322T090000
DTSTAMP:20260421T225729
CREATED:20230320T132800Z
LAST-MODIFIED:20230320T132800Z
UID:24400-1679472000-1679475600@www.hluchak.cz
SUMMARY:Roman Lipavský\, tábory
DESCRIPTION:hodina\,  v jídelně školy se vystřídají všichni žáci školy
URL:https://www.hluchak.cz/event/roman-lipavsky-tabory/
END:VEVENT
BEGIN:VEVENT
DTSTART;TZID=Europe/Prague:20230322T134500
DTEND;TZID=Europe/Prague:20230322T143000
DTSTAMP:20260421T225729
CREATED:20230320T102951Z
LAST-MODIFIED:20230320T103020Z
UID:24397-1679492700-1679495400@www.hluchak.cz
SUMMARY:Žákovská samospráva
DESCRIPTION:Schůzka zástupců tříd s pane ředitelem. \nv učebně Fyziky \nod 13:45 hodin
URL:https://www.hluchak.cz/event/zakovska-samosprava/
END:VEVENT
END:VCALENDAR