BEGIN:VCALENDAR
VERSION:2.0
PRODID:-//Základní škola Šumperk, 8.května - ECPv6.15.11//NONSGML v1.0//EN
CALSCALE:GREGORIAN
METHOD:PUBLISH
X-ORIGINAL-URL:https://www.hluchak.cz
X-WR-CALDESC:Akce na Základní škola Šumperk, 8.května
REFRESH-INTERVAL;VALUE=DURATION:PT1H
X-Robots-Tag:noindex
X-PUBLISHED-TTL:PT1H
BEGIN:VTIMEZONE
TZID:Europe/Prague
BEGIN:DAYLIGHT
TZOFFSETFROM:+0100
TZOFFSETTO:+0200
TZNAME:CEST
DTSTART:20220327T010000
END:DAYLIGHT
BEGIN:STANDARD
TZOFFSETFROM:+0200
TZOFFSETTO:+0100
TZNAME:CET
DTSTART:20221030T010000
END:STANDARD
BEGIN:DAYLIGHT
TZOFFSETFROM:+0100
TZOFFSETTO:+0200
TZNAME:CEST
DTSTART:20230326T010000
END:DAYLIGHT
BEGIN:STANDARD
TZOFFSETFROM:+0200
TZOFFSETTO:+0100
TZNAME:CET
DTSTART:20231029T010000
END:STANDARD
BEGIN:DAYLIGHT
TZOFFSETFROM:+0100
TZOFFSETTO:+0200
TZNAME:CEST
DTSTART:20240331T010000
END:DAYLIGHT
BEGIN:STANDARD
TZOFFSETFROM:+0200
TZOFFSETTO:+0100
TZNAME:CET
DTSTART:20241027T010000
END:STANDARD
END:VTIMEZONE
BEGIN:VEVENT
DTSTART;TZID=Europe/Prague:20230316T080000
DTEND;TZID=Europe/Prague:20230316T100000
DTSTAMP:20260421T225832
CREATED:20230314T130823Z
LAST-MODIFIED:20230315T075355Z
UID:24360-1678953600-1678960800@www.hluchak.cz
SUMMARY:Žáci 9. a 8.  tříd - setkání s rodilými mluvčími Aj
DESCRIPTION:Klára Zádrapová společně s lektory Aj \n\nhod. žáci 9. tříd v Aj\n\n       2. hod. žáci 8. tříd v Cj \nInformace o mezinárodním letním táboře
URL:https://www.hluchak.cz/event/zaci-9-trid-setkani-s-rodilymi-mluvcimi-aj/
END:VEVENT
BEGIN:VEVENT
DTSTART;TZID=Europe/Prague:20230316T080000
DTEND;TZID=Europe/Prague:20230316T113000
DTSTAMP:20260421T225832
CREATED:20230222T124049Z
LAST-MODIFIED:20230224T124040Z
UID:24105-1678953600-1678966200@www.hluchak.cz
SUMMARY:Den otevřených dveří pro rodiče budoucích prvňáčků
DESCRIPTION:Rádi přivítáme rodiče a jejich děti\, které mají od září 2023 nastoupit do 1. třídy. \nBudete moci nakouknout přímo do tříd\, kde se učí současní prvňáčci. Zodpovíme vaše případné dotazy.  \nProsíme\, využijte levý boční vchod do školy.  Po zazvonění na kancelář školy Vás pustí paní sekretářka. Hlavní vchod je uzavřen z důvodu rekonstrukce.
URL:https://www.hluchak.cz/event/den-otevrenych-dveri-pro-rodice-budoucich-prvnacku/
END:VEVENT
BEGIN:VEVENT
DTSTART;TZID=Europe/Prague:20230316T080000
DTEND;TZID=Europe/Prague:20230316T120000
DTSTAMP:20260421T225832
CREATED:20230310T093138Z
LAST-MODIFIED:20230310T093138Z
UID:24209-1678953600-1678968000@www.hluchak.cz
SUMMARY:Konverzace v Aj
DESCRIPTION:Okresní kolo \nSVČ Komín \nžáci postupující ze školního kola \nod 8 hodin
URL:https://www.hluchak.cz/event/konverzace-v-aj/
END:VEVENT
BEGIN:VEVENT
DTSTART;TZID=Europe/Prague:20230316T133000
DTEND;TZID=Europe/Prague:20230316T140000
DTSTAMP:20260421T225832
CREATED:20230310T102446Z
LAST-MODIFIED:20230310T102446Z
UID:24211-1678973400-1678975200@www.hluchak.cz
SUMMARY:ŠD: Relaxační bubnování
DESCRIPTION:čtvrtek 16.3. \nv malé tělocvičně \npaní vychovatelka Janků \n13:15 – 14:00
URL:https://www.hluchak.cz/event/sd-relaxacni-bubnovani-2/
END:VEVENT
END:VCALENDAR