BEGIN:VCALENDAR
VERSION:2.0
PRODID:-//Základní škola Šumperk, 8.května - ECPv6.15.11//NONSGML v1.0//EN
CALSCALE:GREGORIAN
METHOD:PUBLISH
X-ORIGINAL-URL:https://www.hluchak.cz
X-WR-CALDESC:Akce na Základní škola Šumperk, 8.května
REFRESH-INTERVAL;VALUE=DURATION:PT1H
X-Robots-Tag:noindex
X-PUBLISHED-TTL:PT1H
BEGIN:VTIMEZONE
TZID:Europe/Prague
BEGIN:DAYLIGHT
TZOFFSETFROM:+0100
TZOFFSETTO:+0200
TZNAME:CEST
DTSTART:20220327T010000
END:DAYLIGHT
BEGIN:STANDARD
TZOFFSETFROM:+0200
TZOFFSETTO:+0100
TZNAME:CET
DTSTART:20221030T010000
END:STANDARD
BEGIN:DAYLIGHT
TZOFFSETFROM:+0100
TZOFFSETTO:+0200
TZNAME:CEST
DTSTART:20230326T010000
END:DAYLIGHT
BEGIN:STANDARD
TZOFFSETFROM:+0200
TZOFFSETTO:+0100
TZNAME:CET
DTSTART:20231029T010000
END:STANDARD
BEGIN:DAYLIGHT
TZOFFSETFROM:+0100
TZOFFSETTO:+0200
TZNAME:CEST
DTSTART:20240331T010000
END:DAYLIGHT
BEGIN:STANDARD
TZOFFSETFROM:+0200
TZOFFSETTO:+0100
TZNAME:CET
DTSTART:20241027T010000
END:STANDARD
END:VTIMEZONE
BEGIN:VEVENT
DTSTART;TZID=Europe/Prague:20230222T080000
DTEND;TZID=Europe/Prague:20230222T110000
DTSTAMP:20260421T225820
CREATED:20230116T123534Z
LAST-MODIFIED:20230214T073706Z
UID:23766-1677052800-1677063600@www.hluchak.cz
SUMMARY:Zeměpisná olympiáda
DESCRIPTION:okresní kolo \nSVČ – Komín \n6 žáků postupujících ze školního kola \n8.00 hodin
URL:https://www.hluchak.cz/event/zemepisna-olympiada-5/
END:VEVENT
BEGIN:VEVENT
DTSTART;TZID=Europe/Prague:20230222T080000
DTEND;TZID=Europe/Prague:20230222T113000
DTSTAMP:20260421T225820
CREATED:20230215T064633Z
LAST-MODIFIED:20230215T064633Z
UID:24042-1677052800-1677065400@www.hluchak.cz
SUMMARY:Konverzační soutěž v Aj
DESCRIPTION: – 3. hodina\,\n\npro vybrané žáky \norganizují: paní učitelky Nevrklová a Hulíková
URL:https://www.hluchak.cz/event/konverzacni-soutez-v-aj-4/
END:VEVENT
END:VCALENDAR