BEGIN:VCALENDAR
VERSION:2.0
PRODID:-//Základní škola Šumperk, 8.května - ECPv6.15.11//NONSGML v1.0//EN
CALSCALE:GREGORIAN
METHOD:PUBLISH
X-ORIGINAL-URL:https://www.hluchak.cz
X-WR-CALDESC:Akce na Základní škola Šumperk, 8.května
REFRESH-INTERVAL;VALUE=DURATION:PT1H
X-Robots-Tag:noindex
X-PUBLISHED-TTL:PT1H
BEGIN:VTIMEZONE
TZID:Europe/Prague
BEGIN:DAYLIGHT
TZOFFSETFROM:+0100
TZOFFSETTO:+0200
TZNAME:CEST
DTSTART:20220327T010000
END:DAYLIGHT
BEGIN:STANDARD
TZOFFSETFROM:+0200
TZOFFSETTO:+0100
TZNAME:CET
DTSTART:20221030T010000
END:STANDARD
BEGIN:DAYLIGHT
TZOFFSETFROM:+0100
TZOFFSETTO:+0200
TZNAME:CEST
DTSTART:20230326T010000
END:DAYLIGHT
BEGIN:STANDARD
TZOFFSETFROM:+0200
TZOFFSETTO:+0100
TZNAME:CET
DTSTART:20231029T010000
END:STANDARD
BEGIN:DAYLIGHT
TZOFFSETFROM:+0100
TZOFFSETTO:+0200
TZNAME:CEST
DTSTART:20240331T010000
END:DAYLIGHT
BEGIN:STANDARD
TZOFFSETFROM:+0200
TZOFFSETTO:+0100
TZNAME:CET
DTSTART:20241027T010000
END:STANDARD
END:VTIMEZONE
BEGIN:VEVENT
DTSTART;VALUE=DATE:20230203
DTEND;VALUE=DATE:20230204
DTSTAMP:20260421T200514
CREATED:20230103T113906Z
LAST-MODIFIED:20230103T115900Z
UID:23641-1675382400-1675468799@www.hluchak.cz
SUMMARY:Pololetní prázdniny
DESCRIPTION:pátek 3.2. 2023
URL:https://www.hluchak.cz/event/pololetni-prazdniny-6/
END:VEVENT
BEGIN:VEVENT
DTSTART;TZID=Europe/Prague:20230203T080000
DTEND;TZID=Europe/Prague:20230203T120000
DTSTAMP:20260421T200514
CREATED:20230103T115357Z
LAST-MODIFIED:20230103T115502Z
UID:23652-1675411200-1675425600@www.hluchak.cz
SUMMARY:Školení pracovníků školy
DESCRIPTION:V jídelně školy
URL:https://www.hluchak.cz/event/skoleni-pracovniku-skoly/
END:VEVENT
END:VCALENDAR