BEGIN:VCALENDAR
VERSION:2.0
PRODID:-//Základní škola Šumperk, 8.května - ECPv6.15.11//NONSGML v1.0//EN
CALSCALE:GREGORIAN
METHOD:PUBLISH
X-WR-CALNAME:Základní škola Šumperk, 8.května
X-ORIGINAL-URL:https://www.hluchak.cz
X-WR-CALDESC:Akce na Základní škola Šumperk, 8.května
REFRESH-INTERVAL;VALUE=DURATION:PT1H
X-Robots-Tag:noindex
X-PUBLISHED-TTL:PT1H
BEGIN:VTIMEZONE
TZID:Europe/Prague
BEGIN:DAYLIGHT
TZOFFSETFROM:+0100
TZOFFSETTO:+0200
TZNAME:CEST
DTSTART:20210328T010000
END:DAYLIGHT
BEGIN:STANDARD
TZOFFSETFROM:+0200
TZOFFSETTO:+0100
TZNAME:CET
DTSTART:20211031T010000
END:STANDARD
BEGIN:DAYLIGHT
TZOFFSETFROM:+0100
TZOFFSETTO:+0200
TZNAME:CEST
DTSTART:20220327T010000
END:DAYLIGHT
BEGIN:STANDARD
TZOFFSETFROM:+0200
TZOFFSETTO:+0100
TZNAME:CET
DTSTART:20221030T010000
END:STANDARD
BEGIN:DAYLIGHT
TZOFFSETFROM:+0100
TZOFFSETTO:+0200
TZNAME:CEST
DTSTART:20230326T010000
END:DAYLIGHT
BEGIN:STANDARD
TZOFFSETFROM:+0200
TZOFFSETTO:+0100
TZNAME:CET
DTSTART:20231029T010000
END:STANDARD
END:VTIMEZONE
BEGIN:VEVENT
DTSTART;TZID=Europe/Prague:20221222T080000
DTEND;TZID=Europe/Prague:20221222T130000
DTSTAMP:20260421T185130
CREATED:20221129T121941Z
LAST-MODIFIED:20221212T073154Z
UID:23278-1671696000-1671714000@www.hluchak.cz
SUMMARY:Vánoční volejbalový turnaj\, žáci 8. a 9. tříd
DESCRIPTION:v tělocvičně \nšestičlenná družstva s minimálně třemi děvčaty\, libovolný počet náhradníků – musí ale alespoň jedenkrát nastoupit \nPřihláška:  soupisky se jmény hráček a hráčů nejpozději do pátku 9.12. 2022
URL:https://www.hluchak.cz/event/vanocni-velejbalovy-turnaj-zaci-8-a-9-trid/
END:VEVENT
BEGIN:VEVENT
DTSTART;TZID=Europe/Prague:20221222T080000
DTEND;TZID=Europe/Prague:20221222T133000
DTSTAMP:20260421T185130
CREATED:20221219T080603Z
LAST-MODIFIED:20221219T080603Z
UID:23493-1671696000-1671715800@www.hluchak.cz
SUMMARY:Čtvrtek 22.12.
DESCRIPTION:čtvrtek 22.12. \n1. stupeň: besídky\, třídní paní učitelky ve svých třídách do konce vyučování \npodle rozvrhu\, půlené hodiny nejsou \n  \n8.\, 9. třídy: soutěžící vybraní žáci se v tělocvičně pod vedením pí uč. Rutarové a p uč. Maroška účastní podle rozpisu turnaje ve volejbalu; \nnesoutěžící žáci se budou učit – třídy pospojovány v učebnách \npodle rozpisu\, vyučování končí ve 13. 30 hod. \n  \nvybraní žáci: Vánoční šachový turnaj (v učebně Vv) – organizuje p uč. Ježek\, \n8.00 – 13.30 hodin \n  \n6.\, 7. třídy: 1. – 4. hodina – vyučování podle rozvrhu\, \n5.\, 6. hodina – vánoční besídky v jednotlivých třídách s třídními \npaními učitelkami a pány učiteli \n10.05 hod.: tradiční zpívání koled a vánočních písní na schodech (žáci a jejich učitelé \nv 3. hodině)
URL:https://www.hluchak.cz/event/ctvrtek-22-12/
END:VEVENT
END:VCALENDAR