BEGIN:VCALENDAR
VERSION:2.0
PRODID:-//Základní škola Šumperk, 8.května - ECPv6.15.11//NONSGML v1.0//EN
CALSCALE:GREGORIAN
METHOD:PUBLISH
X-WR-CALNAME:Základní škola Šumperk, 8.května
X-ORIGINAL-URL:https://www.hluchak.cz
X-WR-CALDESC:Akce na Základní škola Šumperk, 8.května
REFRESH-INTERVAL;VALUE=DURATION:PT1H
X-Robots-Tag:noindex
X-PUBLISHED-TTL:PT1H
BEGIN:VTIMEZONE
TZID:Europe/Prague
BEGIN:DAYLIGHT
TZOFFSETFROM:+0100
TZOFFSETTO:+0200
TZNAME:CEST
DTSTART:20210328T010000
END:DAYLIGHT
BEGIN:STANDARD
TZOFFSETFROM:+0200
TZOFFSETTO:+0100
TZNAME:CET
DTSTART:20211031T010000
END:STANDARD
BEGIN:DAYLIGHT
TZOFFSETFROM:+0100
TZOFFSETTO:+0200
TZNAME:CEST
DTSTART:20220327T010000
END:DAYLIGHT
BEGIN:STANDARD
TZOFFSETFROM:+0200
TZOFFSETTO:+0100
TZNAME:CET
DTSTART:20221030T010000
END:STANDARD
BEGIN:DAYLIGHT
TZOFFSETFROM:+0100
TZOFFSETTO:+0200
TZNAME:CEST
DTSTART:20230326T010000
END:DAYLIGHT
BEGIN:STANDARD
TZOFFSETFROM:+0200
TZOFFSETTO:+0100
TZNAME:CET
DTSTART:20231029T010000
END:STANDARD
END:VTIMEZONE
BEGIN:VEVENT
DTSTART;TZID=Europe/Prague:20221221T080000
DTEND;TZID=Europe/Prague:20221221T130000
DTSTAMP:20260421T185833
CREATED:20221129T121435Z
LAST-MODIFIED:20221220T105213Z
UID:23276-1671609600-1671627600@www.hluchak.cz
SUMMARY:Vánoční turnaj ve vybíjené\, 6. a 7. třídy
DESCRIPTION:v tělocvičně \ndesetičlenná družstva\, minimálně 5 dívek \ninformace na letáčku ve třídách \nPřihlášky do pátku 9.12. 2022
URL:https://www.hluchak.cz/event/vanocni-turnaj-ve-vybijene-6-a-7-tridy/
END:VEVENT
BEGIN:VEVENT
DTSTART;TZID=Europe/Prague:20221221T080000
DTEND;TZID=Europe/Prague:20221221T133000
DTSTAMP:20260421T185833
CREATED:20221219T080422Z
LAST-MODIFIED:20221219T080422Z
UID:23491-1671609600-1671629400@www.hluchak.cz
SUMMARY:Středa 21.12.
DESCRIPTION:středa 21.12. \nCelý den podle rozvrhu – 1. i 2. stupeň \n6.\, 7. třídy: soutěžící vybraní žáci se v tělocvičně pod vedením pí uč. Rutarové a Spillerové účastní podle rozpisu turnaje ve vybíjené; \nnesoutěžící žáci se budou učit – třídy pospojovány v učebnách. \n8.\, 9. třídy: besídky (na základě domluvy s vámi) podle rozpisu (je možné ještě upravit) \n8.A 2.\, 3. hod. \n8.B 6. hod. \n8.C 5.\, 6. hod. \n8.D 6. hod. \n 9.A 5. hod. \n9.B 5.\, 6. hod. \n9.C 5. hod. \n9.D 6. hod.
URL:https://www.hluchak.cz/event/streda-21-12/
END:VEVENT
END:VCALENDAR