BEGIN:VCALENDAR
VERSION:2.0
PRODID:-//Základní škola Šumperk, 8.května - ECPv6.15.11//NONSGML v1.0//EN
CALSCALE:GREGORIAN
METHOD:PUBLISH
X-ORIGINAL-URL:https://www.hluchak.cz
X-WR-CALDESC:Akce na Základní škola Šumperk, 8.května
REFRESH-INTERVAL;VALUE=DURATION:PT1H
X-Robots-Tag:noindex
X-PUBLISHED-TTL:PT1H
BEGIN:VTIMEZONE
TZID:Europe/Prague
BEGIN:DAYLIGHT
TZOFFSETFROM:+0100
TZOFFSETTO:+0200
TZNAME:CEST
DTSTART:20210328T010000
END:DAYLIGHT
BEGIN:STANDARD
TZOFFSETFROM:+0200
TZOFFSETTO:+0100
TZNAME:CET
DTSTART:20211031T010000
END:STANDARD
BEGIN:DAYLIGHT
TZOFFSETFROM:+0100
TZOFFSETTO:+0200
TZNAME:CEST
DTSTART:20220327T010000
END:DAYLIGHT
BEGIN:STANDARD
TZOFFSETFROM:+0200
TZOFFSETTO:+0100
TZNAME:CET
DTSTART:20221030T010000
END:STANDARD
BEGIN:DAYLIGHT
TZOFFSETFROM:+0100
TZOFFSETTO:+0200
TZNAME:CEST
DTSTART:20230326T010000
END:DAYLIGHT
BEGIN:STANDARD
TZOFFSETFROM:+0200
TZOFFSETTO:+0100
TZNAME:CET
DTSTART:20231029T010000
END:STANDARD
END:VTIMEZONE
BEGIN:VEVENT
DTSTART;TZID=Europe/Prague:20221124T134500
DTEND;TZID=Europe/Prague:20221124T144500
DTSTAMP:20260421T201832
CREATED:20221123T120410Z
LAST-MODIFIED:20221123T120519Z
UID:23246-1669297500-1669301100@www.hluchak.cz
SUMMARY:ŠD: Superstar
DESCRIPTION:soutěž ve zpěvu \n13.45 – 14.45
URL:https://www.hluchak.cz/event/sd-superstar-2/
END:VEVENT
END:VCALENDAR