BEGIN:VCALENDAR
VERSION:2.0
PRODID:-//Základní škola Šumperk, 8.května - ECPv6.15.11//NONSGML v1.0//EN
CALSCALE:GREGORIAN
METHOD:PUBLISH
X-WR-CALNAME:Základní škola Šumperk, 8.května
X-ORIGINAL-URL:https://www.hluchak.cz
X-WR-CALDESC:Akce na Základní škola Šumperk, 8.května
REFRESH-INTERVAL;VALUE=DURATION:PT1H
X-Robots-Tag:noindex
X-PUBLISHED-TTL:PT1H
BEGIN:VTIMEZONE
TZID:Europe/Prague
BEGIN:DAYLIGHT
TZOFFSETFROM:+0100
TZOFFSETTO:+0200
TZNAME:CEST
DTSTART:20210328T010000
END:DAYLIGHT
BEGIN:STANDARD
TZOFFSETFROM:+0200
TZOFFSETTO:+0100
TZNAME:CET
DTSTART:20211031T010000
END:STANDARD
BEGIN:DAYLIGHT
TZOFFSETFROM:+0100
TZOFFSETTO:+0200
TZNAME:CEST
DTSTART:20220327T010000
END:DAYLIGHT
BEGIN:STANDARD
TZOFFSETFROM:+0200
TZOFFSETTO:+0100
TZNAME:CET
DTSTART:20221030T010000
END:STANDARD
BEGIN:DAYLIGHT
TZOFFSETFROM:+0100
TZOFFSETTO:+0200
TZNAME:CEST
DTSTART:20230326T010000
END:DAYLIGHT
BEGIN:STANDARD
TZOFFSETFROM:+0200
TZOFFSETTO:+0100
TZNAME:CET
DTSTART:20231029T010000
END:STANDARD
END:VTIMEZONE
BEGIN:VEVENT
DTSTART;TZID=Europe/Prague:20221114T080000
DTEND;TZID=Europe/Prague:20221114T113000
DTSTAMP:20260421T200516
CREATED:20221104T105006Z
LAST-MODIFIED:20221109T100501Z
UID:22914-1668412800-1668425400@www.hluchak.cz
SUMMARY:Florbal\, mladší žákyně
DESCRIPTION:u nás v tělocvičně \nodpovídá: p. uč. Marošek
URL:https://www.hluchak.cz/event/florbal-4/
END:VEVENT
BEGIN:VEVENT
DTSTART;TZID=Europe/Prague:20221114T083000
DTEND;TZID=Europe/Prague:20221114T103000
DTSTAMP:20260421T200516
CREATED:20220912T110852Z
LAST-MODIFIED:20221031T084233Z
UID:22140-1668414600-1668421800@www.hluchak.cz
SUMMARY:Studio My dvě\, 4.B
DESCRIPTION:Název:  Na ostří nůžek aneb Příběh z krejčovského salónu \n               na motivy pohádky Císařovy nové šaty od H. Ch. Andersena \ntřída: 4.B\, od 8:30 hod. \nDoprovod: pí uč. Králová
URL:https://www.hluchak.cz/event/studio-my-dve-5/
END:VEVENT
BEGIN:VEVENT
DTSTART;TZID=Europe/Prague:20221114T133000
DTEND;TZID=Europe/Prague:20221116T150000
DTSTAMP:20260421T200516
CREATED:20221014T082808Z
LAST-MODIFIED:20221109T134324Z
UID:22569-1668432600-1668610800@www.hluchak.cz
SUMMARY:Bobřík informatiky\, žáci 8. a 9. tříd
DESCRIPTION:Soutěž bude probíhat postupně v době odpoledního vyučování – podle pokynů vyučujících.
URL:https://www.hluchak.cz/event/bobrik-informatiky-zaci-8-a-9-trid/
END:VEVENT
END:VCALENDAR