BEGIN:VCALENDAR
VERSION:2.0
PRODID:-//Základní škola Šumperk, 8.května - ECPv6.15.11//NONSGML v1.0//EN
CALSCALE:GREGORIAN
METHOD:PUBLISH
X-WR-CALNAME:Základní škola Šumperk, 8.května
X-ORIGINAL-URL:https://www.hluchak.cz
X-WR-CALDESC:Akce na Základní škola Šumperk, 8.května
REFRESH-INTERVAL;VALUE=DURATION:PT1H
X-Robots-Tag:noindex
X-PUBLISHED-TTL:PT1H
BEGIN:VTIMEZONE
TZID:Europe/Prague
BEGIN:DAYLIGHT
TZOFFSETFROM:+0100
TZOFFSETTO:+0200
TZNAME:CEST
DTSTART:20210328T010000
END:DAYLIGHT
BEGIN:STANDARD
TZOFFSETFROM:+0200
TZOFFSETTO:+0100
TZNAME:CET
DTSTART:20211031T010000
END:STANDARD
BEGIN:DAYLIGHT
TZOFFSETFROM:+0100
TZOFFSETTO:+0200
TZNAME:CEST
DTSTART:20220327T010000
END:DAYLIGHT
BEGIN:STANDARD
TZOFFSETFROM:+0200
TZOFFSETTO:+0100
TZNAME:CET
DTSTART:20221030T010000
END:STANDARD
BEGIN:DAYLIGHT
TZOFFSETFROM:+0100
TZOFFSETTO:+0200
TZNAME:CEST
DTSTART:20230326T010000
END:DAYLIGHT
BEGIN:STANDARD
TZOFFSETFROM:+0200
TZOFFSETTO:+0100
TZNAME:CET
DTSTART:20231029T010000
END:STANDARD
END:VTIMEZONE
BEGIN:VEVENT
DTSTART;TZID=Europe/Prague:20221107T080000
DTEND;TZID=Europe/Prague:20221111T133000
DTSTAMP:20260421T200516
CREATED:20221014T082507Z
LAST-MODIFIED:20221014T082507Z
UID:22567-1667808000-1668173400@www.hluchak.cz
SUMMARY:Bobřík informatiky\, žáci 4. - 7. tříd
DESCRIPTION:Soutěž bude probíhat v  hodinách informatiky. \nZadávají jednotliví vyučující
URL:https://www.hluchak.cz/event/bobrik-informatiky-zaci-4-7-trid/
END:VEVENT
BEGIN:VEVENT
DTSTART;TZID=Europe/Prague:20221108T080000
DTEND;TZID=Europe/Prague:20221108T150000
DTSTAMP:20260421T200516
CREATED:20221104T120818Z
LAST-MODIFIED:20221104T120818Z
UID:22935-1667894400-1667919600@www.hluchak.cz
SUMMARY:Sbírka pro zvířátka
DESCRIPTION:U hlavního vchodu do školy. \nČasy:  7:30 – 8:00   a 13:00 – 15:00 hodin \nInformace na letáčcích a v poště.
URL:https://www.hluchak.cz/event/sbirka-pro-zviratka/
END:VEVENT
BEGIN:VEVENT
DTSTART;TZID=Europe/Prague:20221108T083000
DTEND;TZID=Europe/Prague:20221108T103000
DTSTAMP:20260421T200516
CREATED:20221031T080416Z
LAST-MODIFIED:20221031T080416Z
UID:22737-1667896200-1667903400@www.hluchak.cz
SUMMARY:Vila Doris\, 3.B
DESCRIPTION:Téma: Kouzelný herbář
URL:https://www.hluchak.cz/event/vila-doris-3-b-6/
END:VEVENT
BEGIN:VEVENT
DTSTART;TZID=Europe/Prague:20221108T120000
DTEND;TZID=Europe/Prague:20221108T133000
DTSTAMP:20260421T200516
CREATED:20221104T104355Z
LAST-MODIFIED:20221104T104355Z
UID:22906-1667908800-1667914200@www.hluchak.cz
SUMMARY:SCHOLARIS\, 9.třídy
DESCRIPTION:Během 5.\, 6. hodiny navštíví žáci v doprovodu třídních paní učitelek. \nGymnázium \nNávrat na oběd a na odpolední vyučování.
URL:https://www.hluchak.cz/event/scholaris-9-tridy/
END:VEVENT
BEGIN:VEVENT
DTSTART;TZID=Europe/Prague:20221108T123000
DTEND;TZID=Europe/Prague:20221108T133000
DTSTAMP:20260421T200516
CREATED:20221130T132644Z
LAST-MODIFIED:20221130T132644Z
UID:23323-1667910600-1667914200@www.hluchak.cz
SUMMARY:Štafetový běh okolo Hlucháku\, 6. a 7. třídy
DESCRIPTION:Soutěží družstva jednotlivých tříd
URL:https://www.hluchak.cz/event/stafetovy-beh-okolo-hluchaku-6-a-7-tridy/
END:VEVENT
END:VCALENDAR