BEGIN:VCALENDAR
VERSION:2.0
PRODID:-//Základní škola Šumperk, 8.května - ECPv6.15.11//NONSGML v1.0//EN
CALSCALE:GREGORIAN
METHOD:PUBLISH
X-WR-CALNAME:Základní škola Šumperk, 8.května
X-ORIGINAL-URL:https://www.hluchak.cz
X-WR-CALDESC:Akce na Základní škola Šumperk, 8.května
REFRESH-INTERVAL;VALUE=DURATION:PT1H
X-Robots-Tag:noindex
X-PUBLISHED-TTL:PT1H
BEGIN:VTIMEZONE
TZID:Europe/Prague
BEGIN:DAYLIGHT
TZOFFSETFROM:+0100
TZOFFSETTO:+0200
TZNAME:CEST
DTSTART:20210328T010000
END:DAYLIGHT
BEGIN:STANDARD
TZOFFSETFROM:+0200
TZOFFSETTO:+0100
TZNAME:CET
DTSTART:20211031T010000
END:STANDARD
BEGIN:DAYLIGHT
TZOFFSETFROM:+0100
TZOFFSETTO:+0200
TZNAME:CEST
DTSTART:20220327T010000
END:DAYLIGHT
BEGIN:STANDARD
TZOFFSETFROM:+0200
TZOFFSETTO:+0100
TZNAME:CET
DTSTART:20221030T010000
END:STANDARD
BEGIN:DAYLIGHT
TZOFFSETFROM:+0100
TZOFFSETTO:+0200
TZNAME:CEST
DTSTART:20230326T010000
END:DAYLIGHT
BEGIN:STANDARD
TZOFFSETFROM:+0200
TZOFFSETTO:+0100
TZNAME:CET
DTSTART:20231029T010000
END:STANDARD
END:VTIMEZONE
BEGIN:VEVENT
DTSTART;VALUE=DATE:20221102
DTEND;VALUE=DATE:20221103
DTSTAMP:20260421T200517
CREATED:20220913T102204Z
LAST-MODIFIED:20221031T085941Z
UID:22148-1667347200-1667433599@www.hluchak.cz
SUMMARY:Přírodovědná exkurze: ZOO Kopeček\, 8.B
DESCRIPTION:Komentovaná prohlídka \nDoprovod: pí uč. Spillerová\, pí uč. Rutarová
URL:https://www.hluchak.cz/event/prirodovedna-exkurze-zoo-kopecek-8-b/
END:VEVENT
BEGIN:VEVENT
DTSTART;TZID=Europe/Prague:20221102T080000
DTEND;TZID=Europe/Prague:20221102T110000
DTSTAMP:20260421T200517
CREATED:20220914T063755Z
LAST-MODIFIED:20220914T063755Z
UID:22157-1667376000-1667386800@www.hluchak.cz
SUMMARY:Vila Doris\, 4.C
DESCRIPTION:Téma: Kouzelný herbář \n1. – 3. hodina \nDoprovod: pí č. Nováková
URL:https://www.hluchak.cz/event/vila-doris-4-c-3/
END:VEVENT
END:VCALENDAR