BEGIN:VCALENDAR
VERSION:2.0
PRODID:-//Základní škola Šumperk, 8.května - ECPv6.15.11//NONSGML v1.0//EN
CALSCALE:GREGORIAN
METHOD:PUBLISH
X-ORIGINAL-URL:https://www.hluchak.cz
X-WR-CALDESC:Akce na Základní škola Šumperk, 8.května
REFRESH-INTERVAL;VALUE=DURATION:PT1H
X-Robots-Tag:noindex
X-PUBLISHED-TTL:PT1H
BEGIN:VTIMEZONE
TZID:Europe/Prague
BEGIN:DAYLIGHT
TZOFFSETFROM:+0100
TZOFFSETTO:+0200
TZNAME:CEST
DTSTART:20210328T010000
END:DAYLIGHT
BEGIN:STANDARD
TZOFFSETFROM:+0200
TZOFFSETTO:+0100
TZNAME:CET
DTSTART:20211031T010000
END:STANDARD
BEGIN:DAYLIGHT
TZOFFSETFROM:+0100
TZOFFSETTO:+0200
TZNAME:CEST
DTSTART:20220327T010000
END:DAYLIGHT
BEGIN:STANDARD
TZOFFSETFROM:+0200
TZOFFSETTO:+0100
TZNAME:CET
DTSTART:20221030T010000
END:STANDARD
BEGIN:DAYLIGHT
TZOFFSETFROM:+0100
TZOFFSETTO:+0200
TZNAME:CEST
DTSTART:20230326T010000
END:DAYLIGHT
BEGIN:STANDARD
TZOFFSETFROM:+0200
TZOFFSETTO:+0100
TZNAME:CET
DTSTART:20231029T010000
END:STANDARD
END:VTIMEZONE
BEGIN:VEVENT
DTSTART;VALUE=DATE:20221018
DTEND;VALUE=DATE:20221019
DTSTAMP:20260421T225833
CREATED:20221005T130032Z
LAST-MODIFIED:20221005T130032Z
UID:22340-1666051200-1666137599@www.hluchak.cz
SUMMARY:ŠD: Babičky a dědečkové čtou dětem pohádky
DESCRIPTION:termíny: 11.\, 14.\, 18. 10. \nAkce jako součást festivalu Město čte knihu \n 
URL:https://www.hluchak.cz/event/sd-babicky-a-dedeckove-ctou-detem-pohadky-2/
END:VEVENT
BEGIN:VEVENT
DTSTART;VALUE=DATE:20221018
DTEND;VALUE=DATE:20221019
DTSTAMP:20260421T225833
CREATED:20221010T090202Z
LAST-MODIFIED:20221010T090202Z
UID:22439-1666051200-1666137599@www.hluchak.cz
SUMMARY:Burza práce a vzdělání
DESCRIPTION:Nabídka pro žáky 9. ročníku. \nAkce v Domě kultury v Šumperku. \nod 9 do 17 hodin \nvstup zdarma
URL:https://www.hluchak.cz/event/burza-prace-a-vzdelani/
END:VEVENT
BEGIN:VEVENT
DTSTART;VALUE=DATE:20221018
DTEND;VALUE=DATE:20221019
DTSTAMP:20260421T225833
CREATED:20221011T083555Z
LAST-MODIFIED:20221011T083555Z
UID:22529-1666051200-1666137599@www.hluchak.cz
SUMMARY:Dějepisná exkurze\, Králíky
DESCRIPTION:Přihlášení žáci 9. ročníku \nNávštěva opevnění v Králíkách. \nOdpovídá: pan uč. Václavík \nDoprovod: pí uč. Spillerová
URL:https://www.hluchak.cz/event/dejepisna-exkurze-kraliky/
END:VEVENT
END:VCALENDAR