BEGIN:VCALENDAR
VERSION:2.0
PRODID:-//Základní škola Šumperk, 8.května - ECPv6.15.11//NONSGML v1.0//EN
CALSCALE:GREGORIAN
METHOD:PUBLISH
X-WR-CALNAME:Základní škola Šumperk, 8.května
X-ORIGINAL-URL:https://www.hluchak.cz
X-WR-CALDESC:Akce na Základní škola Šumperk, 8.května
REFRESH-INTERVAL;VALUE=DURATION:PT1H
X-Robots-Tag:noindex
X-PUBLISHED-TTL:PT1H
BEGIN:VTIMEZONE
TZID:Europe/Prague
BEGIN:DAYLIGHT
TZOFFSETFROM:+0100
TZOFFSETTO:+0200
TZNAME:CEST
DTSTART:20210328T010000
END:DAYLIGHT
BEGIN:STANDARD
TZOFFSETFROM:+0200
TZOFFSETTO:+0100
TZNAME:CET
DTSTART:20211031T010000
END:STANDARD
BEGIN:DAYLIGHT
TZOFFSETFROM:+0100
TZOFFSETTO:+0200
TZNAME:CEST
DTSTART:20220327T010000
END:DAYLIGHT
BEGIN:STANDARD
TZOFFSETFROM:+0200
TZOFFSETTO:+0100
TZNAME:CET
DTSTART:20221030T010000
END:STANDARD
BEGIN:DAYLIGHT
TZOFFSETFROM:+0100
TZOFFSETTO:+0200
TZNAME:CEST
DTSTART:20230326T010000
END:DAYLIGHT
BEGIN:STANDARD
TZOFFSETFROM:+0200
TZOFFSETTO:+0100
TZNAME:CET
DTSTART:20231029T010000
END:STANDARD
END:VTIMEZONE
BEGIN:VEVENT
DTSTART;TZID=Europe/Prague:20221013T080000
DTEND;TZID=Europe/Prague:20221013T140000
DTSTAMP:20260421T225729
CREATED:20221010T123817Z
LAST-MODIFIED:20221010T123817Z
UID:22525-1665648000-1665669600@www.hluchak.cz
SUMMARY:Přespolní běh\, krajské kolo
DESCRIPTION:kategorie mladších žákyň \nkrajské kolo \nJeseník \nDoprovod: p. uč. Smolicha
URL:https://www.hluchak.cz/event/prespolni-beh-krajske-kolo/
END:VEVENT
BEGIN:VEVENT
DTSTART;TZID=Europe/Prague:20221013T090000
DTEND;TZID=Europe/Prague:20221013T110000
DTSTAMP:20260421T225729
CREATED:20221007T115309Z
LAST-MODIFIED:20221011T084209Z
UID:22437-1665651600-1665658800@www.hluchak.cz
SUMMARY:Mezinárodní den archeologie
DESCRIPTION:6.A\, 6.C\, 1.A \n\nVlastivědné muzeum v Šumperku \nNávštěva výstavy dle uvážení dalších vyučujících
URL:https://www.hluchak.cz/event/mezinarodni-den-archeologie-2/
CATEGORIES:Akce
END:VEVENT
BEGIN:VEVENT
DTSTART;TZID=Europe/Prague:20221013T100000
DTEND;TZID=Europe/Prague:20221013T104500
DTSTAMP:20260421T225729
CREATED:20221011T065147Z
LAST-MODIFIED:20221011T065147Z
UID:22527-1665655200-1665657900@www.hluchak.cz
SUMMARY:Přírodovědný klokan
DESCRIPTION:3. vyučovací hodina v učebně přírodopisu \nodpovídá: pí uč. Spillerová \npro vybrané žáky 8. a 9. tříd
URL:https://www.hluchak.cz/event/prirodovedny-klokan-2/
END:VEVENT
BEGIN:VEVENT
DTSTART;TZID=Europe/Prague:20221013T130000
DTEND;TZID=Europe/Prague:20221013T160000
DTSTAMP:20260421T225729
CREATED:20221006T104354Z
LAST-MODIFIED:20221006T104354Z
UID:22344-1665666000-1665676800@www.hluchak.cz
SUMMARY:ŠD: Návštěva filmového představení
DESCRIPTION:Odchod od školy: 13:00 hod. \nZačátek promítání: 13:30 hod. \nKonec filmu: 15:15 hod. \, rodiče si mohou děti vyzvedat u kina \nNávrat zpět do školy (ŠD) v 16:00 hodin
URL:https://www.hluchak.cz/event/sd-navsteva-filmoveho-predstaveni-3/
END:VEVENT
END:VCALENDAR