BEGIN:VCALENDAR
VERSION:2.0
PRODID:-//Základní škola Šumperk, 8.května - ECPv6.15.11//NONSGML v1.0//EN
CALSCALE:GREGORIAN
METHOD:PUBLISH
X-WR-CALNAME:Základní škola Šumperk, 8.května
X-ORIGINAL-URL:https://www.hluchak.cz
X-WR-CALDESC:Akce na Základní škola Šumperk, 8.května
REFRESH-INTERVAL;VALUE=DURATION:PT1H
X-Robots-Tag:noindex
X-PUBLISHED-TTL:PT1H
BEGIN:VTIMEZONE
TZID:Europe/Prague
BEGIN:DAYLIGHT
TZOFFSETFROM:+0100
TZOFFSETTO:+0200
TZNAME:CEST
DTSTART:20210328T010000
END:DAYLIGHT
BEGIN:STANDARD
TZOFFSETFROM:+0200
TZOFFSETTO:+0100
TZNAME:CET
DTSTART:20211031T010000
END:STANDARD
BEGIN:DAYLIGHT
TZOFFSETFROM:+0100
TZOFFSETTO:+0200
TZNAME:CEST
DTSTART:20220327T010000
END:DAYLIGHT
BEGIN:STANDARD
TZOFFSETFROM:+0200
TZOFFSETTO:+0100
TZNAME:CET
DTSTART:20221030T010000
END:STANDARD
BEGIN:DAYLIGHT
TZOFFSETFROM:+0100
TZOFFSETTO:+0200
TZNAME:CEST
DTSTART:20230326T010000
END:DAYLIGHT
BEGIN:STANDARD
TZOFFSETFROM:+0200
TZOFFSETTO:+0100
TZNAME:CET
DTSTART:20231029T010000
END:STANDARD
END:VTIMEZONE
BEGIN:VEVENT
DTSTART;TZID=Europe/Prague:20221012T100000
DTEND;TZID=Europe/Prague:20221012T110000
DTSTAMP:20260421T225730
CREATED:20220920T061309Z
LAST-MODIFIED:20220920T061309Z
UID:22218-1665568800-1665572400@www.hluchak.cz
SUMMARY:Město čte knihu
DESCRIPTION:Čtenářská štafeta \n10.00 hodin v hudebně školy \nProgram si připravuje třída 9.A s paní učitelkou M. Fišerovou \nLetošní téma: z tvorby díla F. Nepila a V. Renče \n  \nŠKolní družina využije akce \,\, Dědečkové a babičky čtou dětem“ – podle naplánovaných termínů.
URL:https://www.hluchak.cz/event/mesto-cte-knihu/
END:VEVENT
BEGIN:VEVENT
DTSTART;TZID=Europe/Prague:20221012T130000
DTEND;TZID=Europe/Prague:20221012T140000
DTSTAMP:20260421T225730
CREATED:20221012T094222Z
LAST-MODIFIED:20221012T094222Z
UID:22554-1665579600-1665583200@www.hluchak.cz
SUMMARY:ŠD: Babičky a dědečkové čtou dětem
DESCRIPTION:4. oddělení
URL:https://www.hluchak.cz/event/sd-babicky-a-dedeckove-ctou-detem/
END:VEVENT
END:VCALENDAR