BEGIN:VCALENDAR
VERSION:2.0
PRODID:-//Základní škola Šumperk, 8.května - ECPv6.15.11//NONSGML v1.0//EN
CALSCALE:GREGORIAN
METHOD:PUBLISH
X-ORIGINAL-URL:https://www.hluchak.cz
X-WR-CALDESC:Akce na Základní škola Šumperk, 8.května
REFRESH-INTERVAL;VALUE=DURATION:PT1H
X-Robots-Tag:noindex
X-PUBLISHED-TTL:PT1H
BEGIN:VTIMEZONE
TZID:Europe/Prague
BEGIN:DAYLIGHT
TZOFFSETFROM:+0100
TZOFFSETTO:+0200
TZNAME:CEST
DTSTART:20210328T010000
END:DAYLIGHT
BEGIN:STANDARD
TZOFFSETFROM:+0200
TZOFFSETTO:+0100
TZNAME:CET
DTSTART:20211031T010000
END:STANDARD
BEGIN:DAYLIGHT
TZOFFSETFROM:+0100
TZOFFSETTO:+0200
TZNAME:CEST
DTSTART:20220327T010000
END:DAYLIGHT
BEGIN:STANDARD
TZOFFSETFROM:+0200
TZOFFSETTO:+0100
TZNAME:CET
DTSTART:20221030T010000
END:STANDARD
BEGIN:DAYLIGHT
TZOFFSETFROM:+0100
TZOFFSETTO:+0200
TZNAME:CEST
DTSTART:20230326T010000
END:DAYLIGHT
BEGIN:STANDARD
TZOFFSETFROM:+0200
TZOFFSETTO:+0100
TZNAME:CET
DTSTART:20231029T010000
END:STANDARD
END:VTIMEZONE
BEGIN:VEVENT
DTSTART;VALUE=DATE:20221006
DTEND;VALUE=DATE:20221008
DTSTAMP:20260421T225821
CREATED:20221005T125916Z
LAST-MODIFIED:20221005T125916Z
UID:22338-1665014400-1665187199@www.hluchak.cz
SUMMARY:ŠD: Babičky a dědečkové čtou dětem pohádky
DESCRIPTION:Akce pořádaná  jako součást festivalu Město čte knihu. \n8. oddělení ŠD \n6. \,  7. 10.\, 11.10.\, 14.10.\, 18.10.
URL:https://www.hluchak.cz/event/sd-babicky-a-dedeckove-ctou-detem-pohadky/
END:VEVENT
BEGIN:VEVENT
DTSTART;TZID=Europe/Prague:20221006T080000
DTEND;TZID=Europe/Prague:20221006T100000
DTSTAMP:20260421T225821
CREATED:20220902T104404Z
LAST-MODIFIED:20220902T104404Z
UID:21987-1665043200-1665050400@www.hluchak.cz
SUMMARY:Beseda k volbě povolání\, 9.D
DESCRIPTION:Návštěva úřadu práce \nDoprovod: pí uč. Hulíková \n8 -10 hod.
URL:https://www.hluchak.cz/event/beseda-k-volbe-povolani-9-d/
END:VEVENT
BEGIN:VEVENT
DTSTART;TZID=Europe/Prague:20221006T083000
DTEND;TZID=Europe/Prague:20221006T103000
DTSTAMP:20260421T225821
CREATED:20220912T110506Z
LAST-MODIFIED:20220912T110747Z
UID:22135-1665045000-1665052200@www.hluchak.cz
SUMMARY:Studio My dvě
DESCRIPTION:Název:  Na ostří nůžek aneb Příběh z krejčovského salónu \n               na motivy pohádky Císařovy nové šaty od H. Ch. Andersena \ntřída: 2.B\, od 8:30 hod. \nDoprovod: pí uč. Laštuvičková
URL:https://www.hluchak.cz/event/studio-my-dve-3/
END:VEVENT
END:VCALENDAR