BEGIN:VCALENDAR
VERSION:2.0
PRODID:-//Základní škola Šumperk, 8.května - ECPv6.15.11//NONSGML v1.0//EN
CALSCALE:GREGORIAN
METHOD:PUBLISH
X-ORIGINAL-URL:https://www.hluchak.cz
X-WR-CALDESC:Akce na Základní škola Šumperk, 8.května
REFRESH-INTERVAL;VALUE=DURATION:PT1H
X-Robots-Tag:noindex
X-PUBLISHED-TTL:PT1H
BEGIN:VTIMEZONE
TZID:Europe/Prague
BEGIN:DAYLIGHT
TZOFFSETFROM:+0100
TZOFFSETTO:+0200
TZNAME:CEST
DTSTART:20210328T010000
END:DAYLIGHT
BEGIN:STANDARD
TZOFFSETFROM:+0200
TZOFFSETTO:+0100
TZNAME:CET
DTSTART:20211031T010000
END:STANDARD
BEGIN:DAYLIGHT
TZOFFSETFROM:+0100
TZOFFSETTO:+0200
TZNAME:CEST
DTSTART:20220327T010000
END:DAYLIGHT
BEGIN:STANDARD
TZOFFSETFROM:+0200
TZOFFSETTO:+0100
TZNAME:CET
DTSTART:20221030T010000
END:STANDARD
BEGIN:DAYLIGHT
TZOFFSETFROM:+0100
TZOFFSETTO:+0200
TZNAME:CEST
DTSTART:20230326T010000
END:DAYLIGHT
BEGIN:STANDARD
TZOFFSETFROM:+0200
TZOFFSETTO:+0100
TZNAME:CET
DTSTART:20231029T010000
END:STANDARD
END:VTIMEZONE
BEGIN:VEVENT
DTSTART;TZID=Europe/Prague:20220929T153000
DTEND;TZID=Europe/Prague:20220929T163000
DTSTAMP:20260421T225831
CREATED:20220922T064738Z
LAST-MODIFIED:20220922T064738Z
UID:22230-1664465400-1664469000@www.hluchak.cz
SUMMARY:Porada pedagogických pracovníků
DESCRIPTION:Porada před schůzkami ve třídách. \n15.30 – 16.25 hod
URL:https://www.hluchak.cz/event/porada-pedagogickych-pracovniku-10/
END:VEVENT
BEGIN:VEVENT
DTSTART;TZID=Europe/Prague:20220929T163000
DTEND;TZID=Europe/Prague:20220929T173000
DTSTAMP:20260421T225831
CREATED:20220912T061359Z
LAST-MODIFIED:20220912T061359Z
UID:22109-1664469000-1664472600@www.hluchak.cz
SUMMARY:Třídní schůzky
DESCRIPTION:Schůzky rodičů s třídními učitelkami (učiteli) ve třídách. \n16.30 – 17.30 \n 
URL:https://www.hluchak.cz/event/tridni-schuzky-5/
END:VEVENT
END:VCALENDAR