BEGIN:VCALENDAR
VERSION:2.0
PRODID:-//Základní škola Šumperk, 8.května - ECPv6.15.11//NONSGML v1.0//EN
CALSCALE:GREGORIAN
METHOD:PUBLISH
X-ORIGINAL-URL:https://www.hluchak.cz
X-WR-CALDESC:Akce na Základní škola Šumperk, 8.května
REFRESH-INTERVAL;VALUE=DURATION:PT1H
X-Robots-Tag:noindex
X-PUBLISHED-TTL:PT1H
BEGIN:VTIMEZONE
TZID:Europe/Prague
BEGIN:DAYLIGHT
TZOFFSETFROM:+0100
TZOFFSETTO:+0200
TZNAME:CEST
DTSTART:20210328T010000
END:DAYLIGHT
BEGIN:STANDARD
TZOFFSETFROM:+0200
TZOFFSETTO:+0100
TZNAME:CET
DTSTART:20211031T010000
END:STANDARD
BEGIN:DAYLIGHT
TZOFFSETFROM:+0100
TZOFFSETTO:+0200
TZNAME:CEST
DTSTART:20220327T010000
END:DAYLIGHT
BEGIN:STANDARD
TZOFFSETFROM:+0200
TZOFFSETTO:+0100
TZNAME:CET
DTSTART:20221030T010000
END:STANDARD
BEGIN:DAYLIGHT
TZOFFSETFROM:+0100
TZOFFSETTO:+0200
TZNAME:CEST
DTSTART:20230326T010000
END:DAYLIGHT
BEGIN:STANDARD
TZOFFSETFROM:+0200
TZOFFSETTO:+0100
TZNAME:CET
DTSTART:20231029T010000
END:STANDARD
END:VTIMEZONE
BEGIN:VEVENT
DTSTART;VALUE=DATE:20220926
DTEND;VALUE=DATE:20220928
DTSTAMP:20260421T225830
CREATED:20220914T062551Z
LAST-MODIFIED:20220914T062551Z
UID:22155-1664150400-1664323199@www.hluchak.cz
SUMMARY:SEV: Mladoňov\, 4.C
DESCRIPTION:Podzimní pobyt \n26.\, 27. 9.
URL:https://www.hluchak.cz/event/sev-mladonov-4-c/
END:VEVENT
BEGIN:VEVENT
DTSTART;TZID=Europe/Prague:20220927T120000
DTEND;TZID=Europe/Prague:20220927T140000
DTSTAMP:20260421T225830
CREATED:20220919T063332Z
LAST-MODIFIED:20220919T063332Z
UID:22214-1664280000-1664287200@www.hluchak.cz
SUMMARY:Přespolní běh\, okrskové kolo
DESCRIPTION:Vybraní žáci a žákyně \nDoprovod: pan uč. Smolicha \nod 12 hodin
URL:https://www.hluchak.cz/event/prespolni-beh-okrskove-kolo/
END:VEVENT
END:VCALENDAR