BEGIN:VCALENDAR
VERSION:2.0
PRODID:-//Základní škola Šumperk, 8.května - ECPv6.15.11//NONSGML v1.0//EN
CALSCALE:GREGORIAN
METHOD:PUBLISH
X-WR-CALNAME:Základní škola Šumperk, 8.května
X-ORIGINAL-URL:https://www.hluchak.cz
X-WR-CALDESC:Akce na Základní škola Šumperk, 8.května
REFRESH-INTERVAL;VALUE=DURATION:PT1H
X-Robots-Tag:noindex
X-PUBLISHED-TTL:PT1H
BEGIN:VTIMEZONE
TZID:Europe/Prague
BEGIN:DAYLIGHT
TZOFFSETFROM:+0100
TZOFFSETTO:+0200
TZNAME:CEST
DTSTART:20210328T010000
END:DAYLIGHT
BEGIN:STANDARD
TZOFFSETFROM:+0200
TZOFFSETTO:+0100
TZNAME:CET
DTSTART:20211031T010000
END:STANDARD
BEGIN:DAYLIGHT
TZOFFSETFROM:+0100
TZOFFSETTO:+0200
TZNAME:CEST
DTSTART:20220327T010000
END:DAYLIGHT
BEGIN:STANDARD
TZOFFSETFROM:+0200
TZOFFSETTO:+0100
TZNAME:CET
DTSTART:20221030T010000
END:STANDARD
BEGIN:DAYLIGHT
TZOFFSETFROM:+0100
TZOFFSETTO:+0200
TZNAME:CEST
DTSTART:20230326T010000
END:DAYLIGHT
BEGIN:STANDARD
TZOFFSETFROM:+0200
TZOFFSETTO:+0100
TZNAME:CET
DTSTART:20231029T010000
END:STANDARD
END:VTIMEZONE
BEGIN:VEVENT
DTSTART;VALUE=DATE:20220926
DTEND;VALUE=DATE:20220928
DTSTAMP:20260421T225727
CREATED:20220914T062551Z
LAST-MODIFIED:20220914T062551Z
UID:22155-1664150400-1664323199@www.hluchak.cz
SUMMARY:SEV: Mladoňov\, 4.C
DESCRIPTION:Podzimní pobyt \n26.\, 27. 9.
URL:https://www.hluchak.cz/event/sev-mladonov-4-c/
END:VEVENT
BEGIN:VEVENT
DTSTART;TZID=Europe/Prague:20220926T083000
DTEND;TZID=Europe/Prague:20220926T103000
DTSTAMP:20260421T225727
CREATED:20220912T110406Z
LAST-MODIFIED:20220912T110406Z
UID:22133-1664181000-1664188200@www.hluchak.cz
SUMMARY:Studio My dvě
DESCRIPTION:Název:  Na ostří nůžek aneb Příběh z krejčovského salónu \n               na motivy pohádky Císařovy nové šaty od H. Ch. Andersena \ntřída: 2.C\, od 8:30 hod. \nDoprovod: pí uč. Prachařová
URL:https://www.hluchak.cz/event/studio-my-dve-2/
END:VEVENT
BEGIN:VEVENT
DTSTART;TZID=Europe/Prague:20220926T170000
DTEND;TZID=Europe/Prague:20220926T210000
DTSTAMP:20260421T225727
CREATED:20220916T083948Z
LAST-MODIFIED:20220916T083948Z
UID:22206-1664211600-1664226000@www.hluchak.cz
SUMMARY:ŠD: Výlet na večerní návštěvu Bouzova
DESCRIPTION:Žáci 3. tříd – zapsaní ve školní družině. \nVybírá se: 270\,- Kč \nDoprovod: pí vych. Janků a Gabrielová + 2 paní asistentky \n17.00 – 21.00 hod.
URL:https://www.hluchak.cz/event/sd-vylet-na-vecerni-navstevu-bouzova/
END:VEVENT
END:VCALENDAR