BEGIN:VCALENDAR
VERSION:2.0
PRODID:-//Základní škola Šumperk, 8.května - ECPv6.15.11//NONSGML v1.0//EN
CALSCALE:GREGORIAN
METHOD:PUBLISH
X-WR-CALNAME:Základní škola Šumperk, 8.května
X-ORIGINAL-URL:https://www.hluchak.cz
X-WR-CALDESC:Akce na Základní škola Šumperk, 8.května
REFRESH-INTERVAL;VALUE=DURATION:PT1H
X-Robots-Tag:noindex
X-PUBLISHED-TTL:PT1H
BEGIN:VTIMEZONE
TZID:Europe/Prague
BEGIN:DAYLIGHT
TZOFFSETFROM:+0100
TZOFFSETTO:+0200
TZNAME:CEST
DTSTART:20210328T010000
END:DAYLIGHT
BEGIN:STANDARD
TZOFFSETFROM:+0200
TZOFFSETTO:+0100
TZNAME:CET
DTSTART:20211031T010000
END:STANDARD
BEGIN:DAYLIGHT
TZOFFSETFROM:+0100
TZOFFSETTO:+0200
TZNAME:CEST
DTSTART:20220327T010000
END:DAYLIGHT
BEGIN:STANDARD
TZOFFSETFROM:+0200
TZOFFSETTO:+0100
TZNAME:CET
DTSTART:20221030T010000
END:STANDARD
BEGIN:DAYLIGHT
TZOFFSETFROM:+0100
TZOFFSETTO:+0200
TZNAME:CEST
DTSTART:20230326T010000
END:DAYLIGHT
BEGIN:STANDARD
TZOFFSETFROM:+0200
TZOFFSETTO:+0100
TZNAME:CET
DTSTART:20231029T010000
END:STANDARD
END:VTIMEZONE
BEGIN:VEVENT
DTSTART;VALUE=DATE:20220923
DTEND;VALUE=DATE:20220924
DTSTAMP:20260421T225728
CREATED:20220922T070508Z
LAST-MODIFIED:20220922T070508Z
UID:22234-1663891200-1663977599@www.hluchak.cz
SUMMARY:Zeměpisná exkurze\, 9. třídy
DESCRIPTION:Přechod Jeseníků (vlakem na Ramzovou\, zpět z Koutů nad Des.) \nPřihlášení žáci 9. tříd. \nDoprovod: paní učitelky Rutarová a Spillerová\, pan učitel Marošek
URL:https://www.hluchak.cz/event/zemepisna-exkurze-9-tridy-2/
END:VEVENT
BEGIN:VEVENT
DTSTART;TZID=Europe/Prague:20220923T090000
DTEND;TZID=Europe/Prague:20220923T100000
DTSTAMP:20260421T225728
CREATED:20220915T052448Z
LAST-MODIFIED:20220915T052448Z
UID:22180-1663923600-1663927200@www.hluchak.cz
SUMMARY:Návštěva knihovny\, 2.C
DESCRIPTION:
URL:https://www.hluchak.cz/event/navsteva-knihovny-2-c/
END:VEVENT
BEGIN:VEVENT
DTSTART;TZID=Europe/Prague:20220923T100000
DTEND;TZID=Europe/Prague:20220923T110000
DTSTAMP:20260421T225728
CREATED:20220915T053058Z
LAST-MODIFIED:20220915T053058Z
UID:22188-1663927200-1663930800@www.hluchak.cz
SUMMARY:Návštěva knihovny\, 4.C
DESCRIPTION:
URL:https://www.hluchak.cz/event/navsteva-knihovny-4-c-2/
END:VEVENT
BEGIN:VEVENT
DTSTART;TZID=Europe/Prague:20220923T110000
DTEND;TZID=Europe/Prague:20220923T120000
DTSTAMP:20260421T225728
CREATED:20220915T053021Z
LAST-MODIFIED:20220915T053021Z
UID:22186-1663930800-1663934400@www.hluchak.cz
SUMMARY:Návštěva knihovny\, 5.A
DESCRIPTION:
URL:https://www.hluchak.cz/event/navsteva-knihovny-5-a-3/
END:VEVENT
END:VCALENDAR