BEGIN:VCALENDAR
VERSION:2.0
PRODID:-//Základní škola Šumperk, 8.května - ECPv6.15.11//NONSGML v1.0//EN
CALSCALE:GREGORIAN
METHOD:PUBLISH
X-ORIGINAL-URL:https://www.hluchak.cz
X-WR-CALDESC:Akce na Základní škola Šumperk, 8.května
REFRESH-INTERVAL;VALUE=DURATION:PT1H
X-Robots-Tag:noindex
X-PUBLISHED-TTL:PT1H
BEGIN:VTIMEZONE
TZID:Europe/Prague
BEGIN:DAYLIGHT
TZOFFSETFROM:+0100
TZOFFSETTO:+0200
TZNAME:CEST
DTSTART:20210328T010000
END:DAYLIGHT
BEGIN:STANDARD
TZOFFSETFROM:+0200
TZOFFSETTO:+0100
TZNAME:CET
DTSTART:20211031T010000
END:STANDARD
BEGIN:DAYLIGHT
TZOFFSETFROM:+0100
TZOFFSETTO:+0200
TZNAME:CEST
DTSTART:20220327T010000
END:DAYLIGHT
BEGIN:STANDARD
TZOFFSETFROM:+0200
TZOFFSETTO:+0100
TZNAME:CET
DTSTART:20221030T010000
END:STANDARD
BEGIN:DAYLIGHT
TZOFFSETFROM:+0100
TZOFFSETTO:+0200
TZNAME:CEST
DTSTART:20230326T010000
END:DAYLIGHT
BEGIN:STANDARD
TZOFFSETFROM:+0200
TZOFFSETTO:+0100
TZNAME:CET
DTSTART:20231029T010000
END:STANDARD
END:VTIMEZONE
BEGIN:VEVENT
DTSTART;VALUE=DATE:20220920
DTEND;VALUE=DATE:20220921
DTSTAMP:20260421T225831
CREATED:20220916T091320Z
LAST-MODIFIED:20220916T091320Z
UID:22210-1663632000-1663718399@www.hluchak.cz
SUMMARY:Exkurze: Planetárium Ostrava
DESCRIPTION:5. třídy \nDoprovod: pí uč. Zajícová a pí uč. Kolaříková
URL:https://www.hluchak.cz/event/exkurze-planetarium-ostrava/
END:VEVENT
BEGIN:VEVENT
DTSTART;TZID=Europe/Prague:20220920T090000
DTEND;TZID=Europe/Prague:20220920T133000
DTSTAMP:20260421T225831
CREATED:20220919T062957Z
LAST-MODIFIED:20220919T062957Z
UID:22212-1663664400-1663680600@www.hluchak.cz
SUMMARY:Atletický čtyřboj\, okresní kolo
DESCRIPTION:Kategorie mladších i starších žákyň a žáků. \nDoprovod: paní uč. Spillerová a pan uč. Marošek \nZačátek: 9 hodin
URL:https://www.hluchak.cz/event/atleticky-ctyrboj-okresni-kolo/
END:VEVENT
END:VCALENDAR