BEGIN:VCALENDAR
VERSION:2.0
PRODID:-//Základní škola Šumperk, 8.května - ECPv6.15.11//NONSGML v1.0//EN
CALSCALE:GREGORIAN
METHOD:PUBLISH
X-WR-CALNAME:Základní škola Šumperk, 8.května
X-ORIGINAL-URL:https://www.hluchak.cz
X-WR-CALDESC:Akce na Základní škola Šumperk, 8.května
REFRESH-INTERVAL;VALUE=DURATION:PT1H
X-Robots-Tag:noindex
X-PUBLISHED-TTL:PT1H
BEGIN:VTIMEZONE
TZID:Europe/Prague
BEGIN:DAYLIGHT
TZOFFSETFROM:+0100
TZOFFSETTO:+0200
TZNAME:CEST
DTSTART:20210328T010000
END:DAYLIGHT
BEGIN:STANDARD
TZOFFSETFROM:+0200
TZOFFSETTO:+0100
TZNAME:CET
DTSTART:20211031T010000
END:STANDARD
BEGIN:DAYLIGHT
TZOFFSETFROM:+0100
TZOFFSETTO:+0200
TZNAME:CEST
DTSTART:20220327T010000
END:DAYLIGHT
BEGIN:STANDARD
TZOFFSETFROM:+0200
TZOFFSETTO:+0100
TZNAME:CET
DTSTART:20221030T010000
END:STANDARD
BEGIN:DAYLIGHT
TZOFFSETFROM:+0100
TZOFFSETTO:+0200
TZNAME:CEST
DTSTART:20230326T010000
END:DAYLIGHT
BEGIN:STANDARD
TZOFFSETFROM:+0200
TZOFFSETTO:+0100
TZNAME:CET
DTSTART:20231029T010000
END:STANDARD
END:VTIMEZONE
BEGIN:VEVENT
DTSTART;TZID=Europe/Prague:20220907T080000
DTEND;TZID=Europe/Prague:20220907T120000
DTSTAMP:20260421T225728
CREATED:20220906T074031Z
LAST-MODIFIED:20220906T074031Z
UID:21994-1662537600-1662552000@www.hluchak.cz
SUMMARY:Výlet do přírody\, 1. třídy
DESCRIPTION:Doprovod: paní učitelky třídní
URL:https://www.hluchak.cz/event/vylet-do-prirody-1-tridy/
END:VEVENT
BEGIN:VEVENT
DTSTART;TZID=Europe/Prague:20220907T130000
DTEND;TZID=Europe/Prague:20220907T140000
DTSTAMP:20260421T225728
CREATED:20220916T084120Z
LAST-MODIFIED:20220916T084120Z
UID:22208-1662555600-1662559200@www.hluchak.cz
SUMMARY:ŠD: Ukázka správné zubní hygieny
DESCRIPTION:3. oddělení ŠD \n13.00 – 14.00
URL:https://www.hluchak.cz/event/sd-ukazka-spravne-zubni-hygieny/
END:VEVENT
END:VCALENDAR