BEGIN:VCALENDAR
VERSION:2.0
PRODID:-//Základní škola Šumperk, 8.května - ECPv6.15.11//NONSGML v1.0//EN
CALSCALE:GREGORIAN
METHOD:PUBLISH
X-ORIGINAL-URL:https://www.hluchak.cz
X-WR-CALDESC:Akce na Základní škola Šumperk, 8.května
REFRESH-INTERVAL;VALUE=DURATION:PT1H
X-Robots-Tag:noindex
X-PUBLISHED-TTL:PT1H
BEGIN:VTIMEZONE
TZID:Europe/Prague
BEGIN:DAYLIGHT
TZOFFSETFROM:+0100
TZOFFSETTO:+0200
TZNAME:CEST
DTSTART:20210328T010000
END:DAYLIGHT
BEGIN:STANDARD
TZOFFSETFROM:+0200
TZOFFSETTO:+0100
TZNAME:CET
DTSTART:20211031T010000
END:STANDARD
BEGIN:DAYLIGHT
TZOFFSETFROM:+0100
TZOFFSETTO:+0200
TZNAME:CEST
DTSTART:20220327T010000
END:DAYLIGHT
BEGIN:STANDARD
TZOFFSETFROM:+0200
TZOFFSETTO:+0100
TZNAME:CET
DTSTART:20221030T010000
END:STANDARD
BEGIN:DAYLIGHT
TZOFFSETFROM:+0100
TZOFFSETTO:+0200
TZNAME:CEST
DTSTART:20230326T010000
END:DAYLIGHT
BEGIN:STANDARD
TZOFFSETFROM:+0200
TZOFFSETTO:+0100
TZNAME:CET
DTSTART:20231029T010000
END:STANDARD
END:VTIMEZONE
BEGIN:VEVENT
DTSTART;VALUE=DATE:20220606
DTEND;VALUE=DATE:20220611
DTSTAMP:20260422T045651
CREATED:20220304T090158Z
LAST-MODIFIED:20220304T090158Z
UID:20095-1654473600-1654905599@www.hluchak.cz
SUMMARY:Intenzivní jazykový kurz
DESCRIPTION:Severomoravská chata \nVybraní žáci 5.\, 6. tříd.
URL:https://www.hluchak.cz/event/intenzivni-jazykovy-kurz/
END:VEVENT
BEGIN:VEVENT
DTSTART;TZID=Europe/Prague:20220609T123000
DTEND;TZID=Europe/Prague:20220609T160000
DTSTAMP:20260422T045651
CREATED:20220425T105608Z
LAST-MODIFIED:20220520T103518Z
UID:20680-1654777800-1654790400@www.hluchak.cz
SUMMARY:ŠD: Dopravní hřiště
DESCRIPTION:Mohelnice \n12.45 – 16.00 \n1. třídy \ncena: 150\,- Kč
URL:https://www.hluchak.cz/event/sd-dopravni-hriste-4/
END:VEVENT
END:VCALENDAR