BEGIN:VCALENDAR
VERSION:2.0
PRODID:-//Základní škola Šumperk, 8.května - ECPv6.15.11//NONSGML v1.0//EN
CALSCALE:GREGORIAN
METHOD:PUBLISH
X-ORIGINAL-URL:https://www.hluchak.cz
X-WR-CALDESC:Akce na Základní škola Šumperk, 8.května
REFRESH-INTERVAL;VALUE=DURATION:PT1H
X-Robots-Tag:noindex
X-PUBLISHED-TTL:PT1H
BEGIN:VTIMEZONE
TZID:Europe/Prague
BEGIN:DAYLIGHT
TZOFFSETFROM:+0100
TZOFFSETTO:+0200
TZNAME:CEST
DTSTART:20210328T010000
END:DAYLIGHT
BEGIN:STANDARD
TZOFFSETFROM:+0200
TZOFFSETTO:+0100
TZNAME:CET
DTSTART:20211031T010000
END:STANDARD
BEGIN:DAYLIGHT
TZOFFSETFROM:+0100
TZOFFSETTO:+0200
TZNAME:CEST
DTSTART:20220327T010000
END:DAYLIGHT
BEGIN:STANDARD
TZOFFSETFROM:+0200
TZOFFSETTO:+0100
TZNAME:CET
DTSTART:20221030T010000
END:STANDARD
BEGIN:DAYLIGHT
TZOFFSETFROM:+0100
TZOFFSETTO:+0200
TZNAME:CEST
DTSTART:20230326T010000
END:DAYLIGHT
BEGIN:STANDARD
TZOFFSETFROM:+0200
TZOFFSETTO:+0100
TZNAME:CET
DTSTART:20231029T010000
END:STANDARD
END:VTIMEZONE
BEGIN:VEVENT
DTSTART;TZID=Europe/Prague:20220516T080000
DTEND;TZID=Europe/Prague:20220520T140000
DTSTAMP:20260422T072425
CREATED:20220510T073801Z
LAST-MODIFIED:20220510T074216Z
UID:20881-1652688000-1653055200@www.hluchak.cz
SUMMARY:Týden sběru starého papíru
DESCRIPTION:16. – 20. 5. 2022 \nKontejner u školy \nDozory zajistí služby žáků 9. A \nDoby sběru: pondělí    16.5.                —-                             13.00 – 15.30 \n                           úterý        17.5.         7.00 – 7.55                     13.00 – 15.30 \n                           středa      18.5.         7.00 – 7.55                     13.00 – 15.30 \n                           čtvrtek    19.5.          7.00 – 7.55                     13.00 – 15.30 \n                           pátek      20.5.           7.00 – 7.55                                — \n  \nCo sbíráme: \n                   noviny\, letáky\, časopisy\, knihy bez deskové vazby\, knihy s měkkou vazbou\, použitý kancelářský odpad\, \n                  kancelářský papír\, tiskopisy\, použité sešity \nNesmí obsahovat: \n                 fólie\, jiné plasty\, kovové součástky (např. kovové zakladače v šanonech)\, role (tzv. dutinky) ze šedé papírové lepenky a deskové hřbety knih. \n 
URL:https://www.hluchak.cz/event/tyden-sberu-stareho-papiru-5/
END:VEVENT
BEGIN:VEVENT
DTSTART;VALUE=DATE:20220519
DTEND;VALUE=DATE:20220520
DTSTAMP:20260422T072425
CREATED:20220420T132132Z
LAST-MODIFIED:20220420T132132Z
UID:20537-1652918400-1653004799@www.hluchak.cz
SUMMARY:Divadlo Olomouc\, I. stupeň
DESCRIPTION:Návštěva muzikálu \,\, Koloběžka první“ \ncena : 60\,- Kč  + doprava autobusem \nPojedou žáci celého prvního stupně za doprovodu svých pí učitelek třídních a pí asistentek. \nOdjezd od školy v 8.30 hod. \nSvačinky budou odhlášeny\, obědy žáci stihnou po příjezdu kolem 11.45 hod.
URL:https://www.hluchak.cz/event/divadlo-olomouc-i-stupen/
END:VEVENT
BEGIN:VEVENT
DTSTART;TZID=Europe/Prague:20220519T153000
DTEND;TZID=Europe/Prague:20220519T163000
DTSTAMP:20260422T072425
CREATED:20220513T075550Z
LAST-MODIFIED:20220513T075550Z
UID:21009-1652974200-1652977800@www.hluchak.cz
SUMMARY:Porada pdg. pracovníků
DESCRIPTION:ve sborovně \n15.30 – 16.30
URL:https://www.hluchak.cz/event/porada-pdg-pracovniku/
END:VEVENT
BEGIN:VEVENT
DTSTART;TZID=Europe/Prague:20220519T163000
DTEND;TZID=Europe/Prague:20220519T183000
DTSTAMP:20260422T072425
CREATED:20210913T052536Z
LAST-MODIFIED:20210913T052536Z
UID:18428-1652977800-1652985000@www.hluchak.cz
SUMMARY:Konzultační den
DESCRIPTION:Pedagogičtí pracovníci ve třídách a kabinetech
URL:https://www.hluchak.cz/event/konzultacni-den-9/
END:VEVENT
BEGIN:VEVENT
DTSTART;TZID=Europe/Prague:20220519T163000
DTEND;TZID=Europe/Prague:20220519T183000
DTSTAMP:20260422T072425
CREATED:20220505T103404Z
LAST-MODIFIED:20220505T103404Z
UID:20808-1652977800-1652985000@www.hluchak.cz
SUMMARY:Konzultační den
DESCRIPTION:Ve čtvrtek 19.5. 2022 se koná konzultační den rodičů s vyučujícími. Ti budou ve třídách\, někteří ve sborovně a v jednotlivých kabinetech podle rozpisu. \nČas: 16.30 – 18.30 hod.
URL:https://www.hluchak.cz/event/konzultacni-den-7/
END:VEVENT
END:VCALENDAR