BEGIN:VCALENDAR
VERSION:2.0
PRODID:-//Základní škola Šumperk, 8.května - ECPv6.15.11//NONSGML v1.0//EN
CALSCALE:GREGORIAN
METHOD:PUBLISH
X-ORIGINAL-URL:https://www.hluchak.cz
X-WR-CALDESC:Akce na Základní škola Šumperk, 8.května
REFRESH-INTERVAL;VALUE=DURATION:PT1H
X-Robots-Tag:noindex
X-PUBLISHED-TTL:PT1H
BEGIN:VTIMEZONE
TZID:Europe/Prague
BEGIN:DAYLIGHT
TZOFFSETFROM:+0100
TZOFFSETTO:+0200
TZNAME:CEST
DTSTART:20210328T010000
END:DAYLIGHT
BEGIN:STANDARD
TZOFFSETFROM:+0200
TZOFFSETTO:+0100
TZNAME:CET
DTSTART:20211031T010000
END:STANDARD
BEGIN:DAYLIGHT
TZOFFSETFROM:+0100
TZOFFSETTO:+0200
TZNAME:CEST
DTSTART:20220327T010000
END:DAYLIGHT
BEGIN:STANDARD
TZOFFSETFROM:+0200
TZOFFSETTO:+0100
TZNAME:CET
DTSTART:20221030T010000
END:STANDARD
BEGIN:DAYLIGHT
TZOFFSETFROM:+0100
TZOFFSETTO:+0200
TZNAME:CEST
DTSTART:20230326T010000
END:DAYLIGHT
BEGIN:STANDARD
TZOFFSETFROM:+0200
TZOFFSETTO:+0100
TZNAME:CET
DTSTART:20231029T010000
END:STANDARD
END:VTIMEZONE
BEGIN:VEVENT
DTSTART;TZID=Europe/Prague:20220516T080000
DTEND;TZID=Europe/Prague:20220520T140000
DTSTAMP:20260422T072424
CREATED:20220510T073801Z
LAST-MODIFIED:20220510T074216Z
UID:20881-1652688000-1653055200@www.hluchak.cz
SUMMARY:Týden sběru starého papíru
DESCRIPTION:16. – 20. 5. 2022 \nKontejner u školy \nDozory zajistí služby žáků 9. A \nDoby sběru: pondělí    16.5.                —-                             13.00 – 15.30 \n                           úterý        17.5.         7.00 – 7.55                     13.00 – 15.30 \n                           středa      18.5.         7.00 – 7.55                     13.00 – 15.30 \n                           čtvrtek    19.5.          7.00 – 7.55                     13.00 – 15.30 \n                           pátek      20.5.           7.00 – 7.55                                — \n  \nCo sbíráme: \n                   noviny\, letáky\, časopisy\, knihy bez deskové vazby\, knihy s měkkou vazbou\, použitý kancelářský odpad\, \n                  kancelářský papír\, tiskopisy\, použité sešity \nNesmí obsahovat: \n                 fólie\, jiné plasty\, kovové součástky (např. kovové zakladače v šanonech)\, role (tzv. dutinky) ze šedé papírové lepenky a deskové hřbety knih. \n 
URL:https://www.hluchak.cz/event/tyden-sberu-stareho-papiru-5/
END:VEVENT
BEGIN:VEVENT
DTSTART;TZID=Europe/Prague:20220518T120000
DTEND;TZID=Europe/Prague:20220518T133000
DTSTAMP:20260422T072424
CREATED:20220503T072253Z
LAST-MODIFIED:20220503T072253Z
UID:20795-1652875200-1652880600@www.hluchak.cz
SUMMARY:Golf\, 7.A a 7.B
DESCRIPTION:11:00 – 12:30\, odchod v 10.15 a příchod na oběd
URL:https://www.hluchak.cz/event/golf-7-a-a-7-b/
END:VEVENT
BEGIN:VEVENT
DTSTART;TZID=Europe/Prague:20220518T120000
DTEND;TZID=Europe/Prague:20220518T150000
DTSTAMP:20260422T072424
CREATED:20220503T072440Z
LAST-MODIFIED:20220503T072440Z
UID:20797-1652875200-1652886000@www.hluchak.cz
SUMMARY:Golf\, 8.B a 8.D
DESCRIPTION:13:00 – 14:30\, oběd v 5. hodině\, rozchod od školy
URL:https://www.hluchak.cz/event/golf-8-b-a-8-d/
END:VEVENT
END:VCALENDAR