BEGIN:VCALENDAR
VERSION:2.0
PRODID:-//Základní škola Šumperk, 8.května - ECPv6.15.11//NONSGML v1.0//EN
CALSCALE:GREGORIAN
METHOD:PUBLISH
X-ORIGINAL-URL:https://www.hluchak.cz
X-WR-CALDESC:Akce na Základní škola Šumperk, 8.května
REFRESH-INTERVAL;VALUE=DURATION:PT1H
X-Robots-Tag:noindex
X-PUBLISHED-TTL:PT1H
BEGIN:VTIMEZONE
TZID:Europe/Prague
BEGIN:DAYLIGHT
TZOFFSETFROM:+0100
TZOFFSETTO:+0200
TZNAME:CEST
DTSTART:20210328T010000
END:DAYLIGHT
BEGIN:STANDARD
TZOFFSETFROM:+0200
TZOFFSETTO:+0100
TZNAME:CET
DTSTART:20211031T010000
END:STANDARD
BEGIN:DAYLIGHT
TZOFFSETFROM:+0100
TZOFFSETTO:+0200
TZNAME:CEST
DTSTART:20220327T010000
END:DAYLIGHT
BEGIN:STANDARD
TZOFFSETFROM:+0200
TZOFFSETTO:+0100
TZNAME:CET
DTSTART:20221030T010000
END:STANDARD
BEGIN:DAYLIGHT
TZOFFSETFROM:+0100
TZOFFSETTO:+0200
TZNAME:CEST
DTSTART:20230326T010000
END:DAYLIGHT
BEGIN:STANDARD
TZOFFSETFROM:+0200
TZOFFSETTO:+0100
TZNAME:CET
DTSTART:20231029T010000
END:STANDARD
END:VTIMEZONE
BEGIN:VEVENT
DTSTART;TZID=Europe/Prague:20220516T080000
DTEND;TZID=Europe/Prague:20220520T140000
DTSTAMP:20260422T072428
CREATED:20220510T073801Z
LAST-MODIFIED:20220510T074216Z
UID:20881-1652688000-1653055200@www.hluchak.cz
SUMMARY:Týden sběru starého papíru
DESCRIPTION:16. – 20. 5. 2022 \nKontejner u školy \nDozory zajistí služby žáků 9. A \nDoby sběru: pondělí    16.5.                —-                             13.00 – 15.30 \n                           úterý        17.5.         7.00 – 7.55                     13.00 – 15.30 \n                           středa      18.5.         7.00 – 7.55                     13.00 – 15.30 \n                           čtvrtek    19.5.          7.00 – 7.55                     13.00 – 15.30 \n                           pátek      20.5.           7.00 – 7.55                                — \n  \nCo sbíráme: \n                   noviny\, letáky\, časopisy\, knihy bez deskové vazby\, knihy s měkkou vazbou\, použitý kancelářský odpad\, \n                  kancelářský papír\, tiskopisy\, použité sešity \nNesmí obsahovat: \n                 fólie\, jiné plasty\, kovové součástky (např. kovové zakladače v šanonech)\, role (tzv. dutinky) ze šedé papírové lepenky a deskové hřbety knih. \n 
URL:https://www.hluchak.cz/event/tyden-sberu-stareho-papiru-5/
END:VEVENT
BEGIN:VEVENT
DTSTART;VALUE=DATE:20220517
DTEND;VALUE=DATE:20220518
DTSTAMP:20260422T072428
CREATED:20220516T084612Z
LAST-MODIFIED:20220516T084612Z
UID:21090-1652745600-1652831999@www.hluchak.cz
SUMMARY:Výlet 9.B
DESCRIPTION:Praha
URL:https://www.hluchak.cz/event/vylet-9-b-2/
END:VEVENT
BEGIN:VEVENT
DTSTART;TZID=Europe/Prague:20220517T070000
DTEND;TZID=Europe/Prague:20220517T180000
DTSTAMP:20260422T072428
CREATED:20220516T084533Z
LAST-MODIFIED:20220516T084533Z
UID:21088-1652770800-1652810400@www.hluchak.cz
SUMMARY:Výlet 5.A a 5.B
DESCRIPTION:Ostrava \nPlanetárium a Ostrava \n7.00 – 18.00 hod.
URL:https://www.hluchak.cz/event/vylet-5-a-a-5-b/
END:VEVENT
BEGIN:VEVENT
DTSTART;TZID=Europe/Prague:20220517T133000
DTEND;TZID=Europe/Prague:20220517T143000
DTSTAMP:20260422T072428
CREATED:20220428T061935Z
LAST-MODIFIED:20220428T061935Z
UID:20712-1652794200-1652797800@www.hluchak.cz
SUMMARY:ŠD: Švihadlová princezna\, 1. třídy
DESCRIPTION:13.30 – 14.30   podle počasí v tělocvičně nebo na hřišti
URL:https://www.hluchak.cz/event/sd-svihadlova-princezna-1-tridy/
END:VEVENT
END:VCALENDAR