BEGIN:VCALENDAR
VERSION:2.0
PRODID:-//Základní škola Šumperk, 8.května - ECPv6.15.11//NONSGML v1.0//EN
CALSCALE:GREGORIAN
METHOD:PUBLISH
X-WR-CALNAME:Základní škola Šumperk, 8.května
X-ORIGINAL-URL:https://www.hluchak.cz
X-WR-CALDESC:Akce na Základní škola Šumperk, 8.května
REFRESH-INTERVAL;VALUE=DURATION:PT1H
X-Robots-Tag:noindex
X-PUBLISHED-TTL:PT1H
BEGIN:VTIMEZONE
TZID:Europe/Prague
BEGIN:DAYLIGHT
TZOFFSETFROM:+0100
TZOFFSETTO:+0200
TZNAME:CEST
DTSTART:20210328T010000
END:DAYLIGHT
BEGIN:STANDARD
TZOFFSETFROM:+0200
TZOFFSETTO:+0100
TZNAME:CET
DTSTART:20211031T010000
END:STANDARD
BEGIN:DAYLIGHT
TZOFFSETFROM:+0100
TZOFFSETTO:+0200
TZNAME:CEST
DTSTART:20220327T010000
END:DAYLIGHT
BEGIN:STANDARD
TZOFFSETFROM:+0200
TZOFFSETTO:+0100
TZNAME:CET
DTSTART:20221030T010000
END:STANDARD
BEGIN:DAYLIGHT
TZOFFSETFROM:+0100
TZOFFSETTO:+0200
TZNAME:CEST
DTSTART:20230326T010000
END:DAYLIGHT
BEGIN:STANDARD
TZOFFSETFROM:+0200
TZOFFSETTO:+0100
TZNAME:CET
DTSTART:20231029T010000
END:STANDARD
END:VTIMEZONE
BEGIN:VEVENT
DTSTART;VALUE=DATE:20220510
DTEND;VALUE=DATE:20220512
DTSTAMP:20260422T072429
CREATED:20210914T132817Z
LAST-MODIFIED:20210914T132817Z
UID:18487-1652140800-1652313599@www.hluchak.cz
SUMMARY:PZ: náhradní termíny
DESCRIPTION:1. 10.5. \n2. 11.5.
URL:https://www.hluchak.cz/event/pz-nahradni-terminy/
END:VEVENT
BEGIN:VEVENT
DTSTART;TZID=Europe/Prague:20220511T100000
DTEND;TZID=Europe/Prague:20220511T133000
DTSTAMP:20260422T072429
CREATED:20220503T071132Z
LAST-MODIFIED:20220503T071132Z
UID:20785-1652263200-1652275800@www.hluchak.cz
SUMMARY:Golf\, 6.B a 9.B
DESCRIPTION:11:00 – 12:30\, v 10.15 odchod od školy\, příchod na oběd
URL:https://www.hluchak.cz/event/golf-6-b-a-9-b/
END:VEVENT
BEGIN:VEVENT
DTSTART;TZID=Europe/Prague:20220511T123000
DTEND;TZID=Europe/Prague:20220511T143000
DTSTAMP:20260422T072429
CREATED:20220503T071442Z
LAST-MODIFIED:20220503T071442Z
UID:20787-1652272200-1652279400@www.hluchak.cz
SUMMARY:Golf\, 9.A a 9.C
DESCRIPTION:13:00 – 14:30\, oběd v 5. hodině\, příchod ke škole a rozchod
URL:https://www.hluchak.cz/event/golf-9-a-a-9-c/
END:VEVENT
END:VCALENDAR