BEGIN:VCALENDAR
VERSION:2.0
PRODID:-//Základní škola Šumperk, 8.května - ECPv6.15.11//NONSGML v1.0//EN
CALSCALE:GREGORIAN
METHOD:PUBLISH
X-ORIGINAL-URL:https://www.hluchak.cz
X-WR-CALDESC:Akce na Základní škola Šumperk, 8.května
REFRESH-INTERVAL;VALUE=DURATION:PT1H
X-Robots-Tag:noindex
X-PUBLISHED-TTL:PT1H
BEGIN:VTIMEZONE
TZID:Europe/Prague
BEGIN:DAYLIGHT
TZOFFSETFROM:+0100
TZOFFSETTO:+0200
TZNAME:CEST
DTSTART:20210328T010000
END:DAYLIGHT
BEGIN:STANDARD
TZOFFSETFROM:+0200
TZOFFSETTO:+0100
TZNAME:CET
DTSTART:20211031T010000
END:STANDARD
BEGIN:DAYLIGHT
TZOFFSETFROM:+0100
TZOFFSETTO:+0200
TZNAME:CEST
DTSTART:20220327T010000
END:DAYLIGHT
BEGIN:STANDARD
TZOFFSETFROM:+0200
TZOFFSETTO:+0100
TZNAME:CET
DTSTART:20221030T010000
END:STANDARD
BEGIN:DAYLIGHT
TZOFFSETFROM:+0100
TZOFFSETTO:+0200
TZNAME:CEST
DTSTART:20230326T010000
END:DAYLIGHT
BEGIN:STANDARD
TZOFFSETFROM:+0200
TZOFFSETTO:+0100
TZNAME:CET
DTSTART:20231029T010000
END:STANDARD
END:VTIMEZONE
BEGIN:VEVENT
DTSTART;TZID=Europe/Prague:20220505T080000
DTEND;TZID=Europe/Prague:20220505T114000
DTSTAMP:20260422T072427
CREATED:20220408T101221Z
LAST-MODIFIED:20220408T101221Z
UID:20511-1651737600-1651750800@www.hluchak.cz
SUMMARY:Přednášky: KPPŠ\, 9.C\, 9.A
DESCRIPTION:Téma: Rizikové sexuální chování \n9.C    1.\, 2. hod. \n9.A   3.\, 4. hod. \nDohled:  vyučující
URL:https://www.hluchak.cz/event/prednasky-kpps-9-c-9-a/
END:VEVENT
BEGIN:VEVENT
DTSTART;TZID=Europe/Prague:20220505T080000
DTEND;TZID=Europe/Prague:20220505T130000
DTSTAMP:20260422T072427
CREATED:20220425T091351Z
LAST-MODIFIED:20220425T091351Z
UID:20667-1651737600-1651755600@www.hluchak.cz
SUMMARY:Pohár ROZHLASU
DESCRIPTION:Soutěž družstev a jednotlivců v atletice \nTyršův stadion \nDoprovod: pí uč. Spillerová a pan uč. Marošek \n 
URL:https://www.hluchak.cz/event/pohar-rozhlasu-2/
END:VEVENT
BEGIN:VEVENT
DTSTART;TZID=Europe/Prague:20220505T100000
DTEND;TZID=Europe/Prague:20220505T110000
DTSTAMP:20260422T072427
CREATED:20220426T103953Z
LAST-MODIFIED:20220426T103953Z
UID:20698-1651744800-1651748400@www.hluchak.cz
SUMMARY:Návštěva muzea\, 1.C
DESCRIPTION:ARCHEOLOGIE \nv 10 hodin
URL:https://www.hluchak.cz/event/navsteva-muzea-1-c/
END:VEVENT
END:VCALENDAR