BEGIN:VCALENDAR
VERSION:2.0
PRODID:-//Základní škola Šumperk, 8.května - ECPv6.15.11//NONSGML v1.0//EN
CALSCALE:GREGORIAN
METHOD:PUBLISH
X-WR-CALNAME:Základní škola Šumperk, 8.května
X-ORIGINAL-URL:https://www.hluchak.cz
X-WR-CALDESC:Akce na Základní škola Šumperk, 8.května
REFRESH-INTERVAL;VALUE=DURATION:PT1H
X-Robots-Tag:noindex
X-PUBLISHED-TTL:PT1H
BEGIN:VTIMEZONE
TZID:Europe/Prague
BEGIN:DAYLIGHT
TZOFFSETFROM:+0100
TZOFFSETTO:+0200
TZNAME:CEST
DTSTART:20210328T010000
END:DAYLIGHT
BEGIN:STANDARD
TZOFFSETFROM:+0200
TZOFFSETTO:+0100
TZNAME:CET
DTSTART:20211031T010000
END:STANDARD
BEGIN:DAYLIGHT
TZOFFSETFROM:+0100
TZOFFSETTO:+0200
TZNAME:CEST
DTSTART:20220327T010000
END:DAYLIGHT
BEGIN:STANDARD
TZOFFSETFROM:+0200
TZOFFSETTO:+0100
TZNAME:CET
DTSTART:20221030T010000
END:STANDARD
BEGIN:DAYLIGHT
TZOFFSETFROM:+0100
TZOFFSETTO:+0200
TZNAME:CEST
DTSTART:20230326T010000
END:DAYLIGHT
BEGIN:STANDARD
TZOFFSETFROM:+0200
TZOFFSETTO:+0100
TZNAME:CET
DTSTART:20231029T010000
END:STANDARD
END:VTIMEZONE
BEGIN:VEVENT
DTSTART;TZID=Europe/Prague:20220428T080000
DTEND;TZID=Europe/Prague:20220428T130000
DTSTAMP:20260422T084207
CREATED:20220421T093539Z
LAST-MODIFIED:20220421T093539Z
UID:20541-1651132800-1651150800@www.hluchak.cz
SUMMARY:Vybíjená\, otevřená kategorie\, 4.\,5. třída
DESCRIPTION:u nás v tělocvičně
URL:https://www.hluchak.cz/event/vybijena-otevrena-kategorie-4-5-trida/
END:VEVENT
BEGIN:VEVENT
DTSTART;TZID=Europe/Prague:20220428T080000
DTEND;TZID=Europe/Prague:20220428T140000
DTSTAMP:20260422T084207
CREATED:20220411T060841Z
LAST-MODIFIED:20220427T104144Z
UID:20519-1651132800-1651154400@www.hluchak.cz
SUMMARY:McDonald´s Cup\, okrskové kolo
DESCRIPTION:družstvo 5+1\, na soupisce max. 12 žáků \n  \nTyršův stadion \nDoprovod: pí asistentka Sládková
URL:https://www.hluchak.cz/event/mcdonalds-cup-okrskove-kolo/
END:VEVENT
END:VCALENDAR