BEGIN:VCALENDAR
VERSION:2.0
PRODID:-//Základní škola Šumperk, 8.května - ECPv6.15.11//NONSGML v1.0//EN
CALSCALE:GREGORIAN
METHOD:PUBLISH
X-ORIGINAL-URL:https://www.hluchak.cz
X-WR-CALDESC:Akce na Základní škola Šumperk, 8.května
REFRESH-INTERVAL;VALUE=DURATION:PT1H
X-Robots-Tag:noindex
X-PUBLISHED-TTL:PT1H
BEGIN:VTIMEZONE
TZID:Europe/Prague
BEGIN:DAYLIGHT
TZOFFSETFROM:+0100
TZOFFSETTO:+0200
TZNAME:CEST
DTSTART:20210328T010000
END:DAYLIGHT
BEGIN:STANDARD
TZOFFSETFROM:+0200
TZOFFSETTO:+0100
TZNAME:CET
DTSTART:20211031T010000
END:STANDARD
BEGIN:DAYLIGHT
TZOFFSETFROM:+0100
TZOFFSETTO:+0200
TZNAME:CEST
DTSTART:20220327T010000
END:DAYLIGHT
BEGIN:STANDARD
TZOFFSETFROM:+0200
TZOFFSETTO:+0100
TZNAME:CET
DTSTART:20221030T010000
END:STANDARD
BEGIN:DAYLIGHT
TZOFFSETFROM:+0100
TZOFFSETTO:+0200
TZNAME:CEST
DTSTART:20230326T010000
END:DAYLIGHT
BEGIN:STANDARD
TZOFFSETFROM:+0200
TZOFFSETTO:+0100
TZNAME:CET
DTSTART:20231029T010000
END:STANDARD
END:VTIMEZONE
BEGIN:VEVENT
DTSTART;VALUE=DATE:20220412
DTEND;VALUE=DATE:20220414
DTSTAMP:20260422T095704
CREATED:20210914T131629Z
LAST-MODIFIED:20210914T131629Z
UID:18483-1649721600-1649894399@www.hluchak.cz
SUMMARY:Jednotné přijímací zkoušky
DESCRIPTION:Čtyřleté obory a nástavbová studia
URL:https://www.hluchak.cz/event/jednotne-prijimaci-zkousky/
END:VEVENT
BEGIN:VEVENT
DTSTART;TZID=Europe/Prague:20220413T080000
DTEND;TZID=Europe/Prague:20220413T114000
DTSTAMP:20260422T095704
CREATED:20220408T100516Z
LAST-MODIFIED:20220408T100516Z
UID:20504-1649836800-1649850000@www.hluchak.cz
SUMMARY:Přednáška KPPŠ: 7.C\, 7.D
DESCRIPTION:Téma: Kyberšikana \n7.C    1.\, 2. hod. \n7.D   3.\, 4. hod. \nDohled:  vyučující
URL:https://www.hluchak.cz/event/prednaska-kpps-7-c-7-d/
END:VEVENT
BEGIN:VEVENT
DTSTART;TZID=Europe/Prague:20220413T141500
DTEND;TZID=Europe/Prague:20220413T160000
DTSTAMP:20260422T095704
CREATED:20210914T124825Z
LAST-MODIFIED:20210914T124825Z
UID:18461-1649859300-1649865600@www.hluchak.cz
SUMMARY:4. pedagogická rada
DESCRIPTION:ve sborovně školy \npro všechny pedagogické pracovníky
URL:https://www.hluchak.cz/event/4-pedagogicka-rada-2/
END:VEVENT
BEGIN:VEVENT
DTSTART;TZID=Europe/Prague:20220413T160000
DTEND;TZID=Europe/Prague:20220413T180000
DTSTAMP:20260422T095704
CREATED:20220404T111224Z
LAST-MODIFIED:20220404T111224Z
UID:20358-1649865600-1649872800@www.hluchak.cz
SUMMARY:Velikonoční dílny
DESCRIPTION:Pro děti\, rodiče i prarodiče \n16.00 – 18.00 v jídelně školy \nvstupné: 100\,- kč (bude použito na zakoupení výtvarného materiálu)
URL:https://www.hluchak.cz/event/velikonocni-dilny/
END:VEVENT
END:VCALENDAR