BEGIN:VCALENDAR
VERSION:2.0
PRODID:-//Základní škola Šumperk, 8.května - ECPv6.15.11//NONSGML v1.0//EN
CALSCALE:GREGORIAN
METHOD:PUBLISH
X-WR-CALNAME:Základní škola Šumperk, 8.května
X-ORIGINAL-URL:https://www.hluchak.cz
X-WR-CALDESC:Akce na Základní škola Šumperk, 8.května
REFRESH-INTERVAL;VALUE=DURATION:PT1H
X-Robots-Tag:noindex
X-PUBLISHED-TTL:PT1H
BEGIN:VTIMEZONE
TZID:Europe/Prague
BEGIN:DAYLIGHT
TZOFFSETFROM:+0100
TZOFFSETTO:+0200
TZNAME:CEST
DTSTART:20210328T010000
END:DAYLIGHT
BEGIN:STANDARD
TZOFFSETFROM:+0200
TZOFFSETTO:+0100
TZNAME:CET
DTSTART:20211031T010000
END:STANDARD
BEGIN:DAYLIGHT
TZOFFSETFROM:+0100
TZOFFSETTO:+0200
TZNAME:CEST
DTSTART:20220327T010000
END:DAYLIGHT
BEGIN:STANDARD
TZOFFSETFROM:+0200
TZOFFSETTO:+0100
TZNAME:CET
DTSTART:20221030T010000
END:STANDARD
BEGIN:DAYLIGHT
TZOFFSETFROM:+0100
TZOFFSETTO:+0200
TZNAME:CEST
DTSTART:20230326T010000
END:DAYLIGHT
BEGIN:STANDARD
TZOFFSETFROM:+0200
TZOFFSETTO:+0100
TZNAME:CET
DTSTART:20231029T010000
END:STANDARD
END:VTIMEZONE
BEGIN:VEVENT
DTSTART;TZID=Europe/Prague:20220404T080000
DTEND;TZID=Europe/Prague:20220408T150000
DTSTAMP:20260422T095709
CREATED:20220325T101543Z
LAST-MODIFIED:20220325T101543Z
UID:20323-1649059200-1649430000@www.hluchak.cz
SUMMARY:Ukliďme Česko
DESCRIPTION:
URL:https://www.hluchak.cz/event/uklidme-cesko/
CATEGORIES:Akce
END:VEVENT
BEGIN:VEVENT
DTSTART;TZID=Europe/Prague:20220408T080000
DTEND;TZID=Europe/Prague:20220408T170000
DTSTAMP:20260422T095709
CREATED:20220401T070950Z
LAST-MODIFIED:20220401T101646Z
UID:20345-1649404800-1649437200@www.hluchak.cz
SUMMARY:Recitační soutěž - krajské kolo\, Olomouc
DESCRIPTION:Lysák Jonáš\, 5.B \nHolzerová Natálie\, 7.B \nŠevčík Jakub Lukáš\, 8.A \nDoprovod: pí uč. Kösslerová
URL:https://www.hluchak.cz/event/recitacni-soutez-krajske-kolo-olomouc/
CATEGORIES:Akce
END:VEVENT
BEGIN:VEVENT
DTSTART;TZID=Europe/Prague:20220408T160000
DTEND;TZID=Europe/Prague:20220408T170000
DTSTAMP:20260422T095709
CREATED:20220404T112117Z
LAST-MODIFIED:20220404T112117Z
UID:20362-1649433600-1649437200@www.hluchak.cz
SUMMARY:Zakončení akce: Ukliďme Česko
DESCRIPTION:Školní zahrada. \nPro dobrovolníky máme v pátek od 16:00 na zahradě odměnu: \n\nZajistíme občerstvení a zábavu (pití\, kečup a hořčici zajistíme)\nDěti si přinesou špekáček a pečivo\n\n 
URL:https://www.hluchak.cz/event/zakonceni-akce-uklidme-cesko/
END:VEVENT
END:VCALENDAR