BEGIN:VCALENDAR
VERSION:2.0
PRODID:-//Základní škola Šumperk, 8.května - ECPv6.15.11//NONSGML v1.0//EN
CALSCALE:GREGORIAN
METHOD:PUBLISH
X-ORIGINAL-URL:https://www.hluchak.cz
X-WR-CALDESC:Akce na Základní škola Šumperk, 8.května
REFRESH-INTERVAL;VALUE=DURATION:PT1H
X-Robots-Tag:noindex
X-PUBLISHED-TTL:PT1H
BEGIN:VTIMEZONE
TZID:Europe/Prague
BEGIN:DAYLIGHT
TZOFFSETFROM:+0100
TZOFFSETTO:+0200
TZNAME:CEST
DTSTART:20210328T010000
END:DAYLIGHT
BEGIN:STANDARD
TZOFFSETFROM:+0200
TZOFFSETTO:+0100
TZNAME:CET
DTSTART:20211031T010000
END:STANDARD
BEGIN:DAYLIGHT
TZOFFSETFROM:+0100
TZOFFSETTO:+0200
TZNAME:CEST
DTSTART:20220327T010000
END:DAYLIGHT
BEGIN:STANDARD
TZOFFSETFROM:+0200
TZOFFSETTO:+0100
TZNAME:CET
DTSTART:20221030T010000
END:STANDARD
BEGIN:DAYLIGHT
TZOFFSETFROM:+0100
TZOFFSETTO:+0200
TZNAME:CEST
DTSTART:20230326T010000
END:DAYLIGHT
BEGIN:STANDARD
TZOFFSETFROM:+0200
TZOFFSETTO:+0100
TZNAME:CET
DTSTART:20231029T010000
END:STANDARD
END:VTIMEZONE
BEGIN:VEVENT
DTSTART;VALUE=DATE:20220202
DTEND;VALUE=DATE:20220203
DTSTAMP:20260422T124555
CREATED:20220131T093031Z
LAST-MODIFIED:20220131T093107Z
UID:19660-1643760000-1643846399@www.hluchak.cz
SUMMARY:Návštěva divadla \,\,My dvě"\, 3.A
DESCRIPTION:Doprovod: pí uč. Skývová
URL:https://www.hluchak.cz/event/navsteva-divadla-my-dve-2-a-2/
END:VEVENT
BEGIN:VEVENT
DTSTART;TZID=Europe/Prague:20220202T080000
DTEND;TZID=Europe/Prague:20220202T093000
DTSTAMP:20260422T124555
CREATED:20220107T130813Z
LAST-MODIFIED:20220126T132336Z
UID:19469-1643788800-1643794200@www.hluchak.cz
SUMMARY:Olympiáda z Čj
DESCRIPTION:Pro výběr žáků 9. tříd \nv jídelně školy \n1.\, 2. hodina \nodpovídá: pí uč. Pavlíková
URL:https://www.hluchak.cz/event/olympiada-z-cj/
END:VEVENT
END:VCALENDAR