BEGIN:VCALENDAR
VERSION:2.0
PRODID:-//Základní škola Šumperk, 8.května - ECPv6.15.11//NONSGML v1.0//EN
CALSCALE:GREGORIAN
METHOD:PUBLISH
X-WR-CALNAME:Základní škola Šumperk, 8.května
X-ORIGINAL-URL:https://www.hluchak.cz
X-WR-CALDESC:Akce na Základní škola Šumperk, 8.května
REFRESH-INTERVAL;VALUE=DURATION:PT1H
X-Robots-Tag:noindex
X-PUBLISHED-TTL:PT1H
BEGIN:VTIMEZONE
TZID:Europe/Prague
BEGIN:DAYLIGHT
TZOFFSETFROM:+0100
TZOFFSETTO:+0200
TZNAME:CEST
DTSTART:20210328T010000
END:DAYLIGHT
BEGIN:STANDARD
TZOFFSETFROM:+0200
TZOFFSETTO:+0100
TZNAME:CET
DTSTART:20211031T010000
END:STANDARD
BEGIN:DAYLIGHT
TZOFFSETFROM:+0100
TZOFFSETTO:+0200
TZNAME:CEST
DTSTART:20220327T010000
END:DAYLIGHT
BEGIN:STANDARD
TZOFFSETFROM:+0200
TZOFFSETTO:+0100
TZNAME:CET
DTSTART:20221030T010000
END:STANDARD
BEGIN:DAYLIGHT
TZOFFSETFROM:+0100
TZOFFSETTO:+0200
TZNAME:CEST
DTSTART:20230326T010000
END:DAYLIGHT
BEGIN:STANDARD
TZOFFSETFROM:+0200
TZOFFSETTO:+0100
TZNAME:CET
DTSTART:20231029T010000
END:STANDARD
END:VTIMEZONE
BEGIN:VEVENT
DTSTART;VALUE=DATE:20220201
DTEND;VALUE=DATE:20220202
DTSTAMP:20260422T124558
CREATED:20220131T092922Z
LAST-MODIFIED:20220131T093416Z
UID:19658-1643673600-1643759999@www.hluchak.cz
SUMMARY:Návštěva divadla \,\,My dvě"\, 2.A
DESCRIPTION:doprovod: pí uč. Nováková M.
URL:https://www.hluchak.cz/event/navsteva-divadla-my-dve-2-a/
END:VEVENT
BEGIN:VEVENT
DTSTART;TZID=Europe/Prague:20220201T133000
DTEND;TZID=Europe/Prague:20220201T143000
DTSTAMP:20260422T124558
CREATED:20220127T125228Z
LAST-MODIFIED:20220127T125228Z
UID:19639-1643722200-1643725800@www.hluchak.cz
SUMMARY:ŠD: Piškvorky
DESCRIPTION:3. – 5. třídy po jednotlivých odděleních ŠD
URL:https://www.hluchak.cz/event/sd-piskvorky/
END:VEVENT
END:VCALENDAR