BEGIN:VCALENDAR
VERSION:2.0
PRODID:-//Základní škola Šumperk, 8.května - ECPv6.15.11//NONSGML v1.0//EN
CALSCALE:GREGORIAN
METHOD:PUBLISH
X-ORIGINAL-URL:https://www.hluchak.cz
X-WR-CALDESC:Akce na Základní škola Šumperk, 8.května
REFRESH-INTERVAL;VALUE=DURATION:PT1H
X-Robots-Tag:noindex
X-PUBLISHED-TTL:PT1H
BEGIN:VTIMEZONE
TZID:Europe/Prague
BEGIN:DAYLIGHT
TZOFFSETFROM:+0100
TZOFFSETTO:+0200
TZNAME:CEST
DTSTART:20200329T010000
END:DAYLIGHT
BEGIN:STANDARD
TZOFFSETFROM:+0200
TZOFFSETTO:+0100
TZNAME:CET
DTSTART:20201025T010000
END:STANDARD
BEGIN:DAYLIGHT
TZOFFSETFROM:+0100
TZOFFSETTO:+0200
TZNAME:CEST
DTSTART:20210328T010000
END:DAYLIGHT
BEGIN:STANDARD
TZOFFSETFROM:+0200
TZOFFSETTO:+0100
TZNAME:CET
DTSTART:20211031T010000
END:STANDARD
BEGIN:DAYLIGHT
TZOFFSETFROM:+0100
TZOFFSETTO:+0200
TZNAME:CEST
DTSTART:20220327T010000
END:DAYLIGHT
BEGIN:STANDARD
TZOFFSETFROM:+0200
TZOFFSETTO:+0100
TZNAME:CET
DTSTART:20221030T010000
END:STANDARD
END:VTIMEZONE
BEGIN:VEVENT
DTSTART;VALUE=DATE:20211108
DTEND;VALUE=DATE:20211112
DTSTAMP:20260422T165347
CREATED:20210915T103348Z
LAST-MODIFIED:20211112T073051Z
UID:18494-1636329600-1636675199@www.hluchak.cz
SUMMARY:Bobřík informatiky 4.\, 5. třídy
DESCRIPTION:Postupně v hodinách informatiíky po třídách
URL:https://www.hluchak.cz/event/bobrik-informatiky-4-5-tridy/
END:VEVENT
BEGIN:VEVENT
DTSTART;VALUE=DATE:20211108
DTEND;VALUE=DATE:20211112
DTSTAMP:20260422T165347
CREATED:20210915T103447Z
LAST-MODIFIED:20211112T073120Z
UID:18496-1636329600-1636675199@www.hluchak.cz
SUMMARY:Bobřík informatiky 6.\, 7. třídy
DESCRIPTION:Postupně v hodinách informatiíky po třídách
URL:https://www.hluchak.cz/event/bobrik-informatiky-6-7-tridy/
END:VEVENT
BEGIN:VEVENT
DTSTART;VALUE=DATE:20211108
DTEND;VALUE=DATE:20211113
DTSTAMP:20260422T165347
CREATED:20211026T085327Z
LAST-MODIFIED:20211026T085327Z
UID:18860-1636329600-1636761599@www.hluchak.cz
SUMMARY:Švagrov\, 2.A a 3.A
DESCRIPTION:SEV Švagrov \nTýdenní pobyt
URL:https://www.hluchak.cz/event/svagrov-2-a-a-3-a/
END:VEVENT
BEGIN:VEVENT
DTSTART;VALUE=DATE:20211109
DTEND;VALUE=DATE:20211110
DTSTAMP:20260422T165347
CREATED:20210924T123635Z
LAST-MODIFIED:20210924T123635Z
UID:18617-1636416000-1636502399@www.hluchak.cz
SUMMARY:Scholaris
DESCRIPTION:
URL:https://www.hluchak.cz/event/scholaris-2/
END:VEVENT
BEGIN:VEVENT
DTSTART;TZID=Europe/Prague:20211109T080000
DTEND;TZID=Europe/Prague:20211109T094000
DTSTAMP:20260422T165347
CREATED:20211020T084127Z
LAST-MODIFIED:20211020T084127Z
UID:18826-1636444800-1636450800@www.hluchak.cz
SUMMARY:Přednášky MěÚ OSPOD\, 8. ročník
DESCRIPTION:Téma: Mám 15 let\, co to pro mne znamená \n8.ABCD \n\na 2. hodina\, ve  třídách
URL:https://www.hluchak.cz/event/prednasky-meu-ospod-8-rocnik/
END:VEVENT
BEGIN:VEVENT
DTSTART;TZID=Europe/Prague:20211109T140000
DTEND;TZID=Europe/Prague:20211109T150000
DTSTAMP:20260422T165347
CREATED:20211115T133806Z
LAST-MODIFIED:20211115T133806Z
UID:18955-1636466400-1636470000@www.hluchak.cz
SUMMARY:ŠD_Planetárium
DESCRIPTION:Ve školní tělocvičně
URL:https://www.hluchak.cz/event/sd_planetarium/
END:VEVENT
END:VCALENDAR